Workbook

Sheet Units
A1: Unit | B1: Kind | C1: Upper limit, °F | D1: Where | F1: Readings | G1: Out of limit
A2: Walk-in cooler | B2: Fridge | C2: 40 | D2: Production room | F2: =IF(A2="","",COUNTIF(Log!$C$2:$C$500,A2)) -> 10 | G2: =IF(A2="","",COUNTIFS(Log!$C$2:$C$500,A2,Log!$F$2:$F$500,"Out")) -> 1
A3: Reach-in fridge | B3: Fridge | C3: 40 | D3: Packing area | F3: =IF(A3="","",COUNTIF(Log!$C$2:$C$500,A3)) -> 10 | G3: =IF(A3="","",COUNTIFS(Log!$C$2:$C$500,A3,Log!$F$2:$F$500,"Out")) -> 0
A4: Chest freezer | B4: Freezer | C4: 0 | D4: Storeroom | F4: =IF(A4="","",COUNTIF(Log!$C$2:$C$500,A4)) -> 10 | G4: =IF(A4="","",COUNTIFS(Log!$C$2:$C$500,A4,Log!$F$2:$F$500,"Out")) -> 0
F5: =IF(A5="","",COUNTIF(Log!$C$2:$C$500,A5)) | G5: =IF(A5="","",COUNTIFS(Log!$C$2:$C$500,A5,Log!$F$2:$F$500,"Out"))
F6: =IF(A6="","",COUNTIF(Log!$C$2:$C$500,A6)) | G6: =IF(A6="","",COUNTIFS(Log!$C$2:$C$500,A6,Log!$F$2:$F$500,"Out"))
F7: =IF(A7="","",COUNTIF(Log!$C$2:$C$500,A7)) | G7: =IF(A7="","",COUNTIFS(Log!$C$2:$C$500,A7,Log!$F$2:$F$500,"Out"))
F8: =IF(A8="","",COUNTIF(Log!$C$2:$C$500,A8)) | G8: =IF(A8="","",COUNTIFS(Log!$C$2:$C$500,A8,Log!$F$2:$F$500,"Out"))
F9: =IF(A9="","",COUNTIF(Log!$C$2:$C$500,A9)) | G9: =IF(A9="","",COUNTIFS(Log!$C$2:$C$500,A9,Log!$F$2:$F$500,"Out"))
F10: =IF(A10="","",COUNTIF(Log!$C$2:$C$500,A10)) | G10: =IF(A10="","",COUNTIFS(Log!$C$2:$C$500,A10,Log!$F$2:$F$500,"Out"))
F11: =IF(A11="","",COUNTIF(Log!$C$2:$C$500,A11)) | G11: =IF(A11="","",COUNTIFS(Log!$C$2:$C$500,A11,Log!$F$2:$F$500,"Out"))
F12: =IF(A12="","",COUNTIF(Log!$C$2:$C$500,A12)) | G12: =IF(A12="","",COUNTIFS(Log!$C$2:$C$500,A12,Log!$F$2:$F$500,"Out"))
F13: =IF(A13="","",COUNTIF(Log!$C$2:$C$500,A13)) | G13: =IF(A13="","",COUNTIFS(Log!$C$2:$C$500,A13,Log!$F$2:$F$500,"Out"))
F14: =IF(A14="","",COUNTIF(Log!$C$2:$C$500,A14)) | G14: =IF(A14="","",COUNTIFS(Log!$C$2:$C$500,A14,Log!$F$2:$F$500,"Out"))
F15: =IF(A15="","",COUNTIF(Log!$C$2:$C$500,A15)) | G15: =IF(A15="","",COUNTIFS(Log!$C$2:$C$500,A15,Log!$F$2:$F$500,"Out"))
F16: =IF(A16="","",COUNTIF(Log!$C$2:$C$500,A16)) | G16: =IF(A16="","",COUNTIFS(Log!$C$2:$C$500,A16,Log!$F$2:$F$500,"Out"))
... F20: =IF(A20="","",COUNTIF(Log!$C$2:$C$500,A20)) | G20: =IF(A20="","",COUNTIFS(Log!$C$2:$C$500,A20,Log!$F$2:$F$500,"Out"))

Sheet Log
A1: Date | B1: Time | C1: Unit | D1: Reading, °F | E1: Limit, °F | F1: Status | G1: Action taken | H1: Initials
A2: 46300 | B2: 7:30 | C2: Walk-in cooler | D2: 37 | E2: =IF(C2="","",IFERROR(VLOOKUP(C2,Units!$A$2:$C$20,3,FALSE),"")) -> 40 | F2: =IF(OR(C2="",D2="",E2=""),"",IF(N(D2)>N(E2),"Out","")) | H2: SK
A3: 46300 | B3: 7:30 | C3: Reach-in fridge | D3: 38 | E3: =IF(C3="","",IFERROR(VLOOKUP(C3,Units!$A$2:$C$20,3,FALSE),"")) -> 40 | F3: =IF(OR(C3="",D3="",E3=""),"",IF(N(D3)>N(E3),"Out","")) | H3: SK
A4: 46300 | B4: 7:30 | C4: Chest freezer | D4: -2 | E4: =IF(C4="","",IFERROR(VLOOKUP(C4,Units!$A$2:$C$20,3,FALSE),"")) -> 0 | F4: =IF(OR(C4="",D4="",E4=""),"",IF(N(D4)>N(E4),"Out","")) | H4: SK
A5: 46300 | B5: 16:30 | C5: Walk-in cooler | D5: 37 | E5: =IF(C5="","",IFERROR(VLOOKUP(C5,Units!$A$2:$C$20,3,FALSE),"")) -> 40 | F5: =IF(OR(C5="",D5="",E5=""),"",IF(N(D5)>N(E5),"Out","")) | H5: SK
A6: 46300 | B6: 16:30 | C6: Reach-in fridge | D6: 38 | E6: =IF(C6="","",IFERROR(VLOOKUP(C6,Units!$A$2:$C$20,3,FALSE),"")) -> 40 | F6: =IF(OR(C6="",D6="",E6=""),"",IF(N(D6)>N(E6),"Out","")) | H6: SK
A7: 46300 | B7: 16:30 | C7: Chest freezer | D7: -2 | E7: =IF(C7="","",IFERROR(VLOOKUP(C7,Units!$A$2:$C$20,3,FALSE),"")) -> 0 | F7: =IF(OR(C7="",D7="",E7=""),"",IF(N(D7)>N(E7),"Out","")) | H7: SK
A8: 46301 | B8: 7:30 | C8: Walk-in cooler | D8: 38 | E8: =IF(C8="","",IFERROR(VLOOKUP(C8,Units!$A$2:$C$20,3,FALSE),"")) -> 40 | F8: =IF(OR(C8="",D8="",E8=""),"",IF(N(D8)>N(E8),"Out","")) | H8: SK
A9: 46301 | B9: 7:30 | C9: Reach-in fridge | D9: 39 | E9: =IF(C9="","",IFERROR(VLOOKUP(C9,Units!$A$2:$C$20,3,FALSE),"")) -> 40 | F9: =IF(OR(C9="",D9="",E9=""),"",IF(N(D9)>N(E9),"Out","")) | H9: SK
A10: 46301 | B10: 7:30 | C10: Chest freezer | D10: -1 | E10: =IF(C10="","",IFERROR(VLOOKUP(C10,Units!$A$2:$C$20,3,FALSE),"")) -> 0 | F10: =IF(OR(C10="",D10="",E10=""),"",IF(N(D10)>N(E10),"Out","")) | H10: SK
A11: 46301 | B11: 16:30 | C11: Walk-in cooler | D11: 44 | E11: =IF(C11="","",IFERROR(VLOOKUP(C11,Units!$A$2:$C$20,3,FALSE),"")) -> 40 | F11: =IF(OR(C11="",D11="",E11=""),"",IF(N(D11)>N(E11),"Out","")) -> Out | G11: Door left ajar after delivery. Closed it, moved tofu to the reach-in, rechecked 38 °F at 18:00. | H11: SK
A12: 46301 | B12: 16:30 | C12: Reach-in fridge | D12: 39 | E12: =IF(C12="","",IFERROR(VLOOKUP(C12,Units!$A$2:$C$20,3,FALSE),"")) -> 40 | F12: =IF(OR(C12="",D12="",E12=""),"",IF(N(D12)>N(E12),"Out","")) | H12: SK
A13: 46301 | B13: 16:30 | C13: Chest freezer | D13: -1 | E13: =IF(C13="","",IFERROR(VLOOKUP(C13,Units!$A$2:$C$20,3,FALSE),"")) -> 0 | F13: =IF(OR(C13="",D13="",E13=""),"",IF(N(D13)>N(E13),"Out","")) | H13: SK
A14: 46302 | B14: 7:30 | C14: Walk-in cooler | D14: 36 | E14: =IF(C14="","",IFERROR(VLOOKUP(C14,Units!$A$2:$C$20,3,FALSE),"")) -> 40 | F14: =IF(OR(C14="",D14="",E14=""),"",IF(N(D14)>N(E14),"Out","")) | H14: SK
A15: 46302 | B15: 7:30 | C15: Reach-in fridge | D15: 38 | E15: =IF(C15="","",IFERROR(VLOOKUP(C15,Units!$A$2:$C$20,3,FALSE),"")) -> 40 | F15: =IF(OR(C15="",D15="",E15=""),"",IF(N(D15)>N(E15),"Out","")) | H15: SK
A16: 46302 | B16: 7:30 | C16: Chest freezer | D16: -2 | E16: =IF(C16="","",IFERROR(VLOOKUP(C16,Units!$A$2:$C$20,3,FALSE),"")) -> 0 | F16: =IF(OR(C16="",D16="",E16=""),"",IF(N(D16)>N(E16),"Out","")) | H16: SK
A17: 46302 | B17: 16:30 | C17: Walk-in cooler | D17: 36 | E17: =IF(C17="","",IFERROR(VLOOKUP(C17,Units!$A$2:$C$20,3,FALSE),"")) -> 40 | F17: =IF(OR(C17="",D17="",E17=""),"",IF(N(D17)>N(E17),"Out","")) | H17: SK
A18: 46302 | B18: 16:30 | C18: Reach-in fridge | D18: 38 | E18: =IF(C18="","",IFERROR(VLOOKUP(C18,Units!$A$2:$C$20,3,FALSE),"")) -> 40 | F18: =IF(OR(C18="",D18="",E18=""),"",IF(N(D18)>N(E18),"Out","")) | H18: SK
A19: 46302 | B19: 16:30 | C19: Chest freezer | D19: -2 | E19: =IF(C19="","",IFERROR(VLOOKUP(C19,Units!$A$2:$C$20,3,FALSE),"")) -> 0 | F19: =IF(OR(C19="",D19="",E19=""),"",IF(N(D19)>N(E19),"Out","")) | H19: SK
A20: 46303 | B20: 7:30 | C20: Walk-in cooler | D20: 37 | E20: =IF(C20="","",IFERROR(VLOOKUP(C20,Units!$A$2:$C$20,3,FALSE),"")) -> 40 | F20: =IF(OR(C20="",D20="",E20=""),"",IF(N(D20)>N(E20),"Out","")) | H20: SK
A21: 46303 | B21: 7:30 | C21: Reach-in fridge | D21: 37 | E21: =IF(C21="","",IFERROR(VLOOKUP(C21,Units!$A$2:$C$20,3,FALSE),"")) -> 40 | F21: =IF(OR(C21="",D21="",E21=""),"",IF(N(D21)>N(E21),"Out","")) | H21: SK
A22: 46303 | B22: 7:30 | C22: Chest freezer | D22: -3 | E22: =IF(C22="","",IFERROR(VLOOKUP(C22,Units!$A$2:$C$20,3,FALSE),"")) -> 0 | F22: =IF(OR(C22="",D22="",E22=""),"",IF(N(D22)>N(E22),"Out","")) | H22: SK
A23: 46303 | B23: 16:30 | C23: Walk-in cooler | D23: 37 | E23: =IF(C23="","",IFERROR(VLOOKUP(C23,Units!$A$2:$C$20,3,FALSE),"")) -> 40 | F23: =IF(OR(C23="",D23="",E23=""),"",IF(N(D23)>N(E23),"Out","")) | H23: SK
... A31: 46304 | B31: 16:30 | C31: Chest freezer | D31: -1 | E31: =IF(C31="","",IFERROR(VLOOKUP(C31,Units!$A$2:$C$20,3,FALSE),"")) -> 0 | F31: =IF(OR(C31="",D31="",E31=""),"",IF(N(D31)>N(E31),"Out","")) | H31: SK
E32: =IF(C32="","",IFERROR(VLOOKUP(C32,Units!$A$2:$C$20,3,FALSE),"")) | F32: =IF(OR(C32="",D32="",E32=""),"",IF(N(D32)>N(E32),"Out",""))
E33: =IF(C33="","",IFERROR(VLOOKUP(C33,Units!$A$2:$C$20,3,FALSE),"")) | F33: =IF(OR(C33="",D33="",E33=""),"",IF(N(D33)>N(E33),"Out",""))
E34: =IF(C34="","",IFERROR(VLOOKUP(C34,Units!$A$2:$C$20,3,FALSE),"")) | F34: =IF(OR(C34="",D34="",E34=""),"",IF(N(D34)>N(E34),"Out",""))
E35: =IF(C35="","",IFERROR(VLOOKUP(C35,Units!$A$2:$C$20,3,FALSE),"")) | F35: =IF(OR(C35="",D35="",E35=""),"",IF(N(D35)>N(E35),"Out",""))
E36: =IF(C36="","",IFERROR(VLOOKUP(C36,Units!$A$2:$C$20,3,FALSE),"")) | F36: =IF(OR(C36="",D36="",E36=""),"",IF(N(D36)>N(E36),"Out",""))
E37: =IF(C37="","",IFERROR(VLOOKUP(C37,Units!$A$2:$C$20,3,FALSE),"")) | F37: =IF(OR(C37="",D37="",E37=""),"",IF(N(D37)>N(E37),"Out",""))
E38: =IF(C38="","",IFERROR(VLOOKUP(C38,Units!$A$2:$C$20,3,FALSE),"")) | F38: =IF(OR(C38="",D38="",E38=""),"",IF(N(D38)>N(E38),"Out",""))
E39: =IF(C39="","",IFERROR(VLOOKUP(C39,Units!$A$2:$C$20,3,FALSE),"")) | F39: =IF(OR(C39="",D39="",E39=""),"",IF(N(D39)>N(E39),"Out",""))
E40: =IF(C40="","",IFERROR(VLOOKUP(C40,Units!$A$2:$C$20,3,FALSE),"")) | F40: =IF(OR(C40="",D40="",E40=""),"",IF(N(D40)>N(E40),"Out",""))
E41: =IF(C41="","",IFERROR(VLOOKUP(C41,Units!$A$2:$C$20,3,FALSE),"")) | F41: =IF(OR(C41="",D41="",E41=""),"",IF(N(D41)>N(E41),"Out",""))
E42: =IF(C42="","",IFERROR(VLOOKUP(C42,Units!$A$2:$C$20,3,FALSE),"")) | F42: =IF(OR(C42="",D42="",E42=""),"",IF(N(D42)>N(E42),"Out",""))
E43: =IF(C43="","",IFERROR(VLOOKUP(C43,Units!$A$2:$C$20,3,FALSE),"")) | F43: =IF(OR(C43="",D43="",E43=""),"",IF(N(D43)>N(E43),"Out",""))
... E500: =IF(C500="","",IFERROR(VLOOKUP(C500,Units!$A$2:$C$20,3,FALSE),"")) | F500: =IF(OR(C500="",D500="",E500=""),"",IF(N(D500)>N(E500),"Out",""))

Sheet Read me
A1: Temperature log
A2: From the article: https://www.tarostack.com/articles/temperature-log-template
A4: Units: each fridge, cooler and freezer, with its upper limit. FDA's guidance for storing food is a refrigerator at or below 40 °F and a freezer at 0 °F; your health department or food safety plan may set its own limits, so use those.
A5: Log: one row for each reading, with the date, time, unit, the reading and your initials. It looks up the unit's limit and marks any reading above it Out; write what you did in Action taken. The Units sheet counts each unit's readings and how many were out of limit.
A7: Works in Excel (2010 and later), Google Sheets, LibreOffice and Numbers. No macros.
A8: Free to use and change. Made by TaroStack, inventory and production software for small producers: https://www.tarostack.com
