Workbook

Sheet Read me
A1: Supplier scorecard
A2: From the article: https://www.tarostack.com/articles/supplier-scorecard
A4: Deliveries: one line per delivery. Days late and on time work themselves out from the promised and received dates; mark complete, quality, lots and documents, and price as agreed Y or N. Any N turns red.
A5: Scorecard: each supplier's share of deliveries that passed each check, a weighted score and a grade. The weights are yours to change.
A7: Works in Excel (2010 and later), Google Sheets, LibreOffice and Numbers. No macros.
A8: Free to use and change. Made by TaroStack, inventory and production software for small producers: https://www.tarostack.com

Sheet Deliveries
A1: Received | B1: Supplier | C1: PO | D1: Promised | E1: Days late | F1: On time? | G1: Complete? | H1: Quality OK? | I1: Lots and documents? | J1: Price as agreed? | K1: Notes
A2: 46268 | B2: Island Dairy Supply | C2: WR-2026-0120 | D2: 46268 | E2: =IF(OR(A2="",D2=""),"",MAX(0,A2-D2)) -> 0 | F2: =IF(E2="","",IF(E2=0,"Y","N")) -> Y | G2: Y | H2: Y | I2: Y | J2: Y
A3: 46297 | B3: Island Dairy Supply | C3: WR-2026-0138 | D3: 46295 | E3: =IF(OR(A3="",D3=""),"",MAX(0,A3-D3)) -> 2 | F3: =IF(E3="","",IF(E3=0,"Y","N")) -> N | G3: Y | H3: Y | I3: Y | J3: N | K3: Price up $0.20 a lb without notice
A4: 46270 | B4: Valley Mill | C4: WR-2026-0121 | D4: 46270 | E4: =IF(OR(A4="",D4=""),"",MAX(0,A4-D4)) -> 0 | F4: =IF(E4="","",IF(E4=0,"Y","N")) -> Y | G4: Y | H4: Y | I4: Y | J4: Y
A5: 46299 | B5: Valley Mill | C5: WR-2026-0139 | D5: 46299 | E5: =IF(OR(A5="",D5=""),"",MAX(0,A5-D5)) -> 0 | F5: =IF(E5="","",IF(E5=0,"Y","N")) -> Y | G5: Y | H5: Y | I5: Y | J5: Y
A6: 46277 | B6: Upland Packaging | C6: WR-2026-0124 | D6: 46270 | E6: =IF(OR(A6="",D6=""),"",MAX(0,A6-D6)) -> 7 | F6: =IF(E6="","",IF(E6=0,"Y","N")) -> N | G6: N | H6: Y | I6: N | J6: Y | K6: Short 1 carton; no lot on cartons
A7: 46319 | B7: Upland Packaging | C7: WR-2026-0142 | D7: 46321 | E7: =IF(OR(A7="",D7=""),"",MAX(0,A7-D7)) -> 0 | F7: =IF(E7="","",IF(E7=0,"Y","N")) -> Y | G7: N | H7: Y | I7: Y | J7: N | K7: 9 of 10 cartons; invoice over
E8: =IF(OR(A8="",D8=""),"",MAX(0,A8-D8)) | F8: =IF(E8="","",IF(E8=0,"Y","N"))
E9: =IF(OR(A9="",D9=""),"",MAX(0,A9-D9)) | F9: =IF(E9="","",IF(E9=0,"Y","N"))
E10: =IF(OR(A10="",D10=""),"",MAX(0,A10-D10)) | F10: =IF(E10="","",IF(E10=0,"Y","N"))
E11: =IF(OR(A11="",D11=""),"",MAX(0,A11-D11)) | F11: =IF(E11="","",IF(E11=0,"Y","N"))
E12: =IF(OR(A12="",D12=""),"",MAX(0,A12-D12)) | F12: =IF(E12="","",IF(E12=0,"Y","N"))
E13: =IF(OR(A13="",D13=""),"",MAX(0,A13-D13)) | F13: =IF(E13="","",IF(E13=0,"Y","N"))
E14: =IF(OR(A14="",D14=""),"",MAX(0,A14-D14)) | F14: =IF(E14="","",IF(E14=0,"Y","N"))
E15: =IF(OR(A15="",D15=""),"",MAX(0,A15-D15)) | F15: =IF(E15="","",IF(E15=0,"Y","N"))
E16: =IF(OR(A16="",D16=""),"",MAX(0,A16-D16)) | F16: =IF(E16="","",IF(E16=0,"Y","N"))
E17: =IF(OR(A17="",D17=""),"",MAX(0,A17-D17)) | F17: =IF(E17="","",IF(E17=0,"Y","N"))
E18: =IF(OR(A18="",D18=""),"",MAX(0,A18-D18)) | F18: =IF(E18="","",IF(E18=0,"Y","N"))
E19: =IF(OR(A19="",D19=""),"",MAX(0,A19-D19)) | F19: =IF(E19="","",IF(E19=0,"Y","N"))
... E300: =IF(OR(A300="",D300=""),"",MAX(0,A300-D300)) | F300: =IF(E300="","",IF(E300=0,"Y","N"))

Sheet Scorecard
A1: Supplier | B1: Deliveries | C1: On time | D1: Complete | E1: Quality | F1: Lots and documents | G1: Price as agreed | H1: Score | I1: Grade
A2: Island Dairy Supply | B2: =COUNTIF(Deliveries!$B$2:$B$300,A2) -> 2 | C2: =IF(B2=0,"",COUNTIFS(Deliveries!$B$2:$B$300,A2,Deliveries!$F$2:$F$300,"Y")/B2) -> 0.5 | D2: =IF(B2=0,"",COUNTIFS(Deliveries!$B$2:$B$300,A2,Deliveries!$G$2:$G$300,"Y")/B2) -> 1 | E2: =IF(B2=0,"",COUNTIFS(Deliveries!$B$2:$B$300,A2,Deliveries!$H$2:$H$300,"Y")/B2) -> 1 | F2: =IF(B2=0,"",COUNTIFS(Deliveries!$B$2:$B$300,A2,Deliveries!$I$2:$I$300,"Y")/B2) -> 1 | G2: =IF(B2=0,"",COUNTIFS(Deliveries!$B$2:$B$300,A2,Deliveries!$J$2:$J$300,"Y")/B2) -> 0.5 | H2: =IF(B2=0,"",ROUND(C2*$B$8+D2*$B$9+E2*$B$10+F2*$B$11+G2*$B$12,2)) -> 0.8 | I2: =IF(H2="","",IF(H2>=0.95,"A",IF(H2>=0.85,"B",IF(H2>=0.7,"C","D")))) -> C
A3: Valley Mill | B3: =COUNTIF(Deliveries!$B$2:$B$300,A3) -> 2 | C3: =IF(B3=0,"",COUNTIFS(Deliveries!$B$2:$B$300,A3,Deliveries!$F$2:$F$300,"Y")/B3) -> 1 | D3: =IF(B3=0,"",COUNTIFS(Deliveries!$B$2:$B$300,A3,Deliveries!$G$2:$G$300,"Y")/B3) -> 1 | E3: =IF(B3=0,"",COUNTIFS(Deliveries!$B$2:$B$300,A3,Deliveries!$H$2:$H$300,"Y")/B3) -> 1 | F3: =IF(B3=0,"",COUNTIFS(Deliveries!$B$2:$B$300,A3,Deliveries!$I$2:$I$300,"Y")/B3) -> 1 | G3: =IF(B3=0,"",COUNTIFS(Deliveries!$B$2:$B$300,A3,Deliveries!$J$2:$J$300,"Y")/B3) -> 1 | H3: =IF(B3=0,"",ROUND(C3*$B$8+D3*$B$9+E3*$B$10+F3*$B$11+G3*$B$12,2)) -> 1 | I3: =IF(H3="","",IF(H3>=0.95,"A",IF(H3>=0.85,"B",IF(H3>=0.7,"C","D")))) -> A
A4: Upland Packaging | B4: =COUNTIF(Deliveries!$B$2:$B$300,A4) -> 2 | C4: =IF(B4=0,"",COUNTIFS(Deliveries!$B$2:$B$300,A4,Deliveries!$F$2:$F$300,"Y")/B4) -> 0.5 | D4: =IF(B4=0,"",COUNTIFS(Deliveries!$B$2:$B$300,A4,Deliveries!$G$2:$G$300,"Y")/B4) -> 0 | E4: =IF(B4=0,"",COUNTIFS(Deliveries!$B$2:$B$300,A4,Deliveries!$H$2:$H$300,"Y")/B4) -> 1 | F4: =IF(B4=0,"",COUNTIFS(Deliveries!$B$2:$B$300,A4,Deliveries!$I$2:$I$300,"Y")/B4) -> 0.5 | G4: =IF(B4=0,"",COUNTIFS(Deliveries!$B$2:$B$300,A4,Deliveries!$J$2:$J$300,"Y")/B4) -> 0.5 | H4: =IF(B4=0,"",ROUND(C4*$B$8+D4*$B$9+E4*$B$10+F4*$B$11+G4*$B$12,2)) -> 0.53 | I4: =IF(H4="","",IF(H4>=0.95,"A",IF(H4>=0.85,"B",IF(H4>=0.7,"C","D")))) -> D
A7: Weights (add to 100%)
A8: On time | B8: 0.25
A9: Complete | B9: 0.2
A10: Quality | B10: 0.25
A11: Lots and documents | B11: 0.15
A12: Price as agreed | B12: 0.15
A14: A: 95% or more. B: 85% or more. C: 70% or more. D: below. Change the weights to match what matters to you.
