Workbook

Sheet Standard cost card
A1: Input | B1: Unit | C1: Standard quantity a jar | D1: Standard price | E1: Standard cost a jar | G1: Standard cost a jar
A2: Tart cherries, pitted | B2: lb | C2: 0.45 | D2: 2.2 | E2: =IF(A2="","",ROUND(N(C2)*N(D2),4)) -> 0.99 | G2: =SUM(E2:E30) -> 2.9267
A3: Sugar | B3: lb | C3: 0.3 | D3: 0.8 | E3: =IF(A3="","",ROUND(N(C3)*N(D3),4)) -> 0.24
A4: Pectin and lemon juice | B4: jar | C4: 1 | D4: 0.08 | E4: =IF(A4="","",ROUND(N(C4)*N(D4),4)) -> 0.08
A5: Jar and lid | B5: jar | C5: 1 | D5: 0.85 | E5: =IF(A5="","",ROUND(N(C5)*N(D5),4)) -> 0.85
A6: Label | B6: jar | C6: 1 | D6: 0.1 | E6: =IF(A6="","",ROUND(N(C6)*N(D6),4)) -> 0.1
A7: Labor | B7: hour | C7: 0.033333333 | D7: 20 | E7: =IF(A7="","",ROUND(N(C7)*N(D7),4)) -> 0.6667
E8: =IF(A8="","",ROUND(N(C8)*N(D8),4))
E9: =IF(A9="","",ROUND(N(C9)*N(D9),4))
E10: =IF(A10="","",ROUND(N(C10)*N(D10),4))
E11: =IF(A11="","",ROUND(N(C11)*N(D11),4))
E12: =IF(A12="","",ROUND(N(C12)*N(D12),4))
E13: =IF(A13="","",ROUND(N(C13)*N(D13),4))
E14: =IF(A14="","",ROUND(N(C14)*N(D14),4))
E15: =IF(A15="","",ROUND(N(C15)*N(D15),4))
E16: =IF(A16="","",ROUND(N(C16)*N(D16),4))
E17: =IF(A17="","",ROUND(N(C17)*N(D17),4))
E18: =IF(A18="","",ROUND(N(C18)*N(D18),4))
E19: =IF(A19="","",ROUND(N(C19)*N(D19),4))
... E30: =IF(A30="","",ROUND(N(C30)*N(D30),4))

Sheet Batch
A1: Input | B1: Standard quantity for the batch | C1: Actual quantity | D1: Actual price | E1: Standard cost | F1: Actual cost | G1: Price variance | H1: Usage variance | I1: Total variance | K1: Jars made
A2: =IF('Standard cost card'!A2="","",'Standard cost card'!A2) -> Tart cherries, pitted | B2: =IF(A2="","",ROUND(N('Standard cost card'!C2)*$K$2,2)) -> 90 | C2: 98 | D2: 2.45 | E2: =IF(A2="","",ROUND(N(B2)*N('Standard cost card'!D2),2)) -> 198 | F2: =IF(A2="","",ROUND(N(C2)*N(D2),2)) -> 240.1 | G2: =IF(A2="","",ROUND((N(D2)-N('Standard cost card'!D2))*N(C2),2)) -> 24.5 | H2: =IF(A2="","",ROUND((N(C2)-N(B2))*N('Standard cost card'!D2),2)) -> 17.6 | I2: =IF(A2="","",G2+H2) -> 42.1 | K2: 200
A3: =IF('Standard cost card'!A3="","",'Standard cost card'!A3) -> Sugar | B3: =IF(A3="","",ROUND(N('Standard cost card'!C3)*$K$2,2)) -> 60 | C3: 60 | D3: 0.8 | E3: =IF(A3="","",ROUND(N(B3)*N('Standard cost card'!D3),2)) -> 48 | F3: =IF(A3="","",ROUND(N(C3)*N(D3),2)) -> 48 | G3: =IF(A3="","",ROUND((N(D3)-N('Standard cost card'!D3))*N(C3),2)) -> 0 | H3: =IF(A3="","",ROUND((N(C3)-N(B3))*N('Standard cost card'!D3),2)) -> 0 | I3: =IF(A3="","",G3+H3) -> 0
A4: =IF('Standard cost card'!A4="","",'Standard cost card'!A4) -> Pectin and lemon juice | B4: =IF(A4="","",ROUND(N('Standard cost card'!C4)*$K$2,2)) -> 200 | C4: 200 | D4: 0.08 | E4: =IF(A4="","",ROUND(N(B4)*N('Standard cost card'!D4),2)) -> 16 | F4: =IF(A4="","",ROUND(N(C4)*N(D4),2)) -> 16 | G4: =IF(A4="","",ROUND((N(D4)-N('Standard cost card'!D4))*N(C4),2)) -> 0 | H4: =IF(A4="","",ROUND((N(C4)-N(B4))*N('Standard cost card'!D4),2)) -> 0 | I4: =IF(A4="","",G4+H4) -> 0 | J4: Standard cost of the batch | K4: =SUM(E2:E30) -> 585.4
A5: =IF('Standard cost card'!A5="","",'Standard cost card'!A5) -> Jar and lid | B5: =IF(A5="","",ROUND(N('Standard cost card'!C5)*$K$2,2)) -> 200 | C5: 204 | D5: 0.85 | E5: =IF(A5="","",ROUND(N(B5)*N('Standard cost card'!D5),2)) -> 170 | F5: =IF(A5="","",ROUND(N(C5)*N(D5),2)) -> 173.4 | G5: =IF(A5="","",ROUND((N(D5)-N('Standard cost card'!D5))*N(C5),2)) -> 0 | H5: =IF(A5="","",ROUND((N(C5)-N(B5))*N('Standard cost card'!D5),2)) -> 3.4 | I5: =IF(A5="","",G5+H5) -> 3.4 | J5: Actual cost of the batch | K5: =SUM(F2:F30) -> 647.5
A6: =IF('Standard cost card'!A6="","",'Standard cost card'!A6) -> Label | B6: =IF(A6="","",ROUND(N('Standard cost card'!C6)*$K$2,2)) -> 200 | C6: 200 | D6: 0.1 | E6: =IF(A6="","",ROUND(N(B6)*N('Standard cost card'!D6),2)) -> 20 | F6: =IF(A6="","",ROUND(N(C6)*N(D6),2)) -> 20 | G6: =IF(A6="","",ROUND((N(D6)-N('Standard cost card'!D6))*N(C6),2)) -> 0 | H6: =IF(A6="","",ROUND((N(C6)-N(B6))*N('Standard cost card'!D6),2)) -> 0 | I6: =IF(A6="","",G6+H6) -> 0 | J6: Price variance | K6: =SUM(G2:G30) -> 24.5
A7: =IF('Standard cost card'!A7="","",'Standard cost card'!A7) -> Labor | B7: =IF(A7="","",ROUND(N('Standard cost card'!C7)*$K$2,2)) -> 6.67 | C7: 7.5 | D7: 20 | E7: =IF(A7="","",ROUND(N(B7)*N('Standard cost card'!D7),2)) -> 133.4 | F7: =IF(A7="","",ROUND(N(C7)*N(D7),2)) -> 150 | G7: =IF(A7="","",ROUND((N(D7)-N('Standard cost card'!D7))*N(C7),2)) -> 0 | H7: =IF(A7="","",ROUND((N(C7)-N(B7))*N('Standard cost card'!D7),2)) -> 16.6 | I7: =IF(A7="","",G7+H7) -> 16.6 | J7: Usage variance | K7: =SUM(H2:H30) -> 37.6
A8: =IF('Standard cost card'!A8="","",'Standard cost card'!A8) | B8: =IF(A8="","",ROUND(N('Standard cost card'!C8)*$K$2,2)) | E8: =IF(A8="","",ROUND(N(B8)*N('Standard cost card'!D8),2)) | F8: =IF(A8="","",ROUND(N(C8)*N(D8),2)) | G8: =IF(A8="","",ROUND((N(D8)-N('Standard cost card'!D8))*N(C8),2)) | H8: =IF(A8="","",ROUND((N(C8)-N(B8))*N('Standard cost card'!D8),2)) | I8: =IF(A8="","",G8+H8) | J8: Total variance (positive costs more than standard) | K8: =SUM(I2:I30) -> 62.1
A9: =IF('Standard cost card'!A9="","",'Standard cost card'!A9) | B9: =IF(A9="","",ROUND(N('Standard cost card'!C9)*$K$2,2)) | E9: =IF(A9="","",ROUND(N(B9)*N('Standard cost card'!D9),2)) | F9: =IF(A9="","",ROUND(N(C9)*N(D9),2)) | G9: =IF(A9="","",ROUND((N(D9)-N('Standard cost card'!D9))*N(C9),2)) | H9: =IF(A9="","",ROUND((N(C9)-N(B9))*N('Standard cost card'!D9),2)) | I9: =IF(A9="","",G9+H9) | J9: Standard cost a jar | K9: =IF(N(K2)=0,"",K4/K2) -> 2.927
A10: =IF('Standard cost card'!A10="","",'Standard cost card'!A10) | B10: =IF(A10="","",ROUND(N('Standard cost card'!C10)*$K$2,2)) | E10: =IF(A10="","",ROUND(N(B10)*N('Standard cost card'!D10),2)) | F10: =IF(A10="","",ROUND(N(C10)*N(D10),2)) | G10: =IF(A10="","",ROUND((N(D10)-N('Standard cost card'!D10))*N(C10),2)) | H10: =IF(A10="","",ROUND((N(C10)-N(B10))*N('Standard cost card'!D10),2)) | I10: =IF(A10="","",G10+H10) | J10: Actual cost a jar | K10: =IF(N(K2)=0,"",K5/K2) -> 3.2375
A11: =IF('Standard cost card'!A11="","",'Standard cost card'!A11) | B11: =IF(A11="","",ROUND(N('Standard cost card'!C11)*$K$2,2)) | E11: =IF(A11="","",ROUND(N(B11)*N('Standard cost card'!D11),2)) | F11: =IF(A11="","",ROUND(N(C11)*N(D11),2)) | G11: =IF(A11="","",ROUND((N(D11)-N('Standard cost card'!D11))*N(C11),2)) | H11: =IF(A11="","",ROUND((N(C11)-N(B11))*N('Standard cost card'!D11),2)) | I11: =IF(A11="","",G11+H11)
A12: =IF('Standard cost card'!A12="","",'Standard cost card'!A12) | B12: =IF(A12="","",ROUND(N('Standard cost card'!C12)*$K$2,2)) | E12: =IF(A12="","",ROUND(N(B12)*N('Standard cost card'!D12),2)) | F12: =IF(A12="","",ROUND(N(C12)*N(D12),2)) | G12: =IF(A12="","",ROUND((N(D12)-N('Standard cost card'!D12))*N(C12),2)) | H12: =IF(A12="","",ROUND((N(C12)-N(B12))*N('Standard cost card'!D12),2)) | I12: =IF(A12="","",G12+H12)
A13: =IF('Standard cost card'!A13="","",'Standard cost card'!A13) | B13: =IF(A13="","",ROUND(N('Standard cost card'!C13)*$K$2,2)) | E13: =IF(A13="","",ROUND(N(B13)*N('Standard cost card'!D13),2)) | F13: =IF(A13="","",ROUND(N(C13)*N(D13),2)) | G13: =IF(A13="","",ROUND((N(D13)-N('Standard cost card'!D13))*N(C13),2)) | H13: =IF(A13="","",ROUND((N(C13)-N(B13))*N('Standard cost card'!D13),2)) | I13: =IF(A13="","",G13+H13)
A14: =IF('Standard cost card'!A14="","",'Standard cost card'!A14) | B14: =IF(A14="","",ROUND(N('Standard cost card'!C14)*$K$2,2)) | E14: =IF(A14="","",ROUND(N(B14)*N('Standard cost card'!D14),2)) | F14: =IF(A14="","",ROUND(N(C14)*N(D14),2)) | G14: =IF(A14="","",ROUND((N(D14)-N('Standard cost card'!D14))*N(C14),2)) | H14: =IF(A14="","",ROUND((N(C14)-N(B14))*N('Standard cost card'!D14),2)) | I14: =IF(A14="","",G14+H14)
A15: =IF('Standard cost card'!A15="","",'Standard cost card'!A15) | B15: =IF(A15="","",ROUND(N('Standard cost card'!C15)*$K$2,2)) | E15: =IF(A15="","",ROUND(N(B15)*N('Standard cost card'!D15),2)) | F15: =IF(A15="","",ROUND(N(C15)*N(D15),2)) | G15: =IF(A15="","",ROUND((N(D15)-N('Standard cost card'!D15))*N(C15),2)) | H15: =IF(A15="","",ROUND((N(C15)-N(B15))*N('Standard cost card'!D15),2)) | I15: =IF(A15="","",G15+H15)
A16: =IF('Standard cost card'!A16="","",'Standard cost card'!A16) | B16: =IF(A16="","",ROUND(N('Standard cost card'!C16)*$K$2,2)) | E16: =IF(A16="","",ROUND(N(B16)*N('Standard cost card'!D16),2)) | F16: =IF(A16="","",ROUND(N(C16)*N(D16),2)) | G16: =IF(A16="","",ROUND((N(D16)-N('Standard cost card'!D16))*N(C16),2)) | H16: =IF(A16="","",ROUND((N(C16)-N(B16))*N('Standard cost card'!D16),2)) | I16: =IF(A16="","",G16+H16)
A17: =IF('Standard cost card'!A17="","",'Standard cost card'!A17) | B17: =IF(A17="","",ROUND(N('Standard cost card'!C17)*$K$2,2)) | E17: =IF(A17="","",ROUND(N(B17)*N('Standard cost card'!D17),2)) | F17: =IF(A17="","",ROUND(N(C17)*N(D17),2)) | G17: =IF(A17="","",ROUND((N(D17)-N('Standard cost card'!D17))*N(C17),2)) | H17: =IF(A17="","",ROUND((N(C17)-N(B17))*N('Standard cost card'!D17),2)) | I17: =IF(A17="","",G17+H17)
A18: =IF('Standard cost card'!A18="","",'Standard cost card'!A18) | B18: =IF(A18="","",ROUND(N('Standard cost card'!C18)*$K$2,2)) | E18: =IF(A18="","",ROUND(N(B18)*N('Standard cost card'!D18),2)) | F18: =IF(A18="","",ROUND(N(C18)*N(D18),2)) | G18: =IF(A18="","",ROUND((N(D18)-N('Standard cost card'!D18))*N(C18),2)) | H18: =IF(A18="","",ROUND((N(C18)-N(B18))*N('Standard cost card'!D18),2)) | I18: =IF(A18="","",G18+H18)
A19: =IF('Standard cost card'!A19="","",'Standard cost card'!A19) | B19: =IF(A19="","",ROUND(N('Standard cost card'!C19)*$K$2,2)) | E19: =IF(A19="","",ROUND(N(B19)*N('Standard cost card'!D19),2)) | F19: =IF(A19="","",ROUND(N(C19)*N(D19),2)) | G19: =IF(A19="","",ROUND((N(D19)-N('Standard cost card'!D19))*N(C19),2)) | H19: =IF(A19="","",ROUND((N(C19)-N(B19))*N('Standard cost card'!D19),2)) | I19: =IF(A19="","",G19+H19)
A20: =IF('Standard cost card'!A20="","",'Standard cost card'!A20) | B20: =IF(A20="","",ROUND(N('Standard cost card'!C20)*$K$2,2)) | E20: =IF(A20="","",ROUND(N(B20)*N('Standard cost card'!D20),2)) | F20: =IF(A20="","",ROUND(N(C20)*N(D20),2)) | G20: =IF(A20="","",ROUND((N(D20)-N('Standard cost card'!D20))*N(C20),2)) | H20: =IF(A20="","",ROUND((N(C20)-N(B20))*N('Standard cost card'!D20),2)) | I20: =IF(A20="","",G20+H20)
A21: =IF('Standard cost card'!A21="","",'Standard cost card'!A21) | B21: =IF(A21="","",ROUND(N('Standard cost card'!C21)*$K$2,2)) | E21: =IF(A21="","",ROUND(N(B21)*N('Standard cost card'!D21),2)) | F21: =IF(A21="","",ROUND(N(C21)*N(D21),2)) | G21: =IF(A21="","",ROUND((N(D21)-N('Standard cost card'!D21))*N(C21),2)) | H21: =IF(A21="","",ROUND((N(C21)-N(B21))*N('Standard cost card'!D21),2)) | I21: =IF(A21="","",G21+H21)
A22: =IF('Standard cost card'!A22="","",'Standard cost card'!A22) | B22: =IF(A22="","",ROUND(N('Standard cost card'!C22)*$K$2,2)) | E22: =IF(A22="","",ROUND(N(B22)*N('Standard cost card'!D22),2)) | F22: =IF(A22="","",ROUND(N(C22)*N(D22),2)) | G22: =IF(A22="","",ROUND((N(D22)-N('Standard cost card'!D22))*N(C22),2)) | H22: =IF(A22="","",ROUND((N(C22)-N(B22))*N('Standard cost card'!D22),2)) | I22: =IF(A22="","",G22+H22)
... A30: =IF('Standard cost card'!A30="","",'Standard cost card'!A30) | B30: =IF(A30="","",ROUND(N('Standard cost card'!C30)*$K$2,2)) | E30: =IF(A30="","",ROUND(N(B30)*N('Standard cost card'!D30),2)) | F30: =IF(A30="","",ROUND(N(C30)*N(D30),2)) | G30: =IF(A30="","",ROUND((N(D30)-N('Standard cost card'!D30))*N(C30),2)) | H30: =IF(A30="","",ROUND((N(C30)-N(B30))*N('Standard cost card'!D30),2)) | I30: =IF(A30="","",G30+H30)

Sheet Read me
A1: Standard costing template
A2: From the article: https://www.tarostack.com/articles/standard-costing-example
A4: Standard cost card: each input with its standard quantity for one unit and its standard price. It works out the standard cost a unit.
A5: Batch: type the units made and, for each input, the actual quantity used and the actual price paid. It works out the standard quantity for what was made, the standard and actual cost, the price variance ((actual price - standard price) x actual quantity), the usage variance ((actual quantity - standard quantity) x standard price) and the total. A positive variance means it cost more than standard.
A6: The example is a batch of 200 jars of tart cherry preserves from a made-up preserves maker.
A8: Works in Excel (2010 and later), Google Sheets, LibreOffice and Numbers. No macros.
A9: Free to use and change. Made by TaroStack, inventory and production software for small producers: https://www.tarostack.com
