Workbook

Sheet Stock
A1: Staple category | B1: Variety | C1: Units on the shelf | D1: Perishable? | E1: Accessory food? | F1: Counts?
A2: Protein | B2: Shell eggs | C2: 6 | E2: No | F2: =IF(OR(A2="",B2=""),"",IF(E2="Yes","No: accessory foods never count",IF(N(C2)<3,"No: needs 3 units on the shelf","Yes"))) -> Yes
A3: Protein | B3: Peanut butter | C3: 4 | D3: No | E3: No | F3: =IF(OR(A3="",B3=""),"",IF(E3="Yes","No: accessory foods never count",IF(N(C3)<3,"No: needs 3 units on the shelf","Yes"))) -> Yes
A4: Protein | B4: Canned tuna | C4: 6 | D4: No | E4: No | F4: =IF(OR(A4="",B4=""),"",IF(E4="Yes","No: accessory foods never count",IF(N(C4)<3,"No: needs 3 units on the shelf","Yes"))) -> Yes
A5: Protein | B5: Hot dogs | C5: 4 | D5: Yes | E5: No | F5: =IF(OR(A5="",B5=""),"",IF(E5="Yes","No: accessory foods never count",IF(N(C5)<3,"No: needs 3 units on the shelf","Yes"))) -> Yes
A6: Protein | B6: Dry black beans | C6: 3 | D6: No | E6: No | F6: =IF(OR(A6="",B6=""),"",IF(E6="Yes","No: accessory foods never count",IF(N(C6)<3,"No: needs 3 units on the shelf","Yes"))) -> Yes
A7: Protein | B7: Canned chicken | C7: 3 | D7: No | E7: No | F7: =IF(OR(A7="",B7=""),"",IF(E7="Yes","No: accessory foods never count",IF(N(C7)<3,"No: needs 3 units on the shelf","Yes"))) -> Yes
A8: Protein | B8: Tofu | C8: 3 | D8: Yes | E8: No | F8: =IF(OR(A8="",B8=""),"",IF(E8="Yes","No: accessory foods never count",IF(N(C8)<3,"No: needs 3 units on the shelf","Yes"))) -> Yes
A9: Protein | B9: Beef jerky | C9: 12 | D9: No | E9: Yes | F9: =IF(OR(A9="",B9=""),"",IF(E9="Yes","No: accessory foods never count",IF(N(C9)<3,"No: needs 3 units on the shelf","Yes"))) -> No: accessory foods never count
A10: Grains | B10: White bread | C10: 5 | E10: No | F10: =IF(OR(A10="",B10=""),"",IF(E10="Yes","No: accessory foods never count",IF(N(C10)<3,"No: needs 3 units on the shelf","Yes"))) -> Yes
A11: Grains | B11: Whole grain bread | C11: 3 | E11: No | F11: =IF(OR(A11="",B11=""),"",IF(E11="Yes","No: accessory foods never count",IF(N(C11)<3,"No: needs 3 units on the shelf","Yes"))) -> Yes
A12: Grains | B12: Breakfast cereal | C12: 6 | D12: No | E12: No | F12: =IF(OR(A12="",B12=""),"",IF(E12="Yes","No: accessory foods never count",IF(N(C12)<3,"No: needs 3 units on the shelf","Yes"))) -> Yes
A13: Grains | B13: Pasta | C13: 4 | D13: No | E13: No | F13: =IF(OR(A13="",B13=""),"",IF(E13="Yes","No: accessory foods never count",IF(N(C13)<3,"No: needs 3 units on the shelf","Yes"))) -> Yes
A14: Grains | B14: Rice | C14: 3 | D14: No | E14: No | F14: =IF(OR(A14="",B14=""),"",IF(E14="Yes","No: accessory foods never count",IF(N(C14)<3,"No: needs 3 units on the shelf","Yes"))) -> Yes
A15: Grains | B15: Oats | C15: 3 | D15: No | E15: No | F15: =IF(OR(A15="",B15=""),"",IF(E15="Yes","No: accessory foods never count",IF(N(C15)<3,"No: needs 3 units on the shelf","Yes"))) -> Yes
A16: Grains | B16: Corn tortillas | C16: 3 | E16: No | F16: =IF(OR(A16="",B16=""),"",IF(E16="Yes","No: accessory foods never count",IF(N(C16)<3,"No: needs 3 units on the shelf","Yes"))) -> Yes
A17: Grains | B17: Muffins from the local bakery | C17: 6 | E17: Yes | F17: =IF(OR(A17="",B17=""),"",IF(E17="Yes","No: accessory foods never count",IF(N(C17)<3,"No: needs 3 units on the shelf","Yes"))) -> No: accessory foods never count
A18: Vegetables or fruits | B18: Bananas | C18: 10 | D18: Yes | E18: No | F18: =IF(OR(A18="",B18=""),"",IF(E18="Yes","No: accessory foods never count",IF(N(C18)<3,"No: needs 3 units on the shelf","Yes"))) -> Yes
A19: Vegetables or fruits | B19: Apples | C19: 8 | D19: Yes | E19: No | F19: =IF(OR(A19="",B19=""),"",IF(E19="Yes","No: accessory foods never count",IF(N(C19)<3,"No: needs 3 units on the shelf","Yes"))) -> Yes
A20: Vegetables or fruits | B20: Potatoes | C20: 5 | D20: Yes | E20: No | F20: =IF(OR(A20="",B20=""),"",IF(E20="Yes","No: accessory foods never count",IF(N(C20)<3,"No: needs 3 units on the shelf","Yes"))) -> Yes
A21: Vegetables or fruits | B21: Frozen peas | C21: 3 | D21: Yes | E21: No | F21: =IF(OR(A21="",B21=""),"",IF(E21="Yes","No: accessory foods never count",IF(N(C21)<3,"No: needs 3 units on the shelf","Yes"))) -> Yes
A22: Vegetables or fruits | B22: Canned corn | C22: 4 | D22: No | E22: No | F22: =IF(OR(A22="",B22=""),"",IF(E22="Yes","No: accessory foods never count",IF(N(C22)<3,"No: needs 3 units on the shelf","Yes"))) -> Yes
A23: Vegetables or fruits | B23: Canned tomatoes | C23: 4 | D23: No | E23: No | F23: =IF(OR(A23="",B23=""),"",IF(E23="Yes","No: accessory foods never count",IF(N(C23)<3,"No: needs 3 units on the shelf","Yes"))) -> Yes
A24: Vegetables or fruits | B24: Canned peaches | C24: 3 | D24: No | E24: No | F24: =IF(OR(A24="",B24=""),"",IF(E24="Yes","No: accessory foods never count",IF(N(C24)<3,"No: needs 3 units on the shelf","Yes"))) -> Yes
A25: Dairy | B25: Milk | C25: 8 | D25: Yes | E25: No | F25: =IF(OR(A25="",B25=""),"",IF(E25="Yes","No: accessory foods never count",IF(N(C25)<3,"No: needs 3 units on the shelf","Yes"))) -> Yes
A26: Dairy | B26: Sliced cheese | C26: 4 | E26: No | F26: =IF(OR(A26="",B26=""),"",IF(E26="Yes","No: accessory foods never count",IF(N(C26)<3,"No: needs 3 units on the shelf","Yes"))) -> Yes
A27: Dairy | B27: Yogurt | C27: 6 | D27: Yes | E27: No | F27: =IF(OR(A27="",B27=""),"",IF(E27="Yes","No: accessory foods never count",IF(N(C27)<3,"No: needs 3 units on the shelf","Yes"))) -> Yes
A28: Dairy | B28: Shredded cheese | C28: 3 | E28: No | F28: =IF(OR(A28="",B28=""),"",IF(E28="Yes","No: accessory foods never count",IF(N(C28)<3,"No: needs 3 units on the shelf","Yes"))) -> Yes
A29: Dairy | B29: Sour cream | C29: 3 | D29: Yes | E29: No | F29: =IF(OR(A29="",B29=""),"",IF(E29="Yes","No: accessory foods never count",IF(N(C29)<3,"No: needs 3 units on the shelf","Yes"))) -> Yes
A30: Dairy | B30: Oat milk | C30: 3 | E30: No | F30: =IF(OR(A30="",B30=""),"",IF(E30="Yes","No: accessory foods never count",IF(N(C30)<3,"No: needs 3 units on the shelf","Yes"))) -> Yes
A31: Dairy | B31: Shelf-stable milk | C31: 3 | D31: No | E31: No | F31: =IF(OR(A31="",B31=""),"",IF(E31="Yes","No: accessory foods never count",IF(N(C31)<3,"No: needs 3 units on the shelf","Yes"))) -> Yes
A32: Dairy | B32: Butter | C32: 4 | E32: Yes | F32: =IF(OR(A32="",B32=""),"",IF(E32="Yes","No: accessory foods never count",IF(N(C32)<3,"No: needs 3 units on the shelf","Yes"))) -> No: accessory foods never count
F33: =IF(OR(A33="",B33=""),"",IF(E33="Yes","No: accessory foods never count",IF(N(C33)<3,"No: needs 3 units on the shelf","Yes")))
F34: =IF(OR(A34="",B34=""),"",IF(E34="Yes","No: accessory foods never count",IF(N(C34)<3,"No: needs 3 units on the shelf","Yes")))
F35: =IF(OR(A35="",B35=""),"",IF(E35="Yes","No: accessory foods never count",IF(N(C35)<3,"No: needs 3 units on the shelf","Yes")))
F36: =IF(OR(A36="",B36=""),"",IF(E36="Yes","No: accessory foods never count",IF(N(C36)<3,"No: needs 3 units on the shelf","Yes")))
F37: =IF(OR(A37="",B37=""),"",IF(E37="Yes","No: accessory foods never count",IF(N(C37)<3,"No: needs 3 units on the shelf","Yes")))
F38: =IF(OR(A38="",B38=""),"",IF(E38="Yes","No: accessory foods never count",IF(N(C38)<3,"No: needs 3 units on the shelf","Yes")))
F39: =IF(OR(A39="",B39=""),"",IF(E39="Yes","No: accessory foods never count",IF(N(C39)<3,"No: needs 3 units on the shelf","Yes")))
F40: =IF(OR(A40="",B40=""),"",IF(E40="Yes","No: accessory foods never count",IF(N(C40)<3,"No: needs 3 units on the shelf","Yes")))
...

Sheet Summary
A1: Staple category | B1: Varieties that count | C1: Needed | D1: Perishable varieties that count | E1: Status
A2: Protein | B2: =COUNTIFS(Stock!$A$2:$A$80,A2,Stock!$F$2:$F$80,"Yes") -> 7 | C2: 7 | D2: =COUNTIFS(Stock!$A$2:$A$80,A2,Stock!$F$2:$F$80,"Yes",Stock!$D$2:$D$80,"Yes") -> 2 | E2: =IF(B2>=7,"Meets seven varieties","Short by "&(7-B2)) -> Meets seven varieties
A3: Grains | B3: =COUNTIFS(Stock!$A$2:$A$80,A3,Stock!$F$2:$F$80,"Yes") -> 7 | C3: 7 | D3: =COUNTIFS(Stock!$A$2:$A$80,A3,Stock!$F$2:$F$80,"Yes",Stock!$D$2:$D$80,"Yes") -> 0 | E3: =IF(B3>=7,"Meets seven varieties","Short by "&(7-B3)) -> Meets seven varieties
A4: Vegetables or fruits | B4: =COUNTIFS(Stock!$A$2:$A$80,A4,Stock!$F$2:$F$80,"Yes") -> 7 | C4: 7 | D4: =COUNTIFS(Stock!$A$2:$A$80,A4,Stock!$F$2:$F$80,"Yes",Stock!$D$2:$D$80,"Yes") -> 4 | E4: =IF(B4>=7,"Meets seven varieties","Short by "&(7-B4)) -> Meets seven varieties
A5: Dairy | B5: =COUNTIFS(Stock!$A$2:$A$80,A5,Stock!$F$2:$F$80,"Yes") -> 7 | C5: 7 | D5: =COUNTIFS(Stock!$A$2:$A$80,A5,Stock!$F$2:$F$80,"Yes",Stock!$D$2:$D$80,"Yes") -> 3 | E5: =IF(B5>=7,"Meets seven varieties","Short by "&(7-B5)) -> Meets seven varieties
A7: Categories with a perishable variety | B7: =COUNTIF(D2:D5,">0") -> 3 | C7: 3 | E7: =IF(B7>=3,"Meets: perishable in three categories","Add a perishable variety in "&(3-B7)&" more") -> Meets: perishable in three categories
A8: Criterion A | E8: =IF(AND(B2>=7,B3>=7,B4>=7,B5>=7,B7>=3),"Meets the Criterion A stocking standards","Not yet") -> Meets the Criterion A stocking standards
A10: One row on the Stock sheet for each distinct variety: brands, flavors, sizes and cuts of one food are one variety. Accessory foods, such as snacks, desserts, candy, drinks other than milk and 100% juice, condiments, jams, sweeteners, oils, butter and jerky, never count. From November 4, 2026 (7 CFR 278.1(b)(1)(ii)).

Sheet Read me
A1: SNAP stocking checker
A2: From the article: https://www.tarostack.com/articles/snap-retailer-requirements
A4: The example is the article's made-up Maine corner store, counting its shelves for the 2026 stocking standards.
A5: Stock: each staple variety, its category, the units on the shelf, whether it is perishable and whether it is an accessory food; whether it counts fills in.
A6: Summary: varieties that count in each category against seven, perishable categories against three, and whether the store meets Criterion A.
A7: This is a checker, not FNS's determination; FNS decides at authorization or a store visit.
A9: Works in Excel (2010 and later), Google Sheets, LibreOffice and Numbers. No macros.
A10: Free to use and change. Made by TaroStack, inventory and production software for small producers: https://www.tarostack.com
