Workbook

Sheet Ingredients
A1: Ingredient | B1: Supplier | C1: Lot | D1: Received | E1: Best by | F1: Grams received | G1: Cost | H1: Cost per gram | I1: Grams used | J1: Grams on hand | K1: Reorder at, g | L1: Status
A2: Shea butter | B2: Island Botanicals | C2: SH-0812 | D2: 46246 | E2: 46611 | F2: 5000 | G2: 62 | H2: =IF(OR(F2="",F2=0),"",ROUND(G2/F2,4)) -> 0.0124 | I2: =IF(C2="","",SUMIFS(Batches!$E$2:$E$1000,Batches!$D$2:$D$1000,C2)) -> 1446 | J2: =IF(C2="","",F2-I2) -> 3554 | K2: 1500 | L2: =IF(OR(C2="",K2=""),"",IF(J2<=K2,"Reorder","OK")) -> OK
A3: Coconut oil | B3: Island Botanicals | C3: CO-0830 | D3: 46264 | E3: 46629 | F3: 4000 | G3: 28 | H3: =IF(OR(F3="",F3=0),"",ROUND(G3/F3,4)) -> 0.007 | I3: =IF(C3="","",SUMIFS(Batches!$E$2:$E$1000,Batches!$D$2:$D$1000,C3)) -> 723 | J3: =IF(C3="","",F3-I3) -> 3277 | K3: 800 | L3: =IF(OR(C3="",K3=""),"",IF(J3<=K3,"Reorder","OK")) -> OK
A4: Mango butter | B4: Butter Supply Co | C4: MB-0901 | D4: 46266 | E4: 46631 | F4: 2000 | G4: 34 | H4: =IF(OR(F4="",F4=0),"",ROUND(G4/F4,4)) -> 0.017 | I4: =IF(C4="","",SUMIFS(Batches!$E$2:$E$1000,Batches!$D$2:$D$1000,C4)) -> 723 | J4: =IF(C4="","",F4-I4) -> 1277 | K4: 1300 | L4: =IF(OR(C4="",K4=""),"",IF(J4<=K4,"Reorder","OK")) -> Reorder
A5: Jojoba oil | B5: Butter Supply Co | C5: JO-0820 | D5: 46254 | E5: 46985 | F5: 2000 | G5: 46 | H5: =IF(OR(F5="",F5=0),"",ROUND(G5/F5,4)) -> 0.023 | I5: =IF(C5="","",SUMIFS(Batches!$E$2:$E$1000,Batches!$D$2:$D$1000,C5)) -> 542 | J5: =IF(C5="","",F5-I5) -> 1458 | K5: 600 | L5: =IF(OR(C5="",K5=""),"",IF(J5<=K5,"Reorder","OK")) -> OK
A6: Arrowroot powder | B6: Island Botanicals | C6: AR-0715 | D6: 46218 | E6: 46583 | F6: 1000 | G6: 9 | H6: =IF(OR(F6="",F6=0),"",ROUND(G6/F6,4)) -> 0.009 | I6: =IF(C6="","",SUMIFS(Batches!$E$2:$E$1000,Batches!$D$2:$D$1000,C6)) -> 145 | J6: =IF(C6="","",F6-I6) -> 855 | K6: 200 | L6: =IF(OR(C6="",K6=""),"",IF(J6<=K6,"Reorder","OK")) -> OK
A7: Lavender oil | B7: Aroma Wholesale | C7: PL-0715 | D7: 46218 | E7: 46949 | F7: 250 | G7: 30 | H7: =IF(OR(F7="",F7=0),"",ROUND(G7/F7,4)) -> 0.12 | I7: =IF(C7="","",SUMIFS(Batches!$E$2:$E$1000,Batches!$D$2:$D$1000,C7)) -> 36 | J7: =IF(C7="","",F7-I7) -> 214 | K7: 50 | L7: =IF(OR(C7="",K7=""),"",IF(J7<=K7,"Reorder","OK")) -> OK
H8: =IF(OR(F8="",F8=0),"",ROUND(G8/F8,4)) | I8: =IF(C8="","",SUMIFS(Batches!$E$2:$E$1000,Batches!$D$2:$D$1000,C8)) | J8: =IF(C8="","",F8-I8) | L8: =IF(OR(C8="",K8=""),"",IF(J8<=K8,"Reorder","OK"))
H9: =IF(OR(F9="",F9=0),"",ROUND(G9/F9,4)) | I9: =IF(C9="","",SUMIFS(Batches!$E$2:$E$1000,Batches!$D$2:$D$1000,C9)) | J9: =IF(C9="","",F9-I9) | L9: =IF(OR(C9="",K9=""),"",IF(J9<=K9,"Reorder","OK"))
H10: =IF(OR(F10="",F10=0),"",ROUND(G10/F10,4)) | I10: =IF(C10="","",SUMIFS(Batches!$E$2:$E$1000,Batches!$D$2:$D$1000,C10)) | J10: =IF(C10="","",F10-I10) | L10: =IF(OR(C10="",K10=""),"",IF(J10<=K10,"Reorder","OK"))
H11: =IF(OR(F11="",F11=0),"",ROUND(G11/F11,4)) | I11: =IF(C11="","",SUMIFS(Batches!$E$2:$E$1000,Batches!$D$2:$D$1000,C11)) | J11: =IF(C11="","",F11-I11) | L11: =IF(OR(C11="",K11=""),"",IF(J11<=K11,"Reorder","OK"))
H12: =IF(OR(F12="",F12=0),"",ROUND(G12/F12,4)) | I12: =IF(C12="","",SUMIFS(Batches!$E$2:$E$1000,Batches!$D$2:$D$1000,C12)) | J12: =IF(C12="","",F12-I12) | L12: =IF(OR(C12="",K12=""),"",IF(J12<=K12,"Reorder","OK"))
H13: =IF(OR(F13="",F13=0),"",ROUND(G13/F13,4)) | I13: =IF(C13="","",SUMIFS(Batches!$E$2:$E$1000,Batches!$D$2:$D$1000,C13)) | J13: =IF(C13="","",F13-I13) | L13: =IF(OR(C13="",K13=""),"",IF(J13<=K13,"Reorder","OK"))
H14: =IF(OR(F14="",F14=0),"",ROUND(G14/F14,4)) | I14: =IF(C14="","",SUMIFS(Batches!$E$2:$E$1000,Batches!$D$2:$D$1000,C14)) | J14: =IF(C14="","",F14-I14) | L14: =IF(OR(C14="",K14=""),"",IF(J14<=K14,"Reorder","OK"))
H15: =IF(OR(F15="",F15=0),"",ROUND(G15/F15,4)) | I15: =IF(C15="","",SUMIFS(Batches!$E$2:$E$1000,Batches!$D$2:$D$1000,C15)) | J15: =IF(C15="","",F15-I15) | L15: =IF(OR(C15="",K15=""),"",IF(J15<=K15,"Reorder","OK"))
H16: =IF(OR(F16="",F16=0),"",ROUND(G16/F16,4)) | I16: =IF(C16="","",SUMIFS(Batches!$E$2:$E$1000,Batches!$D$2:$D$1000,C16)) | J16: =IF(C16="","",F16-I16) | L16: =IF(OR(C16="",K16=""),"",IF(J16<=K16,"Reorder","OK"))
H17: =IF(OR(F17="",F17=0),"",ROUND(G17/F17,4)) | I17: =IF(C17="","",SUMIFS(Batches!$E$2:$E$1000,Batches!$D$2:$D$1000,C17)) | J17: =IF(C17="","",F17-I17) | L17: =IF(OR(C17="",K17=""),"",IF(J17<=K17,"Reorder","OK"))
H18: =IF(OR(F18="",F18=0),"",ROUND(G18/F18,4)) | I18: =IF(C18="","",SUMIFS(Batches!$E$2:$E$1000,Batches!$D$2:$D$1000,C18)) | J18: =IF(C18="","",F18-I18) | L18: =IF(OR(C18="",K18=""),"",IF(J18<=K18,"Reorder","OK"))
H19: =IF(OR(F19="",F19=0),"",ROUND(G19/F19,4)) | I19: =IF(C19="","",SUMIFS(Batches!$E$2:$E$1000,Batches!$D$2:$D$1000,C19)) | J19: =IF(C19="","",F19-I19) | L19: =IF(OR(C19="",K19=""),"",IF(J19<=K19,"Reorder","OK"))
... H200: =IF(OR(F200="",F200=0),"",ROUND(G200/F200,4)) | I200: =IF(C200="","",SUMIFS(Batches!$E$2:$E$1000,Batches!$D$2:$D$1000,C200)) | J200: =IF(C200="","",F200-I200) | L200: =IF(OR(C200="",K200=""),"",IF(J200<=K200,"Reorder","OK"))

Sheet Batches
A1: Date | B1: Batch | C1: Product | D1: Ingredient lot | E1: Grams used | F1: Cost
A2: 46286 | B2: BB-0921 | C2: Whipped body butter, 4 oz | D2: SH-0812 | E2: 1446 | F2: =IF(D2="","",ROUND(E2*IFERROR(VLOOKUP(D2,Ingredients!$C$2:$H$200,6,FALSE),0),2)) -> 17.93
A3: 46286 | B3: BB-0921 | C3: Whipped body butter, 4 oz | D3: CO-0830 | E3: 723 | F3: =IF(D3="","",ROUND(E3*IFERROR(VLOOKUP(D3,Ingredients!$C$2:$H$200,6,FALSE),0),2)) -> 5.06
A4: 46286 | B4: BB-0921 | C4: Whipped body butter, 4 oz | D4: MB-0901 | E4: 723 | F4: =IF(D4="","",ROUND(E4*IFERROR(VLOOKUP(D4,Ingredients!$C$2:$H$200,6,FALSE),0),2)) -> 12.29
A5: 46286 | B5: BB-0921 | C5: Whipped body butter, 4 oz | D5: JO-0820 | E5: 542 | F5: =IF(D5="","",ROUND(E5*IFERROR(VLOOKUP(D5,Ingredients!$C$2:$H$200,6,FALSE),0),2)) -> 12.47
A6: 46286 | B6: BB-0921 | C6: Whipped body butter, 4 oz | D6: AR-0715 | E6: 145 | F6: =IF(D6="","",ROUND(E6*IFERROR(VLOOKUP(D6,Ingredients!$C$2:$H$200,6,FALSE),0),2)) -> 1.31
A7: 46286 | B7: BB-0921 | C7: Whipped body butter, 4 oz | D7: PL-0715 | E7: 36 | F7: =IF(D7="","",ROUND(E7*IFERROR(VLOOKUP(D7,Ingredients!$C$2:$H$200,6,FALSE),0),2)) -> 4.32
F8: =IF(D8="","",ROUND(E8*IFERROR(VLOOKUP(D8,Ingredients!$C$2:$H$200,6,FALSE),0),2))
F9: =IF(D9="","",ROUND(E9*IFERROR(VLOOKUP(D9,Ingredients!$C$2:$H$200,6,FALSE),0),2))
F10: =IF(D10="","",ROUND(E10*IFERROR(VLOOKUP(D10,Ingredients!$C$2:$H$200,6,FALSE),0),2))
F11: =IF(D11="","",ROUND(E11*IFERROR(VLOOKUP(D11,Ingredients!$C$2:$H$200,6,FALSE),0),2))
F12: =IF(D12="","",ROUND(E12*IFERROR(VLOOKUP(D12,Ingredients!$C$2:$H$200,6,FALSE),0),2))
F13: =IF(D13="","",ROUND(E13*IFERROR(VLOOKUP(D13,Ingredients!$C$2:$H$200,6,FALSE),0),2))
F14: =IF(D14="","",ROUND(E14*IFERROR(VLOOKUP(D14,Ingredients!$C$2:$H$200,6,FALSE),0),2))
F15: =IF(D15="","",ROUND(E15*IFERROR(VLOOKUP(D15,Ingredients!$C$2:$H$200,6,FALSE),0),2))
F16: =IF(D16="","",ROUND(E16*IFERROR(VLOOKUP(D16,Ingredients!$C$2:$H$200,6,FALSE),0),2))
F17: =IF(D17="","",ROUND(E17*IFERROR(VLOOKUP(D17,Ingredients!$C$2:$H$200,6,FALSE),0),2))
F18: =IF(D18="","",ROUND(E18*IFERROR(VLOOKUP(D18,Ingredients!$C$2:$H$200,6,FALSE),0),2))
F19: =IF(D19="","",ROUND(E19*IFERROR(VLOOKUP(D19,Ingredients!$C$2:$H$200,6,FALSE),0),2))
... F1000: =IF(D1000="","",ROUND(E1000*IFERROR(VLOOKUP(D1000,Ingredients!$C$2:$H$200,6,FALSE),0),2))

Sheet Finished jars
A1: Batch | B1: Product | C1: Made | D1: Best by | E1: Jars made | F1: Jars sold | G1: Jars on hand | H1: Ingredient cost | I1: Ingredients per jar
A2: BB-0921 | B2: Whipped body butter, 4 oz | C2: 46286 | D2: 46467 | E2: 32 | F2: 30 | G2: =IF(A2="","",E2-F2) -> 2 | H2: =IF(A2="","",SUMIFS(Batches!$F$2:$F$1000,Batches!$B$2:$B$1000,A2)) -> 53.38 | I2: =IF(OR(A2="",E2="",E2=0),"",ROUND(H2/E2,2)) -> 1.67
G3: =IF(A3="","",E3-F3) | H3: =IF(A3="","",SUMIFS(Batches!$F$2:$F$1000,Batches!$B$2:$B$1000,A3)) | I3: =IF(OR(A3="",E3="",E3=0),"",ROUND(H3/E3,2))
G4: =IF(A4="","",E4-F4) | H4: =IF(A4="","",SUMIFS(Batches!$F$2:$F$1000,Batches!$B$2:$B$1000,A4)) | I4: =IF(OR(A4="",E4="",E4=0),"",ROUND(H4/E4,2))
G5: =IF(A5="","",E5-F5) | H5: =IF(A5="","",SUMIFS(Batches!$F$2:$F$1000,Batches!$B$2:$B$1000,A5)) | I5: =IF(OR(A5="",E5="",E5=0),"",ROUND(H5/E5,2))
G6: =IF(A6="","",E6-F6) | H6: =IF(A6="","",SUMIFS(Batches!$F$2:$F$1000,Batches!$B$2:$B$1000,A6)) | I6: =IF(OR(A6="",E6="",E6=0),"",ROUND(H6/E6,2))
G7: =IF(A7="","",E7-F7) | H7: =IF(A7="","",SUMIFS(Batches!$F$2:$F$1000,Batches!$B$2:$B$1000,A7)) | I7: =IF(OR(A7="",E7="",E7=0),"",ROUND(H7/E7,2))
G8: =IF(A8="","",E8-F8) | H8: =IF(A8="","",SUMIFS(Batches!$F$2:$F$1000,Batches!$B$2:$B$1000,A8)) | I8: =IF(OR(A8="",E8="",E8=0),"",ROUND(H8/E8,2))
G9: =IF(A9="","",E9-F9) | H9: =IF(A9="","",SUMIFS(Batches!$F$2:$F$1000,Batches!$B$2:$B$1000,A9)) | I9: =IF(OR(A9="",E9="",E9=0),"",ROUND(H9/E9,2))
G10: =IF(A10="","",E10-F10) | H10: =IF(A10="","",SUMIFS(Batches!$F$2:$F$1000,Batches!$B$2:$B$1000,A10)) | I10: =IF(OR(A10="",E10="",E10=0),"",ROUND(H10/E10,2))
G11: =IF(A11="","",E11-F11) | H11: =IF(A11="","",SUMIFS(Batches!$F$2:$F$1000,Batches!$B$2:$B$1000,A11)) | I11: =IF(OR(A11="",E11="",E11=0),"",ROUND(H11/E11,2))
G12: =IF(A12="","",E12-F12) | H12: =IF(A12="","",SUMIFS(Batches!$F$2:$F$1000,Batches!$B$2:$B$1000,A12)) | I12: =IF(OR(A12="",E12="",E12=0),"",ROUND(H12/E12,2))
G13: =IF(A13="","",E13-F13) | H13: =IF(A13="","",SUMIFS(Batches!$F$2:$F$1000,Batches!$B$2:$B$1000,A13)) | I13: =IF(OR(A13="",E13="",E13=0),"",ROUND(H13/E13,2))
G14: =IF(A14="","",E14-F14) | H14: =IF(A14="","",SUMIFS(Batches!$F$2:$F$1000,Batches!$B$2:$B$1000,A14)) | I14: =IF(OR(A14="",E14="",E14=0),"",ROUND(H14/E14,2))
... G200: =IF(A200="","",E200-F200) | H200: =IF(A200="","",SUMIFS(Batches!$F$2:$F$1000,Batches!$B$2:$B$1000,A200)) | I200: =IF(OR(A200="",E200="",E200=0),"",ROUND(H200/E200,2))

Sheet Read me
A1: Skincare inventory spreadsheet
A2: From the article: https://www.tarostack.com/articles/skincare-inventory-spreadsheet
A4: Ingredients: one row per supplier lot, not per ingredient: a new delivery of shea butter is a new row with its own lot, dates, grams and cost. Cost per gram, grams used, grams on hand and a reorder flag work themselves out.
A5: Batches: one row per ingredient lot used in a batch, with the grams. Type the lot exactly as it is on the Ingredients sheet. The cost of each line comes from that lot's cost per gram.
A6: Finished jars: one row per batch, with its best-by date, jars made and sold. Jars on hand and the ingredient cost per jar work themselves out. Add packaging, labor and overhead for the full cost.
A8: Works in Excel (2010 and later), Google Sheets, LibreOffice and Numbers. No macros.
A9: Free to use and change. Made by TaroStack, inventory and production software for small producers: https://www.tarostack.com
