Workbook

Sheet Products
A1: Product | B1: Size | C1: Unit | D1: Price | E1: Code | F1: Unit price | G1: Tag date
A2: Local blueberry jam | B2: 9 | C2: oz | D2: 8.99 | E2: JAM-BLU-09 | F2: =IF(B2=0,"",D2/B2) -> 0.99888889 | G2: 46310
A3: Cola | B3: 20 | C3: oz | D3: 2.49 | E3: 049000050103 | F3: =IF(B3=0,"",D3/B3) -> 0.1245 | G3: 46310
A4: Spring water | B4: 16.9 | C4: oz | D4: 1.29 | E4: 012000001291 | F4: =IF(B4=0,"",D4/B4) -> 0.076331361 | G4: 46310
A5: Whole milk, gallon | B5: 128 | C5: oz | D5: 4.29 | E5: MILK-WH-128 | F5: =IF(B5=0,"",D5/B5) -> 0.033515625 | G5: 46310
A6: Local sourdough | B6: 24 | C6: oz | D6: 6.49 | E6: BRD-SD-24 | F6: =IF(B6=0,"",D6/B6) -> 0.27041667 | G6: 46310
A7: Local coffee beans | B7: 12 | C7: oz | D7: 15.99 | E7: COF-MI-12 | F7: =IF(B7=0,"",D7/B7) -> 1.3325 | G7: 46310
A8: Eggs, dozen | B8: 12 | C8: ct | D8: 4.59 | E8: EGG-12 | F8: =IF(B8=0,"",D8/B8) -> 0.3825 | G8: 46310
A9: Local honey | B9: 12 | C9: oz | D9: 11.99 | E9: HON-12 | F9: =IF(B9=0,"",D9/B9) -> 0.99916667 | G9: 46310
A10: Potato chips | B10: 8 | C10: oz | D10: 4.49 | E10: CHP-08 | F10: =IF(B10=0,"",D10/B10) -> 0.56125 | G10: 46310

Sheet Tags
A1: =IF(Products!$A$2="","",Products!$A$2) -> Local blueberry jam | C1: =IF(Products!$A$3="","",Products!$A$3) -> Cola | E1: =IF(Products!$A$4="","",Products!$A$4) -> Spring water
A2: =IF(Products!$A$2="","",TEXT(Products!$D$2,"$0.00")) -> $8.99 | C2: =IF(Products!$A$3="","",TEXT(Products!$D$3,"$0.00")) -> $2.49 | E2: =IF(Products!$A$4="","",TEXT(Products!$D$4,"$0.00")) -> $1.29
A3: =IF(Products!$A$2="","",TEXT(Products!$F$2,"$0.00")&" per "&Products!$C$2&" ("&Products!$B$2&" "&Products!$C$2&")") -> $1.00 per oz (9 oz) | C3: =IF(Products!$A$3="","",TEXT(Products!$F$3,"$0.00")&" per "&Products!$C$3&" ("&Products!$B$3&" "&Products!$C$3&")") -> $0.12 per oz (20 oz) | E3: =IF(Products!$A$4="","",TEXT(Products!$F$4,"$0.00")&" per "&Products!$C$4&" ("&Products!$B$4&" "&Products!$C$4&")") -> $0.08 per oz (16.9 oz)
A4: =IF(Products!$A$2="","",Products!$E$2&" "&TEXT(Products!$G$2,"mm/dd")) -> JAM-BLU-09 10/15 | C4: =IF(Products!$A$3="","",Products!$E$3&" "&TEXT(Products!$G$3,"mm/dd")) -> 049000050103 10/15 | E4: =IF(Products!$A$4="","",Products!$E$4&" "&TEXT(Products!$G$4,"mm/dd")) -> 012000001291 10/15
A6: =IF(Products!$A$5="","",Products!$A$5) -> Whole milk, gallon | C6: =IF(Products!$A$6="","",Products!$A$6) -> Local sourdough | E6: =IF(Products!$A$7="","",Products!$A$7) -> Local coffee beans
A7: =IF(Products!$A$5="","",TEXT(Products!$D$5,"$0.00")) -> $4.29 | C7: =IF(Products!$A$6="","",TEXT(Products!$D$6,"$0.00")) -> $6.49 | E7: =IF(Products!$A$7="","",TEXT(Products!$D$7,"$0.00")) -> $15.99
A8: =IF(Products!$A$5="","",TEXT(Products!$F$5,"$0.00")&" per "&Products!$C$5&" ("&Products!$B$5&" "&Products!$C$5&")") -> $0.03 per oz (128 oz) | C8: =IF(Products!$A$6="","",TEXT(Products!$F$6,"$0.00")&" per "&Products!$C$6&" ("&Products!$B$6&" "&Products!$C$6&")") -> $0.27 per oz (24 oz) | E8: =IF(Products!$A$7="","",TEXT(Products!$F$7,"$0.00")&" per "&Products!$C$7&" ("&Products!$B$7&" "&Products!$C$7&")") -> $1.33 per oz (12 oz)
A9: =IF(Products!$A$5="","",Products!$E$5&" "&TEXT(Products!$G$5,"mm/dd")) -> MILK-WH-128 10/15 | C9: =IF(Products!$A$6="","",Products!$E$6&" "&TEXT(Products!$G$6,"mm/dd")) -> BRD-SD-24 10/15 | E9: =IF(Products!$A$7="","",Products!$E$7&" "&TEXT(Products!$G$7,"mm/dd")) -> COF-MI-12 10/15
A11: =IF(Products!$A$8="","",Products!$A$8) -> Eggs, dozen | C11: =IF(Products!$A$9="","",Products!$A$9) -> Local honey | E11: =IF(Products!$A$10="","",Products!$A$10) -> Potato chips
A12: =IF(Products!$A$8="","",TEXT(Products!$D$8,"$0.00")) -> $4.59 | C12: =IF(Products!$A$9="","",TEXT(Products!$D$9,"$0.00")) -> $11.99 | E12: =IF(Products!$A$10="","",TEXT(Products!$D$10,"$0.00")) -> $4.49
A13: =IF(Products!$A$8="","",TEXT(Products!$F$8,"$0.00")&" per "&Products!$C$8&" ("&Products!$B$8&" "&Products!$C$8&")") -> $0.38 per ct (12 ct) | C13: =IF(Products!$A$9="","",TEXT(Products!$F$9,"$0.00")&" per "&Products!$C$9&" ("&Products!$B$9&" "&Products!$C$9&")") -> $1.00 per oz (12 oz) | E13: =IF(Products!$A$10="","",TEXT(Products!$F$10,"$0.00")&" per "&Products!$C$10&" ("&Products!$B$10&" "&Products!$C$10&")") -> $0.56 per oz (8 oz)
A14: =IF(Products!$A$8="","",Products!$E$8&" "&TEXT(Products!$G$8,"mm/dd")) -> EGG-12 10/15 | C14: =IF(Products!$A$9="","",Products!$E$9&" "&TEXT(Products!$G$9,"mm/dd")) -> HON-12 10/15 | E14: =IF(Products!$A$10="","",Products!$E$10&" "&TEXT(Products!$G$10,"mm/dd")) -> CHP-08 10/15
A16: =IF(Products!$A$11="","",Products!$A$11) | C16: =IF(Products!$A$12="","",Products!$A$12) | E16: =IF(Products!$A$13="","",Products!$A$13)
A17: =IF(Products!$A$11="","",TEXT(Products!$D$11,"$0.00")) | C17: =IF(Products!$A$12="","",TEXT(Products!$D$12,"$0.00")) | E17: =IF(Products!$A$13="","",TEXT(Products!$D$13,"$0.00"))
A18: =IF(Products!$A$11="","",TEXT(Products!$F$11,"$0.00")&" per "&Products!$C$11&" ("&Products!$B$11&" "&Products!$C$11&")") | C18: =IF(Products!$A$12="","",TEXT(Products!$F$12,"$0.00")&" per "&Products!$C$12&" ("&Products!$B$12&" "&Products!$C$12&")") | E18: =IF(Products!$A$13="","",TEXT(Products!$F$13,"$0.00")&" per "&Products!$C$13&" ("&Products!$B$13&" "&Products!$C$13&")")
A19: =IF(Products!$A$11="","",Products!$E$11&" "&TEXT(Products!$G$11,"mm/dd")) | C19: =IF(Products!$A$12="","",Products!$E$12&" "&TEXT(Products!$G$12,"mm/dd")) | E19: =IF(Products!$A$13="","",Products!$E$13&" "&TEXT(Products!$G$13,"mm/dd"))

Sheet Read me
A1: Shelf tag template
A2: From the article: https://www.tarostack.com/articles/shelf-tag-template
A4: Products: each product's name, size, unit, price, code and tag date; the unit price works itself out.
A5: Tags: twelve tags, three across, filled from the Products sheet: name, price, unit price with the size, and the code with the date. Print it and cut along the lines.
A6: The example is the article's made-up corner store. Some states and cities require unit prices on shelf tags; check yours.
A8: Works in Excel (2010 and later), Google Sheets, LibreOffice and Numbers. No macros.
A9: Free to use and change. Made by TaroStack, inventory and production software for small producers: https://www.tarostack.com
