Workbook

Sheet Last year
A1: Product | B1: Jan | C1: Feb | D1: Mar | E1: Apr | F1: May | G1: Jun | H1: Jul | I1: Aug | J1: Sep | K1: Oct | L1: Nov | M1: Dec | N1: Year
A2: Classic cocoa mix, 12 oz tin | B2: 300 | C2: 220 | D2: 150 | E2: 90 | F2: 60 | G2: 40 | H2: 40 | I2: 50 | J2: 120 | K2: 260 | L2: 520 | M2: 780 | N2: =IF(A2="","",SUM(B2:M2)) -> 2630
A3: Peppermint cocoa mix, 12 oz tin | B3: 80 | C3: 40 | D3: 20 | E3: 10 | F3: 5 | G3: 5 | H3: 5 | I3: 10 | J3: 40 | K3: 150 | L3: 420 | M3: 700 | N3: =IF(A3="","",SUM(B3:M3)) -> 1485
A4: Vanilla marshmallows, 8 oz bag | B4: 100 | C4: 80 | D4: 60 | E4: 40 | F4: 30 | G4: 20 | H4: 20 | I4: 30 | J4: 60 | K4: 120 | L4: 260 | M4: 380 | N4: =IF(A4="","",SUM(B4:M4)) -> 1200
A5: Cocoa gift set | B5: 10 | C5: 15 | D5: 5 | E5: 0 | F5: 0 | G5: 0 | H5: 0 | I5: 0 | J5: 5 | K5: 30 | L5: 150 | M5: 320 | N5: =IF(A5="","",SUM(B5:M5)) -> 535
N6: =IF(A6="","",SUM(B6:M6))
N7: =IF(A7="","",SUM(B7:M7))
N8: =IF(A8="","",SUM(B8:M8))
N9: =IF(A9="","",SUM(B9:M9))
N10: =IF(A10="","",SUM(B10:M10))
N11: =IF(A11="","",SUM(B11:M11))
N12: =IF(A12="","",SUM(B12:M12))
N13: =IF(A13="","",SUM(B13:M13))
N14: =IF(A14="","",SUM(B14:M14))
N15: =IF(A15="","",SUM(B15:M15))
N16: =IF(A16="","",SUM(B16:M16))
N17: =IF(A17="","",SUM(B17:M17))
... N21: =IF(A21="","",SUM(B21:M21))

Sheet Forecast
A1: Product | B1: Price | C1: Growth | D1: New accounts, units a month | E1: Jan | F1: Feb | G1: Mar | H1: Apr | I1: May | J1: Jun | K1: Jul | L1: Aug | M1: Sep | N1: Oct | O1: Nov | P1: Dec | Q1: Year, units | R1: Year, sales
A2: =IF('Last year'!A2="","",'Last year'!A2) -> Classic cocoa mix, 12 oz tin | B2: 16 | C2: 0.15 | D2: 30 | E2: =IF(A2="","",ROUND(N('Last year'!B2)*(1+N(C2)),0)+N(D2)) -> 375 | F2: =IF(A2="","",ROUND(N('Last year'!C2)*(1+N(C2)),0)+N(D2)) -> 283 | G2: =IF(A2="","",ROUND(N('Last year'!D2)*(1+N(C2)),0)+N(D2)) -> 203 | H2: =IF(A2="","",ROUND(N('Last year'!E2)*(1+N(C2)),0)+N(D2)) -> 133 | I2: =IF(A2="","",ROUND(N('Last year'!F2)*(1+N(C2)),0)+N(D2)) -> 99 | J2: =IF(A2="","",ROUND(N('Last year'!G2)*(1+N(C2)),0)+N(D2)) -> 76 | K2: =IF(A2="","",ROUND(N('Last year'!H2)*(1+N(C2)),0)+N(D2)) -> 76 | L2: =IF(A2="","",ROUND(N('Last year'!I2)*(1+N(C2)),0)+N(D2)) -> 87 | M2: =IF(A2="","",ROUND(N('Last year'!J2)*(1+N(C2)),0)+N(D2)) -> 168 | N2: =IF(A2="","",ROUND(N('Last year'!K2)*(1+N(C2)),0)+N(D2)) -> 329 | O2: =IF(A2="","",ROUND(N('Last year'!L2)*(1+N(C2)),0)+N(D2)) -> 628 | P2: =IF(A2="","",ROUND(N('Last year'!M2)*(1+N(C2)),0)+N(D2)) -> 927 | Q2: =IF(A2="","",SUM(E2:P2)) -> 3384 | R2: =IF(A2="","",Q2*N(B2)) -> 54144
A3: =IF('Last year'!A3="","",'Last year'!A3) -> Peppermint cocoa mix, 12 oz tin | B3: 16 | C3: 0.25 | D3: 0 | E3: =IF(A3="","",ROUND(N('Last year'!B3)*(1+N(C3)),0)+N(D3)) -> 100 | F3: =IF(A3="","",ROUND(N('Last year'!C3)*(1+N(C3)),0)+N(D3)) -> 50 | G3: =IF(A3="","",ROUND(N('Last year'!D3)*(1+N(C3)),0)+N(D3)) -> 25 | H3: =IF(A3="","",ROUND(N('Last year'!E3)*(1+N(C3)),0)+N(D3)) -> 13 | I3: =IF(A3="","",ROUND(N('Last year'!F3)*(1+N(C3)),0)+N(D3)) -> 6 | J3: =IF(A3="","",ROUND(N('Last year'!G3)*(1+N(C3)),0)+N(D3)) -> 6 | K3: =IF(A3="","",ROUND(N('Last year'!H3)*(1+N(C3)),0)+N(D3)) -> 6 | L3: =IF(A3="","",ROUND(N('Last year'!I3)*(1+N(C3)),0)+N(D3)) -> 13 | M3: =IF(A3="","",ROUND(N('Last year'!J3)*(1+N(C3)),0)+N(D3)) -> 50 | N3: =IF(A3="","",ROUND(N('Last year'!K3)*(1+N(C3)),0)+N(D3)) -> 188 | O3: =IF(A3="","",ROUND(N('Last year'!L3)*(1+N(C3)),0)+N(D3)) -> 525 | P3: =IF(A3="","",ROUND(N('Last year'!M3)*(1+N(C3)),0)+N(D3)) -> 875 | Q3: =IF(A3="","",SUM(E3:P3)) -> 1857 | R3: =IF(A3="","",Q3*N(B3)) -> 29712
A4: =IF('Last year'!A4="","",'Last year'!A4) -> Vanilla marshmallows, 8 oz bag | B4: 9 | C4: 0.1 | D4: 10 | E4: =IF(A4="","",ROUND(N('Last year'!B4)*(1+N(C4)),0)+N(D4)) -> 120 | F4: =IF(A4="","",ROUND(N('Last year'!C4)*(1+N(C4)),0)+N(D4)) -> 98 | G4: =IF(A4="","",ROUND(N('Last year'!D4)*(1+N(C4)),0)+N(D4)) -> 76 | H4: =IF(A4="","",ROUND(N('Last year'!E4)*(1+N(C4)),0)+N(D4)) -> 54 | I4: =IF(A4="","",ROUND(N('Last year'!F4)*(1+N(C4)),0)+N(D4)) -> 43 | J4: =IF(A4="","",ROUND(N('Last year'!G4)*(1+N(C4)),0)+N(D4)) -> 32 | K4: =IF(A4="","",ROUND(N('Last year'!H4)*(1+N(C4)),0)+N(D4)) -> 32 | L4: =IF(A4="","",ROUND(N('Last year'!I4)*(1+N(C4)),0)+N(D4)) -> 43 | M4: =IF(A4="","",ROUND(N('Last year'!J4)*(1+N(C4)),0)+N(D4)) -> 76 | N4: =IF(A4="","",ROUND(N('Last year'!K4)*(1+N(C4)),0)+N(D4)) -> 142 | O4: =IF(A4="","",ROUND(N('Last year'!L4)*(1+N(C4)),0)+N(D4)) -> 296 | P4: =IF(A4="","",ROUND(N('Last year'!M4)*(1+N(C4)),0)+N(D4)) -> 428 | Q4: =IF(A4="","",SUM(E4:P4)) -> 1440 | R4: =IF(A4="","",Q4*N(B4)) -> 12960
A5: =IF('Last year'!A5="","",'Last year'!A5) -> Cocoa gift set | B5: 38 | C5: 0.3 | D5: 0 | E5: =IF(A5="","",ROUND(N('Last year'!B5)*(1+N(C5)),0)+N(D5)) -> 13 | F5: =IF(A5="","",ROUND(N('Last year'!C5)*(1+N(C5)),0)+N(D5)) -> 20 | G5: =IF(A5="","",ROUND(N('Last year'!D5)*(1+N(C5)),0)+N(D5)) -> 7 | H5: =IF(A5="","",ROUND(N('Last year'!E5)*(1+N(C5)),0)+N(D5)) -> 0 | I5: =IF(A5="","",ROUND(N('Last year'!F5)*(1+N(C5)),0)+N(D5)) -> 0 | J5: =IF(A5="","",ROUND(N('Last year'!G5)*(1+N(C5)),0)+N(D5)) -> 0 | K5: =IF(A5="","",ROUND(N('Last year'!H5)*(1+N(C5)),0)+N(D5)) -> 0 | L5: =IF(A5="","",ROUND(N('Last year'!I5)*(1+N(C5)),0)+N(D5)) -> 0 | M5: =IF(A5="","",ROUND(N('Last year'!J5)*(1+N(C5)),0)+N(D5)) -> 7 | N5: =IF(A5="","",ROUND(N('Last year'!K5)*(1+N(C5)),0)+N(D5)) -> 39 | O5: =IF(A5="","",ROUND(N('Last year'!L5)*(1+N(C5)),0)+N(D5)) -> 195 | P5: =IF(A5="","",ROUND(N('Last year'!M5)*(1+N(C5)),0)+N(D5)) -> 416 | Q5: =IF(A5="","",SUM(E5:P5)) -> 697 | R5: =IF(A5="","",Q5*N(B5)) -> 26486
A6: =IF('Last year'!A6="","",'Last year'!A6) | E6: =IF(A6="","",ROUND(N('Last year'!B6)*(1+N(C6)),0)+N(D6)) | F6: =IF(A6="","",ROUND(N('Last year'!C6)*(1+N(C6)),0)+N(D6)) | G6: =IF(A6="","",ROUND(N('Last year'!D6)*(1+N(C6)),0)+N(D6)) | H6: =IF(A6="","",ROUND(N('Last year'!E6)*(1+N(C6)),0)+N(D6)) | I6: =IF(A6="","",ROUND(N('Last year'!F6)*(1+N(C6)),0)+N(D6)) | J6: =IF(A6="","",ROUND(N('Last year'!G6)*(1+N(C6)),0)+N(D6)) | K6: =IF(A6="","",ROUND(N('Last year'!H6)*(1+N(C6)),0)+N(D6)) | L6: =IF(A6="","",ROUND(N('Last year'!I6)*(1+N(C6)),0)+N(D6)) | M6: =IF(A6="","",ROUND(N('Last year'!J6)*(1+N(C6)),0)+N(D6)) | N6: =IF(A6="","",ROUND(N('Last year'!K6)*(1+N(C6)),0)+N(D6)) | O6: =IF(A6="","",ROUND(N('Last year'!L6)*(1+N(C6)),0)+N(D6)) | P6: =IF(A6="","",ROUND(N('Last year'!M6)*(1+N(C6)),0)+N(D6)) | Q6: =IF(A6="","",SUM(E6:P6)) | R6: =IF(A6="","",Q6*N(B6))
A7: =IF('Last year'!A7="","",'Last year'!A7) | E7: =IF(A7="","",ROUND(N('Last year'!B7)*(1+N(C7)),0)+N(D7)) | F7: =IF(A7="","",ROUND(N('Last year'!C7)*(1+N(C7)),0)+N(D7)) | G7: =IF(A7="","",ROUND(N('Last year'!D7)*(1+N(C7)),0)+N(D7)) | H7: =IF(A7="","",ROUND(N('Last year'!E7)*(1+N(C7)),0)+N(D7)) | I7: =IF(A7="","",ROUND(N('Last year'!F7)*(1+N(C7)),0)+N(D7)) | J7: =IF(A7="","",ROUND(N('Last year'!G7)*(1+N(C7)),0)+N(D7)) | K7: =IF(A7="","",ROUND(N('Last year'!H7)*(1+N(C7)),0)+N(D7)) | L7: =IF(A7="","",ROUND(N('Last year'!I7)*(1+N(C7)),0)+N(D7)) | M7: =IF(A7="","",ROUND(N('Last year'!J7)*(1+N(C7)),0)+N(D7)) | N7: =IF(A7="","",ROUND(N('Last year'!K7)*(1+N(C7)),0)+N(D7)) | O7: =IF(A7="","",ROUND(N('Last year'!L7)*(1+N(C7)),0)+N(D7)) | P7: =IF(A7="","",ROUND(N('Last year'!M7)*(1+N(C7)),0)+N(D7)) | Q7: =IF(A7="","",SUM(E7:P7)) | R7: =IF(A7="","",Q7*N(B7))
A8: =IF('Last year'!A8="","",'Last year'!A8) | E8: =IF(A8="","",ROUND(N('Last year'!B8)*(1+N(C8)),0)+N(D8)) | F8: =IF(A8="","",ROUND(N('Last year'!C8)*(1+N(C8)),0)+N(D8)) | G8: =IF(A8="","",ROUND(N('Last year'!D8)*(1+N(C8)),0)+N(D8)) | H8: =IF(A8="","",ROUND(N('Last year'!E8)*(1+N(C8)),0)+N(D8)) | I8: =IF(A8="","",ROUND(N('Last year'!F8)*(1+N(C8)),0)+N(D8)) | J8: =IF(A8="","",ROUND(N('Last year'!G8)*(1+N(C8)),0)+N(D8)) | K8: =IF(A8="","",ROUND(N('Last year'!H8)*(1+N(C8)),0)+N(D8)) | L8: =IF(A8="","",ROUND(N('Last year'!I8)*(1+N(C8)),0)+N(D8)) | M8: =IF(A8="","",ROUND(N('Last year'!J8)*(1+N(C8)),0)+N(D8)) | N8: =IF(A8="","",ROUND(N('Last year'!K8)*(1+N(C8)),0)+N(D8)) | O8: =IF(A8="","",ROUND(N('Last year'!L8)*(1+N(C8)),0)+N(D8)) | P8: =IF(A8="","",ROUND(N('Last year'!M8)*(1+N(C8)),0)+N(D8)) | Q8: =IF(A8="","",SUM(E8:P8)) | R8: =IF(A8="","",Q8*N(B8))
A9: =IF('Last year'!A9="","",'Last year'!A9) | E9: =IF(A9="","",ROUND(N('Last year'!B9)*(1+N(C9)),0)+N(D9)) | F9: =IF(A9="","",ROUND(N('Last year'!C9)*(1+N(C9)),0)+N(D9)) | G9: =IF(A9="","",ROUND(N('Last year'!D9)*(1+N(C9)),0)+N(D9)) | H9: =IF(A9="","",ROUND(N('Last year'!E9)*(1+N(C9)),0)+N(D9)) | I9: =IF(A9="","",ROUND(N('Last year'!F9)*(1+N(C9)),0)+N(D9)) | J9: =IF(A9="","",ROUND(N('Last year'!G9)*(1+N(C9)),0)+N(D9)) | K9: =IF(A9="","",ROUND(N('Last year'!H9)*(1+N(C9)),0)+N(D9)) | L9: =IF(A9="","",ROUND(N('Last year'!I9)*(1+N(C9)),0)+N(D9)) | M9: =IF(A9="","",ROUND(N('Last year'!J9)*(1+N(C9)),0)+N(D9)) | N9: =IF(A9="","",ROUND(N('Last year'!K9)*(1+N(C9)),0)+N(D9)) | O9: =IF(A9="","",ROUND(N('Last year'!L9)*(1+N(C9)),0)+N(D9)) | P9: =IF(A9="","",ROUND(N('Last year'!M9)*(1+N(C9)),0)+N(D9)) | Q9: =IF(A9="","",SUM(E9:P9)) | R9: =IF(A9="","",Q9*N(B9))
A10: =IF('Last year'!A10="","",'Last year'!A10) | E10: =IF(A10="","",ROUND(N('Last year'!B10)*(1+N(C10)),0)+N(D10)) | F10: =IF(A10="","",ROUND(N('Last year'!C10)*(1+N(C10)),0)+N(D10)) | G10: =IF(A10="","",ROUND(N('Last year'!D10)*(1+N(C10)),0)+N(D10)) | H10: =IF(A10="","",ROUND(N('Last year'!E10)*(1+N(C10)),0)+N(D10)) | I10: =IF(A10="","",ROUND(N('Last year'!F10)*(1+N(C10)),0)+N(D10)) | J10: =IF(A10="","",ROUND(N('Last year'!G10)*(1+N(C10)),0)+N(D10)) | K10: =IF(A10="","",ROUND(N('Last year'!H10)*(1+N(C10)),0)+N(D10)) | L10: =IF(A10="","",ROUND(N('Last year'!I10)*(1+N(C10)),0)+N(D10)) | M10: =IF(A10="","",ROUND(N('Last year'!J10)*(1+N(C10)),0)+N(D10)) | N10: =IF(A10="","",ROUND(N('Last year'!K10)*(1+N(C10)),0)+N(D10)) | O10: =IF(A10="","",ROUND(N('Last year'!L10)*(1+N(C10)),0)+N(D10)) | P10: =IF(A10="","",ROUND(N('Last year'!M10)*(1+N(C10)),0)+N(D10)) | Q10: =IF(A10="","",SUM(E10:P10)) | R10: =IF(A10="","",Q10*N(B10))
A11: =IF('Last year'!A11="","",'Last year'!A11) | E11: =IF(A11="","",ROUND(N('Last year'!B11)*(1+N(C11)),0)+N(D11)) | F11: =IF(A11="","",ROUND(N('Last year'!C11)*(1+N(C11)),0)+N(D11)) | G11: =IF(A11="","",ROUND(N('Last year'!D11)*(1+N(C11)),0)+N(D11)) | H11: =IF(A11="","",ROUND(N('Last year'!E11)*(1+N(C11)),0)+N(D11)) | I11: =IF(A11="","",ROUND(N('Last year'!F11)*(1+N(C11)),0)+N(D11)) | J11: =IF(A11="","",ROUND(N('Last year'!G11)*(1+N(C11)),0)+N(D11)) | K11: =IF(A11="","",ROUND(N('Last year'!H11)*(1+N(C11)),0)+N(D11)) | L11: =IF(A11="","",ROUND(N('Last year'!I11)*(1+N(C11)),0)+N(D11)) | M11: =IF(A11="","",ROUND(N('Last year'!J11)*(1+N(C11)),0)+N(D11)) | N11: =IF(A11="","",ROUND(N('Last year'!K11)*(1+N(C11)),0)+N(D11)) | O11: =IF(A11="","",ROUND(N('Last year'!L11)*(1+N(C11)),0)+N(D11)) | P11: =IF(A11="","",ROUND(N('Last year'!M11)*(1+N(C11)),0)+N(D11)) | Q11: =IF(A11="","",SUM(E11:P11)) | R11: =IF(A11="","",Q11*N(B11))
A12: =IF('Last year'!A12="","",'Last year'!A12) | E12: =IF(A12="","",ROUND(N('Last year'!B12)*(1+N(C12)),0)+N(D12)) | F12: =IF(A12="","",ROUND(N('Last year'!C12)*(1+N(C12)),0)+N(D12)) | G12: =IF(A12="","",ROUND(N('Last year'!D12)*(1+N(C12)),0)+N(D12)) | H12: =IF(A12="","",ROUND(N('Last year'!E12)*(1+N(C12)),0)+N(D12)) | I12: =IF(A12="","",ROUND(N('Last year'!F12)*(1+N(C12)),0)+N(D12)) | J12: =IF(A12="","",ROUND(N('Last year'!G12)*(1+N(C12)),0)+N(D12)) | K12: =IF(A12="","",ROUND(N('Last year'!H12)*(1+N(C12)),0)+N(D12)) | L12: =IF(A12="","",ROUND(N('Last year'!I12)*(1+N(C12)),0)+N(D12)) | M12: =IF(A12="","",ROUND(N('Last year'!J12)*(1+N(C12)),0)+N(D12)) | N12: =IF(A12="","",ROUND(N('Last year'!K12)*(1+N(C12)),0)+N(D12)) | O12: =IF(A12="","",ROUND(N('Last year'!L12)*(1+N(C12)),0)+N(D12)) | P12: =IF(A12="","",ROUND(N('Last year'!M12)*(1+N(C12)),0)+N(D12)) | Q12: =IF(A12="","",SUM(E12:P12)) | R12: =IF(A12="","",Q12*N(B12))
A13: =IF('Last year'!A13="","",'Last year'!A13) | E13: =IF(A13="","",ROUND(N('Last year'!B13)*(1+N(C13)),0)+N(D13)) | F13: =IF(A13="","",ROUND(N('Last year'!C13)*(1+N(C13)),0)+N(D13)) | G13: =IF(A13="","",ROUND(N('Last year'!D13)*(1+N(C13)),0)+N(D13)) | H13: =IF(A13="","",ROUND(N('Last year'!E13)*(1+N(C13)),0)+N(D13)) | I13: =IF(A13="","",ROUND(N('Last year'!F13)*(1+N(C13)),0)+N(D13)) | J13: =IF(A13="","",ROUND(N('Last year'!G13)*(1+N(C13)),0)+N(D13)) | K13: =IF(A13="","",ROUND(N('Last year'!H13)*(1+N(C13)),0)+N(D13)) | L13: =IF(A13="","",ROUND(N('Last year'!I13)*(1+N(C13)),0)+N(D13)) | M13: =IF(A13="","",ROUND(N('Last year'!J13)*(1+N(C13)),0)+N(D13)) | N13: =IF(A13="","",ROUND(N('Last year'!K13)*(1+N(C13)),0)+N(D13)) | O13: =IF(A13="","",ROUND(N('Last year'!L13)*(1+N(C13)),0)+N(D13)) | P13: =IF(A13="","",ROUND(N('Last year'!M13)*(1+N(C13)),0)+N(D13)) | Q13: =IF(A13="","",SUM(E13:P13)) | R13: =IF(A13="","",Q13*N(B13))
A14: =IF('Last year'!A14="","",'Last year'!A14) | E14: =IF(A14="","",ROUND(N('Last year'!B14)*(1+N(C14)),0)+N(D14)) | F14: =IF(A14="","",ROUND(N('Last year'!C14)*(1+N(C14)),0)+N(D14)) | G14: =IF(A14="","",ROUND(N('Last year'!D14)*(1+N(C14)),0)+N(D14)) | H14: =IF(A14="","",ROUND(N('Last year'!E14)*(1+N(C14)),0)+N(D14)) | I14: =IF(A14="","",ROUND(N('Last year'!F14)*(1+N(C14)),0)+N(D14)) | J14: =IF(A14="","",ROUND(N('Last year'!G14)*(1+N(C14)),0)+N(D14)) | K14: =IF(A14="","",ROUND(N('Last year'!H14)*(1+N(C14)),0)+N(D14)) | L14: =IF(A14="","",ROUND(N('Last year'!I14)*(1+N(C14)),0)+N(D14)) | M14: =IF(A14="","",ROUND(N('Last year'!J14)*(1+N(C14)),0)+N(D14)) | N14: =IF(A14="","",ROUND(N('Last year'!K14)*(1+N(C14)),0)+N(D14)) | O14: =IF(A14="","",ROUND(N('Last year'!L14)*(1+N(C14)),0)+N(D14)) | P14: =IF(A14="","",ROUND(N('Last year'!M14)*(1+N(C14)),0)+N(D14)) | Q14: =IF(A14="","",SUM(E14:P14)) | R14: =IF(A14="","",Q14*N(B14))
A15: =IF('Last year'!A15="","",'Last year'!A15) | E15: =IF(A15="","",ROUND(N('Last year'!B15)*(1+N(C15)),0)+N(D15)) | F15: =IF(A15="","",ROUND(N('Last year'!C15)*(1+N(C15)),0)+N(D15)) | G15: =IF(A15="","",ROUND(N('Last year'!D15)*(1+N(C15)),0)+N(D15)) | H15: =IF(A15="","",ROUND(N('Last year'!E15)*(1+N(C15)),0)+N(D15)) | I15: =IF(A15="","",ROUND(N('Last year'!F15)*(1+N(C15)),0)+N(D15)) | J15: =IF(A15="","",ROUND(N('Last year'!G15)*(1+N(C15)),0)+N(D15)) | K15: =IF(A15="","",ROUND(N('Last year'!H15)*(1+N(C15)),0)+N(D15)) | L15: =IF(A15="","",ROUND(N('Last year'!I15)*(1+N(C15)),0)+N(D15)) | M15: =IF(A15="","",ROUND(N('Last year'!J15)*(1+N(C15)),0)+N(D15)) | N15: =IF(A15="","",ROUND(N('Last year'!K15)*(1+N(C15)),0)+N(D15)) | O15: =IF(A15="","",ROUND(N('Last year'!L15)*(1+N(C15)),0)+N(D15)) | P15: =IF(A15="","",ROUND(N('Last year'!M15)*(1+N(C15)),0)+N(D15)) | Q15: =IF(A15="","",SUM(E15:P15)) | R15: =IF(A15="","",Q15*N(B15))
A16: =IF('Last year'!A16="","",'Last year'!A16) | E16: =IF(A16="","",ROUND(N('Last year'!B16)*(1+N(C16)),0)+N(D16)) | F16: =IF(A16="","",ROUND(N('Last year'!C16)*(1+N(C16)),0)+N(D16)) | G16: =IF(A16="","",ROUND(N('Last year'!D16)*(1+N(C16)),0)+N(D16)) | H16: =IF(A16="","",ROUND(N('Last year'!E16)*(1+N(C16)),0)+N(D16)) | I16: =IF(A16="","",ROUND(N('Last year'!F16)*(1+N(C16)),0)+N(D16)) | J16: =IF(A16="","",ROUND(N('Last year'!G16)*(1+N(C16)),0)+N(D16)) | K16: =IF(A16="","",ROUND(N('Last year'!H16)*(1+N(C16)),0)+N(D16)) | L16: =IF(A16="","",ROUND(N('Last year'!I16)*(1+N(C16)),0)+N(D16)) | M16: =IF(A16="","",ROUND(N('Last year'!J16)*(1+N(C16)),0)+N(D16)) | N16: =IF(A16="","",ROUND(N('Last year'!K16)*(1+N(C16)),0)+N(D16)) | O16: =IF(A16="","",ROUND(N('Last year'!L16)*(1+N(C16)),0)+N(D16)) | P16: =IF(A16="","",ROUND(N('Last year'!M16)*(1+N(C16)),0)+N(D16)) | Q16: =IF(A16="","",SUM(E16:P16)) | R16: =IF(A16="","",Q16*N(B16))
A17: =IF('Last year'!A17="","",'Last year'!A17) | E17: =IF(A17="","",ROUND(N('Last year'!B17)*(1+N(C17)),0)+N(D17)) | F17: =IF(A17="","",ROUND(N('Last year'!C17)*(1+N(C17)),0)+N(D17)) | G17: =IF(A17="","",ROUND(N('Last year'!D17)*(1+N(C17)),0)+N(D17)) | H17: =IF(A17="","",ROUND(N('Last year'!E17)*(1+N(C17)),0)+N(D17)) | I17: =IF(A17="","",ROUND(N('Last year'!F17)*(1+N(C17)),0)+N(D17)) | J17: =IF(A17="","",ROUND(N('Last year'!G17)*(1+N(C17)),0)+N(D17)) | K17: =IF(A17="","",ROUND(N('Last year'!H17)*(1+N(C17)),0)+N(D17)) | L17: =IF(A17="","",ROUND(N('Last year'!I17)*(1+N(C17)),0)+N(D17)) | M17: =IF(A17="","",ROUND(N('Last year'!J17)*(1+N(C17)),0)+N(D17)) | N17: =IF(A17="","",ROUND(N('Last year'!K17)*(1+N(C17)),0)+N(D17)) | O17: =IF(A17="","",ROUND(N('Last year'!L17)*(1+N(C17)),0)+N(D17)) | P17: =IF(A17="","",ROUND(N('Last year'!M17)*(1+N(C17)),0)+N(D17)) | Q17: =IF(A17="","",SUM(E17:P17)) | R17: =IF(A17="","",Q17*N(B17))
... A21: =IF('Last year'!A21="","",'Last year'!A21) | E21: =IF(A21="","",ROUND(N('Last year'!B21)*(1+N(C21)),0)+N(D21)) | F21: =IF(A21="","",ROUND(N('Last year'!C21)*(1+N(C21)),0)+N(D21)) | G21: =IF(A21="","",ROUND(N('Last year'!D21)*(1+N(C21)),0)+N(D21)) | H21: =IF(A21="","",ROUND(N('Last year'!E21)*(1+N(C21)),0)+N(D21)) | I21: =IF(A21="","",ROUND(N('Last year'!F21)*(1+N(C21)),0)+N(D21)) | J21: =IF(A21="","",ROUND(N('Last year'!G21)*(1+N(C21)),0)+N(D21)) | K21: =IF(A21="","",ROUND(N('Last year'!H21)*(1+N(C21)),0)+N(D21)) | L21: =IF(A21="","",ROUND(N('Last year'!I21)*(1+N(C21)),0)+N(D21)) | M21: =IF(A21="","",ROUND(N('Last year'!J21)*(1+N(C21)),0)+N(D21)) | N21: =IF(A21="","",ROUND(N('Last year'!K21)*(1+N(C21)),0)+N(D21)) | O21: =IF(A21="","",ROUND(N('Last year'!L21)*(1+N(C21)),0)+N(D21)) | P21: =IF(A21="","",ROUND(N('Last year'!M21)*(1+N(C21)),0)+N(D21)) | Q21: =IF(A21="","",SUM(E21:P21)) | R21: =IF(A21="","",Q21*N(B21))
A23: Sales, all products | E23: =SUMPRODUCT($B$2:$B$21,E2:E21) -> 9174 | F23: =SUMPRODUCT($B$2:$B$21,F2:F21) -> 6970 | G23: =SUMPRODUCT($B$2:$B$21,G2:G21) -> 4598 | H23: =SUMPRODUCT($B$2:$B$21,H2:H21) -> 2822 | I23: =SUMPRODUCT($B$2:$B$21,I2:I21) -> 2067 | J23: =SUMPRODUCT($B$2:$B$21,J2:J21) -> 1600 | K23: =SUMPRODUCT($B$2:$B$21,K2:K21) -> 1600 | L23: =SUMPRODUCT($B$2:$B$21,L2:L21) -> 1987 | ... P23: =SUMPRODUCT($B$2:$B$21,P2:P21) -> 48492 | R23: =SUM(R2:R21) -> 123302
A24: Units, all products | E24: =SUM(E2:E21) -> 608 | F24: =SUM(F2:F21) -> 451 | G24: =SUM(G2:G21) -> 311 | H24: =SUM(H2:H21) -> 200 | I24: =SUM(I2:I21) -> 148 | J24: =SUM(J2:J21) -> 114 | K24: =SUM(K2:K21) -> 114 | L24: =SUM(L2:L21) -> 143 | ... Q24: =SUM(Q2:Q21) -> 7378

Sheet Read me
A1: Sales forecast template
A2: From the article: https://www.tarostack.com/articles/sales-forecast-template
A4: Last year: one row for each product, with last year's units sold each month. The shape of the year comes from here.
A5: Forecast: for each product, its price, the growth you expect over last year, and units a month from new accounts you know about. It works out this year's units for each month (last year's month x (1 + growth), plus new accounts), the year's units and sales, and totals for each month.
A6: Each month, replace the forecast for months already past with what you sold, and adjust growth if the year is running ahead or behind.
A8: Works in Excel (2010 and later), Google Sheets, LibreOffice and Numbers. No macros.
A9: Free to use and change. Made by TaroStack, inventory and production software for small producers: https://www.tarostack.com
