Workbook

Sheet Daily report
A1: Date | B1: Batch | C1: Product | D1: Planned | E1: Good | F1: Rejects | G1: Of plan | H1: Reject rate | I1: Labor hours | J1: Good an hour | K1: Downtime, min | L1: Reason
A2: 46307 | B2: B-1041 | C2: Honey almond granola bars | D2: 600 | E2: 588 | F2: 12 | G2: =IF(OR(C2="",N(D2)=0),"",E2/D2) -> 0.98 | H2: =IF(OR(C2="",N(E2)+N(F2)=0),"",F2/(E2+F2)) -> 0.02 | I2: 6 | J2: =IF(OR(C2="",N(I2)=0),"",ROUND(N(E2)/I2,1)) -> 98 | K2: 0
A3: 46307 | B3: B-1042 | C3: Dark chocolate cranberry bars | D3: 600 | E3: 552 | F3: 18 | G3: =IF(OR(C3="",N(D3)=0),"",E3/D3) -> 0.92 | H3: =IF(OR(C3="",N(E3)+N(F3)=0),"",F3/(E3+F3)) -> 0.031578947 | I3: 6.5 | J3: =IF(OR(C3="",N(I3)=0),"",ROUND(N(E3)/I3,1)) -> 84.9 | K3: 25 | L3: Bar cutter blade dull, changed
A4: 46308 | B4: B-1043 | C4: Honey almond granola bars | D4: 600 | E4: 594 | F4: 6 | G4: =IF(OR(C4="",N(D4)=0),"",E4/D4) -> 0.99 | H4: =IF(OR(C4="",N(E4)+N(F4)=0),"",F4/(E4+F4)) -> 0.01 | I4: 5.75 | J4: =IF(OR(C4="",N(I4)=0),"",ROUND(N(E4)/I4,1)) -> 103.3 | K4: 0
A5: 46308 | B5: B-1044 | C5: Trail mix, 8 oz bags | D5: 400 | E5: 400 | F5: 0 | G5: =IF(OR(C5="",N(D5)=0),"",E5/D5) -> 1 | H5: =IF(OR(C5="",N(E5)+N(F5)=0),"",F5/(E5+F5)) -> 0 | I5: 3 | J5: =IF(OR(C5="",N(I5)=0),"",ROUND(N(E5)/I5,1)) -> 133.3 | K5: 0
A6: 46309 | B6: B-1045 | C6: Dark chocolate cranberry bars | D6: 600 | E6: 516 | F6: 24 | G6: =IF(OR(C6="",N(D6)=0),"",E6/D6) -> 0.86 | H6: =IF(OR(C6="",N(E6)+N(F6)=0),"",F6/(E6+F6)) -> 0.044444444 | I6: 7 | J6: =IF(OR(C6="",N(I6)=0),"",ROUND(N(E6)/I6,1)) -> 73.7 | K6: 45 | L6: Chocolate too thick, reheated
A7: 46309 | B7: B-1046 | C7: Trail mix, 8 oz bags | D7: 400 | E7: 396 | F7: 4 | G7: =IF(OR(C7="",N(D7)=0),"",E7/D7) -> 0.99 | H7: =IF(OR(C7="",N(E7)+N(F7)=0),"",F7/(E7+F7)) -> 0.01 | I7: 3 | J7: =IF(OR(C7="",N(I7)=0),"",ROUND(N(E7)/I7,1)) -> 132 | K7: 10 | L7: Bag sealer jam
G8: =IF(OR(C8="",N(D8)=0),"",E8/D8) | H8: =IF(OR(C8="",N(E8)+N(F8)=0),"",F8/(E8+F8)) | J8: =IF(OR(C8="",N(I8)=0),"",ROUND(N(E8)/I8,1))
G9: =IF(OR(C9="",N(D9)=0),"",E9/D9) | H9: =IF(OR(C9="",N(E9)+N(F9)=0),"",F9/(E9+F9)) | J9: =IF(OR(C9="",N(I9)=0),"",ROUND(N(E9)/I9,1))
G10: =IF(OR(C10="",N(D10)=0),"",E10/D10) | H10: =IF(OR(C10="",N(E10)+N(F10)=0),"",F10/(E10+F10)) | J10: =IF(OR(C10="",N(I10)=0),"",ROUND(N(E10)/I10,1))
G11: =IF(OR(C11="",N(D11)=0),"",E11/D11) | H11: =IF(OR(C11="",N(E11)+N(F11)=0),"",F11/(E11+F11)) | J11: =IF(OR(C11="",N(I11)=0),"",ROUND(N(E11)/I11,1))
G12: =IF(OR(C12="",N(D12)=0),"",E12/D12) | H12: =IF(OR(C12="",N(E12)+N(F12)=0),"",F12/(E12+F12)) | J12: =IF(OR(C12="",N(I12)=0),"",ROUND(N(E12)/I12,1))
G13: =IF(OR(C13="",N(D13)=0),"",E13/D13) | H13: =IF(OR(C13="",N(E13)+N(F13)=0),"",F13/(E13+F13)) | J13: =IF(OR(C13="",N(I13)=0),"",ROUND(N(E13)/I13,1))
G14: =IF(OR(C14="",N(D14)=0),"",E14/D14) | H14: =IF(OR(C14="",N(E14)+N(F14)=0),"",F14/(E14+F14)) | J14: =IF(OR(C14="",N(I14)=0),"",ROUND(N(E14)/I14,1))
G15: =IF(OR(C15="",N(D15)=0),"",E15/D15) | H15: =IF(OR(C15="",N(E15)+N(F15)=0),"",F15/(E15+F15)) | J15: =IF(OR(C15="",N(I15)=0),"",ROUND(N(E15)/I15,1))
G16: =IF(OR(C16="",N(D16)=0),"",E16/D16) | H16: =IF(OR(C16="",N(E16)+N(F16)=0),"",F16/(E16+F16)) | J16: =IF(OR(C16="",N(I16)=0),"",ROUND(N(E16)/I16,1))
G17: =IF(OR(C17="",N(D17)=0),"",E17/D17) | H17: =IF(OR(C17="",N(E17)+N(F17)=0),"",F17/(E17+F17)) | J17: =IF(OR(C17="",N(I17)=0),"",ROUND(N(E17)/I17,1))
G18: =IF(OR(C18="",N(D18)=0),"",E18/D18) | H18: =IF(OR(C18="",N(E18)+N(F18)=0),"",F18/(E18+F18)) | J18: =IF(OR(C18="",N(I18)=0),"",ROUND(N(E18)/I18,1))
G19: =IF(OR(C19="",N(D19)=0),"",E19/D19) | H19: =IF(OR(C19="",N(E19)+N(F19)=0),"",F19/(E19+F19)) | J19: =IF(OR(C19="",N(I19)=0),"",ROUND(N(E19)/I19,1))
... G300: =IF(OR(C300="",N(D300)=0),"",E300/D300) | H300: =IF(OR(C300="",N(E300)+N(F300)=0),"",F300/(E300+F300)) | J300: =IF(OR(C300="",N(I300)=0),"",ROUND(N(E300)/I300,1))

Sheet Summary
A1: Product | B1: Batches | C1: Planned | D1: Good | E1: Rejects | F1: Of plan | G1: Reject rate | H1: Labor hours | I1: Good an hour | J1: Downtime, min
A2: Honey almond granola bars | B2: =IF(A2="","",COUNTIF('Daily report'!$C$2:$C$300,A2)) -> 2 | C2: =IF(A2="","",SUMIF('Daily report'!$C$2:$C$300,A2,'Daily report'!$D$2:$D$300)) -> 1200 | D2: =IF(A2="","",SUMIF('Daily report'!$C$2:$C$300,A2,'Daily report'!$E$2:$E$300)) -> 1182 | E2: =IF(A2="","",SUMIF('Daily report'!$C$2:$C$300,A2,'Daily report'!$F$2:$F$300)) -> 18 | F2: =IF(OR(A2="",N(C2)=0),"",D2/C2) -> 0.985 | G2: =IF(OR(A2="",N(D2)+N(E2)=0),"",E2/(D2+E2)) -> 0.015 | H2: =IF(A2="","",SUMIF('Daily report'!$C$2:$C$300,A2,'Daily report'!$I$2:$I$300)) -> 11.75 | I2: =IF(OR(A2="",N(H2)=0),"",ROUND(N(D2)/H2,1)) -> 100.6 | J2: =IF(A2="","",SUMIF('Daily report'!$C$2:$C$300,A2,'Daily report'!$K$2:$K$300)) -> 0
A3: Dark chocolate cranberry bars | B3: =IF(A3="","",COUNTIF('Daily report'!$C$2:$C$300,A3)) -> 2 | C3: =IF(A3="","",SUMIF('Daily report'!$C$2:$C$300,A3,'Daily report'!$D$2:$D$300)) -> 1200 | D3: =IF(A3="","",SUMIF('Daily report'!$C$2:$C$300,A3,'Daily report'!$E$2:$E$300)) -> 1068 | E3: =IF(A3="","",SUMIF('Daily report'!$C$2:$C$300,A3,'Daily report'!$F$2:$F$300)) -> 42 | F3: =IF(OR(A3="",N(C3)=0),"",D3/C3) -> 0.89 | G3: =IF(OR(A3="",N(D3)+N(E3)=0),"",E3/(D3+E3)) -> 0.037837838 | H3: =IF(A3="","",SUMIF('Daily report'!$C$2:$C$300,A3,'Daily report'!$I$2:$I$300)) -> 13.5 | I3: =IF(OR(A3="",N(H3)=0),"",ROUND(N(D3)/H3,1)) -> 79.1 | J3: =IF(A3="","",SUMIF('Daily report'!$C$2:$C$300,A3,'Daily report'!$K$2:$K$300)) -> 70
A4: Trail mix, 8 oz bags | B4: =IF(A4="","",COUNTIF('Daily report'!$C$2:$C$300,A4)) -> 2 | C4: =IF(A4="","",SUMIF('Daily report'!$C$2:$C$300,A4,'Daily report'!$D$2:$D$300)) -> 800 | D4: =IF(A4="","",SUMIF('Daily report'!$C$2:$C$300,A4,'Daily report'!$E$2:$E$300)) -> 796 | E4: =IF(A4="","",SUMIF('Daily report'!$C$2:$C$300,A4,'Daily report'!$F$2:$F$300)) -> 4 | F4: =IF(OR(A4="",N(C4)=0),"",D4/C4) -> 0.995 | G4: =IF(OR(A4="",N(D4)+N(E4)=0),"",E4/(D4+E4)) -> 0.005 | H4: =IF(A4="","",SUMIF('Daily report'!$C$2:$C$300,A4,'Daily report'!$I$2:$I$300)) -> 6 | I4: =IF(OR(A4="",N(H4)=0),"",ROUND(N(D4)/H4,1)) -> 132.7 | J4: =IF(A4="","",SUMIF('Daily report'!$C$2:$C$300,A4,'Daily report'!$K$2:$K$300)) -> 10
B5: =IF(A5="","",COUNTIF('Daily report'!$C$2:$C$300,A5)) | C5: =IF(A5="","",SUMIF('Daily report'!$C$2:$C$300,A5,'Daily report'!$D$2:$D$300)) | D5: =IF(A5="","",SUMIF('Daily report'!$C$2:$C$300,A5,'Daily report'!$E$2:$E$300)) | E5: =IF(A5="","",SUMIF('Daily report'!$C$2:$C$300,A5,'Daily report'!$F$2:$F$300)) | F5: =IF(OR(A5="",N(C5)=0),"",D5/C5) | G5: =IF(OR(A5="",N(D5)+N(E5)=0),"",E5/(D5+E5)) | H5: =IF(A5="","",SUMIF('Daily report'!$C$2:$C$300,A5,'Daily report'!$I$2:$I$300)) | I5: =IF(OR(A5="",N(H5)=0),"",ROUND(N(D5)/H5,1)) | J5: =IF(A5="","",SUMIF('Daily report'!$C$2:$C$300,A5,'Daily report'!$K$2:$K$300))
B6: =IF(A6="","",COUNTIF('Daily report'!$C$2:$C$300,A6)) | C6: =IF(A6="","",SUMIF('Daily report'!$C$2:$C$300,A6,'Daily report'!$D$2:$D$300)) | D6: =IF(A6="","",SUMIF('Daily report'!$C$2:$C$300,A6,'Daily report'!$E$2:$E$300)) | E6: =IF(A6="","",SUMIF('Daily report'!$C$2:$C$300,A6,'Daily report'!$F$2:$F$300)) | F6: =IF(OR(A6="",N(C6)=0),"",D6/C6) | G6: =IF(OR(A6="",N(D6)+N(E6)=0),"",E6/(D6+E6)) | H6: =IF(A6="","",SUMIF('Daily report'!$C$2:$C$300,A6,'Daily report'!$I$2:$I$300)) | I6: =IF(OR(A6="",N(H6)=0),"",ROUND(N(D6)/H6,1)) | J6: =IF(A6="","",SUMIF('Daily report'!$C$2:$C$300,A6,'Daily report'!$K$2:$K$300))
B7: =IF(A7="","",COUNTIF('Daily report'!$C$2:$C$300,A7)) | C7: =IF(A7="","",SUMIF('Daily report'!$C$2:$C$300,A7,'Daily report'!$D$2:$D$300)) | D7: =IF(A7="","",SUMIF('Daily report'!$C$2:$C$300,A7,'Daily report'!$E$2:$E$300)) | E7: =IF(A7="","",SUMIF('Daily report'!$C$2:$C$300,A7,'Daily report'!$F$2:$F$300)) | F7: =IF(OR(A7="",N(C7)=0),"",D7/C7) | G7: =IF(OR(A7="",N(D7)+N(E7)=0),"",E7/(D7+E7)) | H7: =IF(A7="","",SUMIF('Daily report'!$C$2:$C$300,A7,'Daily report'!$I$2:$I$300)) | I7: =IF(OR(A7="",N(H7)=0),"",ROUND(N(D7)/H7,1)) | J7: =IF(A7="","",SUMIF('Daily report'!$C$2:$C$300,A7,'Daily report'!$K$2:$K$300))
B8: =IF(A8="","",COUNTIF('Daily report'!$C$2:$C$300,A8)) | C8: =IF(A8="","",SUMIF('Daily report'!$C$2:$C$300,A8,'Daily report'!$D$2:$D$300)) | D8: =IF(A8="","",SUMIF('Daily report'!$C$2:$C$300,A8,'Daily report'!$E$2:$E$300)) | E8: =IF(A8="","",SUMIF('Daily report'!$C$2:$C$300,A8,'Daily report'!$F$2:$F$300)) | F8: =IF(OR(A8="",N(C8)=0),"",D8/C8) | G8: =IF(OR(A8="",N(D8)+N(E8)=0),"",E8/(D8+E8)) | H8: =IF(A8="","",SUMIF('Daily report'!$C$2:$C$300,A8,'Daily report'!$I$2:$I$300)) | I8: =IF(OR(A8="",N(H8)=0),"",ROUND(N(D8)/H8,1)) | J8: =IF(A8="","",SUMIF('Daily report'!$C$2:$C$300,A8,'Daily report'!$K$2:$K$300))
B9: =IF(A9="","",COUNTIF('Daily report'!$C$2:$C$300,A9)) | C9: =IF(A9="","",SUMIF('Daily report'!$C$2:$C$300,A9,'Daily report'!$D$2:$D$300)) | D9: =IF(A9="","",SUMIF('Daily report'!$C$2:$C$300,A9,'Daily report'!$E$2:$E$300)) | E9: =IF(A9="","",SUMIF('Daily report'!$C$2:$C$300,A9,'Daily report'!$F$2:$F$300)) | F9: =IF(OR(A9="",N(C9)=0),"",D9/C9) | G9: =IF(OR(A9="",N(D9)+N(E9)=0),"",E9/(D9+E9)) | H9: =IF(A9="","",SUMIF('Daily report'!$C$2:$C$300,A9,'Daily report'!$I$2:$I$300)) | I9: =IF(OR(A9="",N(H9)=0),"",ROUND(N(D9)/H9,1)) | J9: =IF(A9="","",SUMIF('Daily report'!$C$2:$C$300,A9,'Daily report'!$K$2:$K$300))
B10: =IF(A10="","",COUNTIF('Daily report'!$C$2:$C$300,A10)) | C10: =IF(A10="","",SUMIF('Daily report'!$C$2:$C$300,A10,'Daily report'!$D$2:$D$300)) | D10: =IF(A10="","",SUMIF('Daily report'!$C$2:$C$300,A10,'Daily report'!$E$2:$E$300)) | E10: =IF(A10="","",SUMIF('Daily report'!$C$2:$C$300,A10,'Daily report'!$F$2:$F$300)) | F10: =IF(OR(A10="",N(C10)=0),"",D10/C10) | G10: =IF(OR(A10="",N(D10)+N(E10)=0),"",E10/(D10+E10)) | H10: =IF(A10="","",SUMIF('Daily report'!$C$2:$C$300,A10,'Daily report'!$I$2:$I$300)) | I10: =IF(OR(A10="",N(H10)=0),"",ROUND(N(D10)/H10,1)) | J10: =IF(A10="","",SUMIF('Daily report'!$C$2:$C$300,A10,'Daily report'!$K$2:$K$300))
B11: =IF(A11="","",COUNTIF('Daily report'!$C$2:$C$300,A11)) | C11: =IF(A11="","",SUMIF('Daily report'!$C$2:$C$300,A11,'Daily report'!$D$2:$D$300)) | D11: =IF(A11="","",SUMIF('Daily report'!$C$2:$C$300,A11,'Daily report'!$E$2:$E$300)) | E11: =IF(A11="","",SUMIF('Daily report'!$C$2:$C$300,A11,'Daily report'!$F$2:$F$300)) | F11: =IF(OR(A11="",N(C11)=0),"",D11/C11) | G11: =IF(OR(A11="",N(D11)+N(E11)=0),"",E11/(D11+E11)) | H11: =IF(A11="","",SUMIF('Daily report'!$C$2:$C$300,A11,'Daily report'!$I$2:$I$300)) | I11: =IF(OR(A11="",N(H11)=0),"",ROUND(N(D11)/H11,1)) | J11: =IF(A11="","",SUMIF('Daily report'!$C$2:$C$300,A11,'Daily report'!$K$2:$K$300))
B12: =IF(A12="","",COUNTIF('Daily report'!$C$2:$C$300,A12)) | C12: =IF(A12="","",SUMIF('Daily report'!$C$2:$C$300,A12,'Daily report'!$D$2:$D$300)) | D12: =IF(A12="","",SUMIF('Daily report'!$C$2:$C$300,A12,'Daily report'!$E$2:$E$300)) | E12: =IF(A12="","",SUMIF('Daily report'!$C$2:$C$300,A12,'Daily report'!$F$2:$F$300)) | F12: =IF(OR(A12="",N(C12)=0),"",D12/C12) | G12: =IF(OR(A12="",N(D12)+N(E12)=0),"",E12/(D12+E12)) | H12: =IF(A12="","",SUMIF('Daily report'!$C$2:$C$300,A12,'Daily report'!$I$2:$I$300)) | I12: =IF(OR(A12="",N(H12)=0),"",ROUND(N(D12)/H12,1)) | J12: =IF(A12="","",SUMIF('Daily report'!$C$2:$C$300,A12,'Daily report'!$K$2:$K$300))
B13: =IF(A13="","",COUNTIF('Daily report'!$C$2:$C$300,A13)) | C13: =IF(A13="","",SUMIF('Daily report'!$C$2:$C$300,A13,'Daily report'!$D$2:$D$300)) | D13: =IF(A13="","",SUMIF('Daily report'!$C$2:$C$300,A13,'Daily report'!$E$2:$E$300)) | E13: =IF(A13="","",SUMIF('Daily report'!$C$2:$C$300,A13,'Daily report'!$F$2:$F$300)) | F13: =IF(OR(A13="",N(C13)=0),"",D13/C13) | G13: =IF(OR(A13="",N(D13)+N(E13)=0),"",E13/(D13+E13)) | H13: =IF(A13="","",SUMIF('Daily report'!$C$2:$C$300,A13,'Daily report'!$I$2:$I$300)) | I13: =IF(OR(A13="",N(H13)=0),"",ROUND(N(D13)/H13,1)) | J13: =IF(A13="","",SUMIF('Daily report'!$C$2:$C$300,A13,'Daily report'!$K$2:$K$300))
B14: =IF(A14="","",COUNTIF('Daily report'!$C$2:$C$300,A14)) | C14: =IF(A14="","",SUMIF('Daily report'!$C$2:$C$300,A14,'Daily report'!$D$2:$D$300)) | D14: =IF(A14="","",SUMIF('Daily report'!$C$2:$C$300,A14,'Daily report'!$E$2:$E$300)) | E14: =IF(A14="","",SUMIF('Daily report'!$C$2:$C$300,A14,'Daily report'!$F$2:$F$300)) | F14: =IF(OR(A14="",N(C14)=0),"",D14/C14) | G14: =IF(OR(A14="",N(D14)+N(E14)=0),"",E14/(D14+E14)) | H14: =IF(A14="","",SUMIF('Daily report'!$C$2:$C$300,A14,'Daily report'!$I$2:$I$300)) | I14: =IF(OR(A14="",N(H14)=0),"",ROUND(N(D14)/H14,1)) | J14: =IF(A14="","",SUMIF('Daily report'!$C$2:$C$300,A14,'Daily report'!$K$2:$K$300))
B15: =IF(A15="","",COUNTIF('Daily report'!$C$2:$C$300,A15)) | C15: =IF(A15="","",SUMIF('Daily report'!$C$2:$C$300,A15,'Daily report'!$D$2:$D$300)) | D15: =IF(A15="","",SUMIF('Daily report'!$C$2:$C$300,A15,'Daily report'!$E$2:$E$300)) | E15: =IF(A15="","",SUMIF('Daily report'!$C$2:$C$300,A15,'Daily report'!$F$2:$F$300)) | F15: =IF(OR(A15="",N(C15)=0),"",D15/C15) | G15: =IF(OR(A15="",N(D15)+N(E15)=0),"",E15/(D15+E15)) | H15: =IF(A15="","",SUMIF('Daily report'!$C$2:$C$300,A15,'Daily report'!$I$2:$I$300)) | I15: =IF(OR(A15="",N(H15)=0),"",ROUND(N(D15)/H15,1)) | J15: =IF(A15="","",SUMIF('Daily report'!$C$2:$C$300,A15,'Daily report'!$K$2:$K$300))
B16: =IF(A16="","",COUNTIF('Daily report'!$C$2:$C$300,A16)) | C16: =IF(A16="","",SUMIF('Daily report'!$C$2:$C$300,A16,'Daily report'!$D$2:$D$300)) | D16: =IF(A16="","",SUMIF('Daily report'!$C$2:$C$300,A16,'Daily report'!$E$2:$E$300)) | E16: =IF(A16="","",SUMIF('Daily report'!$C$2:$C$300,A16,'Daily report'!$F$2:$F$300)) | F16: =IF(OR(A16="",N(C16)=0),"",D16/C16) | G16: =IF(OR(A16="",N(D16)+N(E16)=0),"",E16/(D16+E16)) | H16: =IF(A16="","",SUMIF('Daily report'!$C$2:$C$300,A16,'Daily report'!$I$2:$I$300)) | I16: =IF(OR(A16="",N(H16)=0),"",ROUND(N(D16)/H16,1)) | J16: =IF(A16="","",SUMIF('Daily report'!$C$2:$C$300,A16,'Daily report'!$K$2:$K$300))
... B30: =IF(A30="","",COUNTIF('Daily report'!$C$2:$C$300,A30)) | C30: =IF(A30="","",SUMIF('Daily report'!$C$2:$C$300,A30,'Daily report'!$D$2:$D$300)) | D30: =IF(A30="","",SUMIF('Daily report'!$C$2:$C$300,A30,'Daily report'!$E$2:$E$300)) | E30: =IF(A30="","",SUMIF('Daily report'!$C$2:$C$300,A30,'Daily report'!$F$2:$F$300)) | F30: =IF(OR(A30="",N(C30)=0),"",D30/C30) | G30: =IF(OR(A30="",N(D30)+N(E30)=0),"",E30/(D30+E30)) | H30: =IF(A30="","",SUMIF('Daily report'!$C$2:$C$300,A30,'Daily report'!$I$2:$I$300)) | I30: =IF(OR(A30="",N(H30)=0),"",ROUND(N(D30)/H30,1)) | J30: =IF(A30="","",SUMIF('Daily report'!$C$2:$C$300,A30,'Daily report'!$K$2:$K$300))

Sheet Read me
A1: Production report template
A2: From the article: https://www.tarostack.com/articles/production-report-template
A4: Daily report: one row for each batch, with the date, batch number, product, units planned, good units, rejects, labor hours, and downtime minutes with the reason. It works out the share of plan made, the reject rate, and good units an hour.
A5: Summary: list your products; it totals each one's batches, planned, good and rejected units, labor hours and downtime from the daily report, with the share of plan, reject rate and good units an hour.
A7: Works in Excel (2010 and later), Google Sheets, LibreOffice and Numbers. No macros.
A8: Free to use and change. Made by TaroStack, inventory and production software for small producers: https://www.tarostack.com
