Workbook

Sheet Read me
A1: Price increase template
A2: From the article: https://www.tarostack.com/articles/price-increase-letter
A4: New prices: each product's cost was, cost now and price now. It works out the price that passes the cost increase on in dollars and the price that keeps your margin; type the price you choose, and it shows the new margin and the change.
A5: One customer: a customer's usual monthly order, priced now and at the new prices, with the difference in dollars and percent. Copy the sheet for each customer.
A6: Letter: the letter from the article, with blanks in [brackets] to fill in.
A8: Works in Excel (2010 and later), Google Sheets, LibreOffice and Numbers. No macros.
A9: Free to use and change. Made by TaroStack, inventory and production software for small producers: https://www.tarostack.com

Sheet New prices
A1: Product | B1: Cost was | C1: Cost now | D1: Price now | E1: Margin now | F1: Pass on the cost | G1: Keep the margin | H1: New price | I1: New margin | J1: Change
A2: Taro sweet bread, wholesale loaf | B2: 4.91 | C2: 5.24 | D2: 7.25 | E2: =IF(OR(B2="",N(D2)=0),"",(D2-B2)/D2) -> 0.32275862 | F2: =IF(OR(B2="",C2="",D2=""),"",ROUND(D2+C2-B2,2)) -> 7.58 | G2: =IF(OR(E2="",C2=""),"",ROUND(C2/(1-E2),2)) -> 7.74 | H2: 7.75 | I2: =IF(OR(C2="",N(H2)=0),"",(H2-C2)/H2) -> 0.32387097 | J2: =IF(OR(N(D2)=0,H2=""),"",H2/D2-1) -> 0.068965517
A3: Taro chips, 5 oz, to a store | B3: 2.1 | C3: 2.27 | D3: 4.54 | E3: =IF(OR(B3="",N(D3)=0),"",(D3-B3)/D3) -> 0.53744493 | F3: =IF(OR(B3="",C3="",D3=""),"",ROUND(D3+C3-B3,2)) -> 4.71 | G3: =IF(OR(E3="",C3=""),"",ROUND(C3/(1-E3),2)) -> 4.91 | H3: 4.75 | I3: =IF(OR(C3="",N(H3)=0),"",(H3-C3)/H3) -> 0.52210526 | J3: =IF(OR(N(D3)=0,H3=""),"",H3/D3-1) -> 0.046255507
A4: Guava jam, 8 oz, wholesale | B4: 5.22 | C4: 5.48 | D4: 7.25 | E4: =IF(OR(B4="",N(D4)=0),"",(D4-B4)/D4) -> 0.28 | F4: =IF(OR(B4="",C4="",D4=""),"",ROUND(D4+C4-B4,2)) -> 7.51 | G4: =IF(OR(E4="",C4=""),"",ROUND(C4/(1-E4),2)) -> 7.61 | H4: 7.25 | I4: =IF(OR(C4="",N(H4)=0),"",(H4-C4)/H4) -> 0.24413793 | J4: =IF(OR(N(D4)=0,H4=""),"",H4/D4-1) -> 0
E5: =IF(OR(B5="",N(D5)=0),"",(D5-B5)/D5) | F5: =IF(OR(B5="",C5="",D5=""),"",ROUND(D5+C5-B5,2)) | G5: =IF(OR(E5="",C5=""),"",ROUND(C5/(1-E5),2)) | I5: =IF(OR(C5="",N(H5)=0),"",(H5-C5)/H5) | J5: =IF(OR(N(D5)=0,H5=""),"",H5/D5-1)
E6: =IF(OR(B6="",N(D6)=0),"",(D6-B6)/D6) | F6: =IF(OR(B6="",C6="",D6=""),"",ROUND(D6+C6-B6,2)) | G6: =IF(OR(E6="",C6=""),"",ROUND(C6/(1-E6),2)) | I6: =IF(OR(C6="",N(H6)=0),"",(H6-C6)/H6) | J6: =IF(OR(N(D6)=0,H6=""),"",H6/D6-1)
E7: =IF(OR(B7="",N(D7)=0),"",(D7-B7)/D7) | F7: =IF(OR(B7="",C7="",D7=""),"",ROUND(D7+C7-B7,2)) | G7: =IF(OR(E7="",C7=""),"",ROUND(C7/(1-E7),2)) | I7: =IF(OR(C7="",N(H7)=0),"",(H7-C7)/H7) | J7: =IF(OR(N(D7)=0,H7=""),"",H7/D7-1)
E8: =IF(OR(B8="",N(D8)=0),"",(D8-B8)/D8) | F8: =IF(OR(B8="",C8="",D8=""),"",ROUND(D8+C8-B8,2)) | G8: =IF(OR(E8="",C8=""),"",ROUND(C8/(1-E8),2)) | I8: =IF(OR(C8="",N(H8)=0),"",(H8-C8)/H8) | J8: =IF(OR(N(D8)=0,H8=""),"",H8/D8-1)
E9: =IF(OR(B9="",N(D9)=0),"",(D9-B9)/D9) | F9: =IF(OR(B9="",C9="",D9=""),"",ROUND(D9+C9-B9,2)) | G9: =IF(OR(E9="",C9=""),"",ROUND(C9/(1-E9),2)) | I9: =IF(OR(C9="",N(H9)=0),"",(H9-C9)/H9) | J9: =IF(OR(N(D9)=0,H9=""),"",H9/D9-1)
E10: =IF(OR(B10="",N(D10)=0),"",(D10-B10)/D10) | F10: =IF(OR(B10="",C10="",D10=""),"",ROUND(D10+C10-B10,2)) | G10: =IF(OR(E10="",C10=""),"",ROUND(C10/(1-E10),2)) | I10: =IF(OR(C10="",N(H10)=0),"",(H10-C10)/H10) | J10: =IF(OR(N(D10)=0,H10=""),"",H10/D10-1)
E11: =IF(OR(B11="",N(D11)=0),"",(D11-B11)/D11) | F11: =IF(OR(B11="",C11="",D11=""),"",ROUND(D11+C11-B11,2)) | G11: =IF(OR(E11="",C11=""),"",ROUND(C11/(1-E11),2)) | I11: =IF(OR(C11="",N(H11)=0),"",(H11-C11)/H11) | J11: =IF(OR(N(D11)=0,H11=""),"",H11/D11-1)
E12: =IF(OR(B12="",N(D12)=0),"",(D12-B12)/D12) | F12: =IF(OR(B12="",C12="",D12=""),"",ROUND(D12+C12-B12,2)) | G12: =IF(OR(E12="",C12=""),"",ROUND(C12/(1-E12),2)) | I12: =IF(OR(C12="",N(H12)=0),"",(H12-C12)/H12) | J12: =IF(OR(N(D12)=0,H12=""),"",H12/D12-1)
E13: =IF(OR(B13="",N(D13)=0),"",(D13-B13)/D13) | F13: =IF(OR(B13="",C13="",D13=""),"",ROUND(D13+C13-B13,2)) | G13: =IF(OR(E13="",C13=""),"",ROUND(C13/(1-E13),2)) | I13: =IF(OR(C13="",N(H13)=0),"",(H13-C13)/H13) | J13: =IF(OR(N(D13)=0,H13=""),"",H13/D13-1)
E14: =IF(OR(B14="",N(D14)=0),"",(D14-B14)/D14) | F14: =IF(OR(B14="",C14="",D14=""),"",ROUND(D14+C14-B14,2)) | G14: =IF(OR(E14="",C14=""),"",ROUND(C14/(1-E14),2)) | I14: =IF(OR(C14="",N(H14)=0),"",(H14-C14)/H14) | J14: =IF(OR(N(D14)=0,H14=""),"",H14/D14-1)
E15: =IF(OR(B15="",N(D15)=0),"",(D15-B15)/D15) | F15: =IF(OR(B15="",C15="",D15=""),"",ROUND(D15+C15-B15,2)) | G15: =IF(OR(E15="",C15=""),"",ROUND(C15/(1-E15),2)) | I15: =IF(OR(C15="",N(H15)=0),"",(H15-C15)/H15) | J15: =IF(OR(N(D15)=0,H15=""),"",H15/D15-1)
E16: =IF(OR(B16="",N(D16)=0),"",(D16-B16)/D16) | F16: =IF(OR(B16="",C16="",D16=""),"",ROUND(D16+C16-B16,2)) | G16: =IF(OR(E16="",C16=""),"",ROUND(C16/(1-E16),2)) | I16: =IF(OR(C16="",N(H16)=0),"",(H16-C16)/H16) | J16: =IF(OR(N(D16)=0,H16=""),"",H16/D16-1)
... E40: =IF(OR(B40="",N(D40)=0),"",(D40-B40)/D40) | F40: =IF(OR(B40="",C40="",D40=""),"",ROUND(D40+C40-B40,2)) | G40: =IF(OR(E40="",C40=""),"",ROUND(C40/(1-E40),2)) | I40: =IF(OR(C40="",N(H40)=0),"",(H40-C40)/H40) | J40: =IF(OR(N(D40)=0,H40=""),"",H40/D40-1)
A42: Type the new price you choose in column H. A new margin below the margin now turns red.

Sheet One customer
A1: Customer | B1: Corner Market
A3: Product (as on New prices) | B3: Usual quantity a month | C3: Price now | D3: New price | E3: Total now | F3: New total
A4: Taro sweet bread, wholesale loaf | B4: 40 | C4: =IF(A4="","",IFERROR(VLOOKUP(A4,'New prices'!$A$2:$H$40,4,0),"")) -> 7.25 | D4: =IF(A4="","",IFERROR(VLOOKUP(A4,'New prices'!$A$2:$H$40,8,0),"")) -> 7.75 | E4: =IF(OR(N(B4)=0,C4=""),"",B4*C4) -> 290 | F4: =IF(OR(N(B4)=0,D4=""),"",B4*D4) -> 310
A5: Taro chips, 5 oz, to a store | B5: 120 | C5: =IF(A5="","",IFERROR(VLOOKUP(A5,'New prices'!$A$2:$H$40,4,0),"")) -> 4.54 | D5: =IF(A5="","",IFERROR(VLOOKUP(A5,'New prices'!$A$2:$H$40,8,0),"")) -> 4.75 | E5: =IF(OR(N(B5)=0,C5=""),"",B5*C5) -> 544.8 | F5: =IF(OR(N(B5)=0,D5=""),"",B5*D5) -> 570
A6: Guava jam, 8 oz, wholesale | B6: 24 | C6: =IF(A6="","",IFERROR(VLOOKUP(A6,'New prices'!$A$2:$H$40,4,0),"")) -> 7.25 | D6: =IF(A6="","",IFERROR(VLOOKUP(A6,'New prices'!$A$2:$H$40,8,0),"")) -> 7.25 | E6: =IF(OR(N(B6)=0,C6=""),"",B6*C6) -> 174 | F6: =IF(OR(N(B6)=0,D6=""),"",B6*D6) -> 174
C7: =IF(A7="","",IFERROR(VLOOKUP(A7,'New prices'!$A$2:$H$40,4,0),"")) | D7: =IF(A7="","",IFERROR(VLOOKUP(A7,'New prices'!$A$2:$H$40,8,0),"")) | E7: =IF(OR(N(B7)=0,C7=""),"",B7*C7) | F7: =IF(OR(N(B7)=0,D7=""),"",B7*D7)
C8: =IF(A8="","",IFERROR(VLOOKUP(A8,'New prices'!$A$2:$H$40,4,0),"")) | D8: =IF(A8="","",IFERROR(VLOOKUP(A8,'New prices'!$A$2:$H$40,8,0),"")) | E8: =IF(OR(N(B8)=0,C8=""),"",B8*C8) | F8: =IF(OR(N(B8)=0,D8=""),"",B8*D8)
C9: =IF(A9="","",IFERROR(VLOOKUP(A9,'New prices'!$A$2:$H$40,4,0),"")) | D9: =IF(A9="","",IFERROR(VLOOKUP(A9,'New prices'!$A$2:$H$40,8,0),"")) | E9: =IF(OR(N(B9)=0,C9=""),"",B9*C9) | F9: =IF(OR(N(B9)=0,D9=""),"",B9*D9)
C10: =IF(A10="","",IFERROR(VLOOKUP(A10,'New prices'!$A$2:$H$40,4,0),"")) | D10: =IF(A10="","",IFERROR(VLOOKUP(A10,'New prices'!$A$2:$H$40,8,0),"")) | E10: =IF(OR(N(B10)=0,C10=""),"",B10*C10) | F10: =IF(OR(N(B10)=0,D10=""),"",B10*D10)
C11: =IF(A11="","",IFERROR(VLOOKUP(A11,'New prices'!$A$2:$H$40,4,0),"")) | D11: =IF(A11="","",IFERROR(VLOOKUP(A11,'New prices'!$A$2:$H$40,8,0),"")) | E11: =IF(OR(N(B11)=0,C11=""),"",B11*C11) | F11: =IF(OR(N(B11)=0,D11=""),"",B11*D11)
C12: =IF(A12="","",IFERROR(VLOOKUP(A12,'New prices'!$A$2:$H$40,4,0),"")) | D12: =IF(A12="","",IFERROR(VLOOKUP(A12,'New prices'!$A$2:$H$40,8,0),"")) | E12: =IF(OR(N(B12)=0,C12=""),"",B12*C12) | F12: =IF(OR(N(B12)=0,D12=""),"",B12*D12)
C13: =IF(A13="","",IFERROR(VLOOKUP(A13,'New prices'!$A$2:$H$40,4,0),"")) | D13: =IF(A13="","",IFERROR(VLOOKUP(A13,'New prices'!$A$2:$H$40,8,0),"")) | E13: =IF(OR(N(B13)=0,C13=""),"",B13*C13) | F13: =IF(OR(N(B13)=0,D13=""),"",B13*D13)
C14: =IF(A14="","",IFERROR(VLOOKUP(A14,'New prices'!$A$2:$H$40,4,0),"")) | D14: =IF(A14="","",IFERROR(VLOOKUP(A14,'New prices'!$A$2:$H$40,8,0),"")) | E14: =IF(OR(N(B14)=0,C14=""),"",B14*C14) | F14: =IF(OR(N(B14)=0,D14=""),"",B14*D14)
C15: =IF(A15="","",IFERROR(VLOOKUP(A15,'New prices'!$A$2:$H$40,4,0),"")) | D15: =IF(A15="","",IFERROR(VLOOKUP(A15,'New prices'!$A$2:$H$40,8,0),"")) | E15: =IF(OR(N(B15)=0,C15=""),"",B15*C15) | F15: =IF(OR(N(B15)=0,D15=""),"",B15*D15)
C16: =IF(A16="","",IFERROR(VLOOKUP(A16,'New prices'!$A$2:$H$40,4,0),"")) | D16: =IF(A16="","",IFERROR(VLOOKUP(A16,'New prices'!$A$2:$H$40,8,0),"")) | E16: =IF(OR(N(B16)=0,C16=""),"",B16*C16) | F16: =IF(OR(N(B16)=0,D16=""),"",B16*D16)
C17: =IF(A17="","",IFERROR(VLOOKUP(A17,'New prices'!$A$2:$H$40,4,0),"")) | D17: =IF(A17="","",IFERROR(VLOOKUP(A17,'New prices'!$A$2:$H$40,8,0),"")) | E17: =IF(OR(N(B17)=0,C17=""),"",B17*C17) | F17: =IF(OR(N(B17)=0,D17=""),"",B17*D17)
C18: =IF(A18="","",IFERROR(VLOOKUP(A18,'New prices'!$A$2:$H$40,4,0),"")) | D18: =IF(A18="","",IFERROR(VLOOKUP(A18,'New prices'!$A$2:$H$40,8,0),"")) | E18: =IF(OR(N(B18)=0,C18=""),"",B18*C18) | F18: =IF(OR(N(B18)=0,D18=""),"",B18*D18)
... C23: =IF(A23="","",IFERROR(VLOOKUP(A23,'New prices'!$A$2:$H$40,4,0),"")) | D23: =IF(A23="","",IFERROR(VLOOKUP(A23,'New prices'!$A$2:$H$40,8,0),"")) | E23: =IF(OR(N(B23)=0,C23=""),"",B23*C23) | F23: =IF(OR(N(B23)=0,D23=""),"",B23*D23)
A25: Total a month | E25: =SUM(E4:E23) -> 1008.8 | F25: =SUM(F4:F23) -> 1054
A26: More a month | F26: =F25-E25 -> 45.2
A27: Change | F27: =IF(N(E25)=0,"",F25/E25-1) -> 0.04480571
A29: Type product names exactly as on the New prices sheet. Copy this sheet for each customer.

Sheet Letter
A1: Subject: New wholesale prices from [date]
A3: Hi [name],
A5: Thank you for stocking [your business] this past year. I'm writing to let you know that some of our wholesale prices will change on [date].
A7: Since [when], what we pay for [what went up] has gone up, and we've held our prices as long as we could. From [date]:
A9: - [Product]: [price now], now [new price]
A10: - [Product]: [price now], now [new price]
A11: - [Product]: unchanged at [price]
A13: On your usual monthly order, that's about [amount] more. Any order placed before [date] is at today's prices.
A15: Nothing else changes: same recipes, same ingredients, same [delivery day] delivery. If you'd like to talk it through, reply to this email or call me at [number].
A17: Thank you,
A19: [Your name], [your business]
