Workbook

Sheet Orders
A1: Meal | B1: Meals ordered | D1: Total meals
A2: Kalua pork with taro | B2: 84 | D2: =SUM(B2:B30) -> 180
A3: Shoyu chicken | B3: 62
A4: Vegetable bowl | B4: 34

Sheet Portions
A1: Meal | B1: Component | C1: Grams per meal | D1: Meals ordered | E1: Grams needed
A2: Kalua pork with taro | B2: Kalua pork | C2: 140 | D2: =IF(A2="","",IFERROR(VLOOKUP(A2,Orders!A:B,2,FALSE),0)) -> 84 | E2: =IF(A2="","",C2*D2) -> 11760
A3: Kalua pork with taro | B3: Steamed taro | C3: 120 | D3: =IF(A3="","",IFERROR(VLOOKUP(A3,Orders!A:B,2,FALSE),0)) -> 84 | E3: =IF(A3="","",C3*D3) -> 10080
A4: Kalua pork with taro | B4: Greens | C4: 60 | D4: =IF(A4="","",IFERROR(VLOOKUP(A4,Orders!A:B,2,FALSE),0)) -> 84 | E4: =IF(A4="","",C4*D4) -> 5040
A5: Shoyu chicken | B5: Shoyu chicken | C5: 150 | D5: =IF(A5="","",IFERROR(VLOOKUP(A5,Orders!A:B,2,FALSE),0)) -> 62 | E5: =IF(A5="","",C5*D5) -> 9300
A6: Shoyu chicken | B6: Rice | C6: 180 | D6: =IF(A6="","",IFERROR(VLOOKUP(A6,Orders!A:B,2,FALSE),0)) -> 62 | E6: =IF(A6="","",C6*D6) -> 11160
A7: Shoyu chicken | B7: Greens | C7: 60 | D7: =IF(A7="","",IFERROR(VLOOKUP(A7,Orders!A:B,2,FALSE),0)) -> 62 | E7: =IF(A7="","",C7*D7) -> 3720
A8: Shoyu chicken | B8: Shoyu sauce | C8: 40 | D8: =IF(A8="","",IFERROR(VLOOKUP(A8,Orders!A:B,2,FALSE),0)) -> 62 | E8: =IF(A8="","",C8*D8) -> 2480
A9: Vegetable bowl | B9: Steamed taro | C9: 120 | D9: =IF(A9="","",IFERROR(VLOOKUP(A9,Orders!A:B,2,FALSE),0)) -> 34 | E9: =IF(A9="","",C9*D9) -> 4080
A10: Vegetable bowl | B10: Rice | C10: 180 | D10: =IF(A10="","",IFERROR(VLOOKUP(A10,Orders!A:B,2,FALSE),0)) -> 34 | E10: =IF(A10="","",C10*D10) -> 6120
A11: Vegetable bowl | B11: Roasted vegetables | C11: 150 | D11: =IF(A11="","",IFERROR(VLOOKUP(A11,Orders!A:B,2,FALSE),0)) -> 34 | E11: =IF(A11="","",C11*D11) -> 5100
D12: =IF(A12="","",IFERROR(VLOOKUP(A12,Orders!A:B,2,FALSE),0)) | E12: =IF(A12="","",C12*D12)
D13: =IF(A13="","",IFERROR(VLOOKUP(A13,Orders!A:B,2,FALSE),0)) | E13: =IF(A13="","",C13*D13)
D14: =IF(A14="","",IFERROR(VLOOKUP(A14,Orders!A:B,2,FALSE),0)) | E14: =IF(A14="","",C14*D14)
D15: =IF(A15="","",IFERROR(VLOOKUP(A15,Orders!A:B,2,FALSE),0)) | E15: =IF(A15="","",C15*D15)
D16: =IF(A16="","",IFERROR(VLOOKUP(A16,Orders!A:B,2,FALSE),0)) | E16: =IF(A16="","",C16*D16)
D17: =IF(A17="","",IFERROR(VLOOKUP(A17,Orders!A:B,2,FALSE),0)) | E17: =IF(A17="","",C17*D17)
D18: =IF(A18="","",IFERROR(VLOOKUP(A18,Orders!A:B,2,FALSE),0)) | E18: =IF(A18="","",C18*D18)
D19: =IF(A19="","",IFERROR(VLOOKUP(A19,Orders!A:B,2,FALSE),0)) | E19: =IF(A19="","",C19*D19)
D20: =IF(A20="","",IFERROR(VLOOKUP(A20,Orders!A:B,2,FALSE),0)) | E20: =IF(A20="","",C20*D20)
D21: =IF(A21="","",IFERROR(VLOOKUP(A21,Orders!A:B,2,FALSE),0)) | E21: =IF(A21="","",C21*D21)
D22: =IF(A22="","",IFERROR(VLOOKUP(A22,Orders!A:B,2,FALSE),0)) | E22: =IF(A22="","",C22*D22)
D23: =IF(A23="","",IFERROR(VLOOKUP(A23,Orders!A:B,2,FALSE),0)) | E23: =IF(A23="","",C23*D23)
... D60: =IF(A60="","",IFERROR(VLOOKUP(A60,Orders!A:B,2,FALSE),0)) | E60: =IF(A60="","",C60*D60)

Sheet Prep list
A1: Component | B1: Cooked needed, kg | C1: Overage | D1: With overage, kg | E1: Already prepped, kg | F1: To prep, cooked kg | G1: Yield (cooked ÷ raw) | H1: Raw to start with, kg | I1: Day | J1: Who | K1: Done
A2: Kalua pork | B2: =IF(A2="","",SUMIF(Portions!B:B,A2,Portions!E:E)/1000) -> 11.76 | C2: 0.05 | D2: =IF(A2="","",B2*(1+N(C2))) -> 12.348 | E2: 0 | F2: =IF(A2="","",MAX(0,D2-N(E2))) -> 12.348 | G2: 0.6 | H2: =IF(OR(A2="",N(G2)=0),"",F2/G2) -> 20.58 | I2: Friday | J2: KL
A3: Shoyu sauce | B3: =IF(A3="","",SUMIF(Portions!B:B,A3,Portions!E:E)/1000) -> 2.48 | C3: 0.05 | D3: =IF(A3="","",B3*(1+N(C3))) -> 2.604 | E3: 1.2 | F3: =IF(A3="","",MAX(0,D3-N(E3))) -> 1.404 | G3: 1 | H3: =IF(OR(A3="",N(G3)=0),"",F3/G3) -> 1.404 | I3: Friday | J3: KL
A4: Shoyu chicken | B4: =IF(A4="","",SUMIF(Portions!B:B,A4,Portions!E:E)/1000) -> 9.3 | C4: 0.05 | D4: =IF(A4="","",B4*(1+N(C4))) -> 9.765 | E4: 0 | F4: =IF(A4="","",MAX(0,D4-N(E4))) -> 9.765 | G4: 0.7 | H4: =IF(OR(A4="",N(G4)=0),"",F4/G4) -> 13.95 | I4: Saturday | J4: LH
A5: Steamed taro | B5: =IF(A5="","",SUMIF(Portions!B:B,A5,Portions!E:E)/1000) -> 14.16 | C5: 0.05 | D5: =IF(A5="","",B5*(1+N(C5))) -> 14.868 | E5: 0 | F5: =IF(A5="","",MAX(0,D5-N(E5))) -> 14.868 | G5: 0.75 | H5: =IF(OR(A5="",N(G5)=0),"",F5/G5) -> 19.824 | I5: Saturday | J5: LH
A6: Rice | B6: =IF(A6="","",SUMIF(Portions!B:B,A6,Portions!E:E)/1000) -> 17.28 | C6: 0.05 | D6: =IF(A6="","",B6*(1+N(C6))) -> 18.144 | E6: 0 | F6: =IF(A6="","",MAX(0,D6-N(E6))) -> 18.144 | G6: 2.5 | H6: =IF(OR(A6="",N(G6)=0),"",F6/G6) -> 7.2576 | I6: Saturday | J6: LH
A7: Roasted vegetables | B7: =IF(A7="","",SUMIF(Portions!B:B,A7,Portions!E:E)/1000) -> 5.1 | C7: 0.05 | D7: =IF(A7="","",B7*(1+N(C7))) -> 5.355 | E7: 0 | F7: =IF(A7="","",MAX(0,D7-N(E7))) -> 5.355 | G7: 0.85 | H7: =IF(OR(A7="",N(G7)=0),"",F7/G7) -> 6.3 | I7: Saturday | J7: KL
A8: Greens | B8: =IF(A8="","",SUMIF(Portions!B:B,A8,Portions!E:E)/1000) -> 8.76 | C8: 0.05 | D8: =IF(A8="","",B8*(1+N(C8))) -> 9.198 | E8: 0 | F8: =IF(A8="","",MAX(0,D8-N(E8))) -> 9.198 | G8: 0.9 | H8: =IF(OR(A8="",N(G8)=0),"",F8/G8) -> 10.22 | I8: Sunday | J8: KL
B9: =IF(A9="","",SUMIF(Portions!B:B,A9,Portions!E:E)/1000) | D9: =IF(A9="","",B9*(1+N(C9))) | F9: =IF(A9="","",MAX(0,D9-N(E9))) | H9: =IF(OR(A9="",N(G9)=0),"",F9/G9)
B10: =IF(A10="","",SUMIF(Portions!B:B,A10,Portions!E:E)/1000) | D10: =IF(A10="","",B10*(1+N(C10))) | F10: =IF(A10="","",MAX(0,D10-N(E10))) | H10: =IF(OR(A10="",N(G10)=0),"",F10/G10)
B11: =IF(A11="","",SUMIF(Portions!B:B,A11,Portions!E:E)/1000) | D11: =IF(A11="","",B11*(1+N(C11))) | F11: =IF(A11="","",MAX(0,D11-N(E11))) | H11: =IF(OR(A11="",N(G11)=0),"",F11/G11)
B12: =IF(A12="","",SUMIF(Portions!B:B,A12,Portions!E:E)/1000) | D12: =IF(A12="","",B12*(1+N(C12))) | F12: =IF(A12="","",MAX(0,D12-N(E12))) | H12: =IF(OR(A12="",N(G12)=0),"",F12/G12)
B13: =IF(A13="","",SUMIF(Portions!B:B,A13,Portions!E:E)/1000) | D13: =IF(A13="","",B13*(1+N(C13))) | F13: =IF(A13="","",MAX(0,D13-N(E13))) | H13: =IF(OR(A13="",N(G13)=0),"",F13/G13)
B14: =IF(A14="","",SUMIF(Portions!B:B,A14,Portions!E:E)/1000) | D14: =IF(A14="","",B14*(1+N(C14))) | F14: =IF(A14="","",MAX(0,D14-N(E14))) | H14: =IF(OR(A14="",N(G14)=0),"",F14/G14)
B15: =IF(A15="","",SUMIF(Portions!B:B,A15,Portions!E:E)/1000) | D15: =IF(A15="","",B15*(1+N(C15))) | F15: =IF(A15="","",MAX(0,D15-N(E15))) | H15: =IF(OR(A15="",N(G15)=0),"",F15/G15)
B16: =IF(A16="","",SUMIF(Portions!B:B,A16,Portions!E:E)/1000) | D16: =IF(A16="","",B16*(1+N(C16))) | F16: =IF(A16="","",MAX(0,D16-N(E16))) | H16: =IF(OR(A16="",N(G16)=0),"",F16/G16)
B17: =IF(A17="","",SUMIF(Portions!B:B,A17,Portions!E:E)/1000) | D17: =IF(A17="","",B17*(1+N(C17))) | F17: =IF(A17="","",MAX(0,D17-N(E17))) | H17: =IF(OR(A17="",N(G17)=0),"",F17/G17)
B18: =IF(A18="","",SUMIF(Portions!B:B,A18,Portions!E:E)/1000) | D18: =IF(A18="","",B18*(1+N(C18))) | F18: =IF(A18="","",MAX(0,D18-N(E18))) | H18: =IF(OR(A18="",N(G18)=0),"",F18/G18)
B19: =IF(A19="","",SUMIF(Portions!B:B,A19,Portions!E:E)/1000) | D19: =IF(A19="","",B19*(1+N(C19))) | F19: =IF(A19="","",MAX(0,D19-N(E19))) | H19: =IF(OR(A19="",N(G19)=0),"",F19/G19)
B20: =IF(A20="","",SUMIF(Portions!B:B,A20,Portions!E:E)/1000) | D20: =IF(A20="","",B20*(1+N(C20))) | F20: =IF(A20="","",MAX(0,D20-N(E20))) | H20: =IF(OR(A20="",N(G20)=0),"",F20/G20)
... B40: =IF(A40="","",SUMIF(Portions!B:B,A40,Portions!E:E)/1000) | D40: =IF(A40="","",B40*(1+N(C40))) | F40: =IF(A40="","",MAX(0,D40-N(E40))) | H40: =IF(OR(A40="",N(G40)=0),"",F40/G40)

Sheet Read me
A1: Prep list template
A2: From the article: https://www.tarostack.com/articles/prep-list-template
A4: Orders: each meal and how many were ordered this week.
A5: Portions: what goes into each meal, in grams of the finished, cooked component. Meals ordered fills in from Orders.
A6: Prep list: one row per component. Cooked needed adds up the portions; overage is the extra you make for spills and tasting; already prepped is what's in the walk-in from earlier, in cooked weight. Yield is cooked weight divided by raw weight: under 100% for meat and vegetables that lose weight, over 100% for rice that gains it. Raw to start with is what to weigh out.
A7: The yields are examples. Weigh your own before and after, a few times, and use those.
A9: Works in Excel (2010 and later), Google Sheets, LibreOffice and Numbers. No macros.
A10: Free to use and change. Made by TaroStack, inventory and production software for small producers: https://www.tarostack.com
