Workbook

Sheet Orders
A1: Order | B1: Customer | C1: Item | D1: Cases
A2: SO-1187 | B2: Valley Market | C2: Original hot sauce, case of 12 | D2: 10
A3: SO-1187 | B3: Valley Market | C3: Smoked habanero, case of 12 | D3: 6
A4: SO-1187 | B4: Valley Market | C4: Green chile, case of 12 | D4: 4
A5: SO-1188 | B5: Shenandoah Grocer | C5: Original hot sauce, case of 12 | D5: 8
A6: SO-1188 | B6: Shenandoah Grocer | C6: Smoked habanero, case of 12 | D6: 3
A7: SO-1189 | B7: Blacksburg Co-op | C7: Green chile, case of 12 | D7: 6
A8: SO-1189 | B8: Blacksburg Co-op | C8: Original hot sauce, case of 12 | D8: 4

Sheet Stock
A1: Lot | B1: Item | C1: Bin | D1: Best by | E1: Cases on hand
A2: L2610-03 | B2: Original hot sauce, case of 12 | C2: A1 | D2: 46661 | E2: 30
A3: L2609-14 | B3: Smoked habanero, case of 12 | C3: A2 | D3: 46645 | E3: 4
A4: L2610-01 | B4: Green chile, case of 12 | C4: A3 | D4: 46661 | E4: 20

Sheet Pick list
A1: Item | B1: Lot to pick from | C1: Bin | D1: Best by | E1: Cases in lot | F1: Ordered, all orders | G1: Pick from this lot | H1: Still to pick | I1: Picked | J1: Short
A2: Original hot sauce, case of 12 | B2: L2610-03 | C2: =IF(B2="","",IFERROR(VLOOKUP(B2,Stock!$A$2:$E$200,3,FALSE),"")) -> A1 | D2: =IF(B2="","",IFERROR(VLOOKUP(B2,Stock!$A$2:$E$200,4,FALSE),"")) -> 46661 | E2: =IF(B2="","",IFERROR(VLOOKUP(B2,Stock!$A$2:$E$200,5,FALSE),0)) -> 30 | F2: =IF(A2="","",SUMIF(Orders!$C$2:$C$200,A2,Orders!$D$2:$D$200)) -> 22 | G2: =IF(OR(A2="",B2=""),"",MIN(N(E2),MAX(0,N(F2)-0))) -> 22 | H2: =IF(OR(A2="",B2=""),"",MAX(0,N(F2)-0-N(G2))) -> 0 | J2: =IF(H2="","",IF(AND(N(H2)>0,COUNTIF($A3:$A$100,A2)=0),"Short "&H2,""))
A3: Smoked habanero, case of 12 | B3: L2609-14 | C3: =IF(B3="","",IFERROR(VLOOKUP(B3,Stock!$A$2:$E$200,3,FALSE),"")) -> A2 | D3: =IF(B3="","",IFERROR(VLOOKUP(B3,Stock!$A$2:$E$200,4,FALSE),"")) -> 46645 | E3: =IF(B3="","",IFERROR(VLOOKUP(B3,Stock!$A$2:$E$200,5,FALSE),0)) -> 4 | F3: =IF(A3="","",SUMIF(Orders!$C$2:$C$200,A3,Orders!$D$2:$D$200)) -> 9 | G3: =IF(OR(A3="",B3=""),"",MIN(N(E3),MAX(0,N(F3)-SUMIF($A$2:A2,A3,$G$2:G2)))) -> 4 | H3: =IF(OR(A3="",B3=""),"",MAX(0,N(F3)-SUMIF($A$2:A2,A3,$G$2:G2)-N(G3))) -> 5 | J3: =IF(H3="","",IF(AND(N(H3)>0,COUNTIF($A4:$A$100,A3)=0),"Short "&H3,"")) -> Short 5
A4: Green chile, case of 12 | B4: L2610-01 | C4: =IF(B4="","",IFERROR(VLOOKUP(B4,Stock!$A$2:$E$200,3,FALSE),"")) -> A3 | D4: =IF(B4="","",IFERROR(VLOOKUP(B4,Stock!$A$2:$E$200,4,FALSE),"")) -> 46661 | E4: =IF(B4="","",IFERROR(VLOOKUP(B4,Stock!$A$2:$E$200,5,FALSE),0)) -> 20 | F4: =IF(A4="","",SUMIF(Orders!$C$2:$C$200,A4,Orders!$D$2:$D$200)) -> 10 | G4: =IF(OR(A4="",B4=""),"",MIN(N(E4),MAX(0,N(F4)-SUMIF($A$2:A3,A4,$G$2:G3)))) -> 10 | H4: =IF(OR(A4="",B4=""),"",MAX(0,N(F4)-SUMIF($A$2:A3,A4,$G$2:G3)-N(G4))) -> 0 | J4: =IF(H4="","",IF(AND(N(H4)>0,COUNTIF($A5:$A$100,A4)=0),"Short "&H4,""))
C5: =IF(B5="","",IFERROR(VLOOKUP(B5,Stock!$A$2:$E$200,3,FALSE),"")) | D5: =IF(B5="","",IFERROR(VLOOKUP(B5,Stock!$A$2:$E$200,4,FALSE),"")) | E5: =IF(B5="","",IFERROR(VLOOKUP(B5,Stock!$A$2:$E$200,5,FALSE),0)) | F5: =IF(A5="","",SUMIF(Orders!$C$2:$C$200,A5,Orders!$D$2:$D$200)) | G5: =IF(OR(A5="",B5=""),"",MIN(N(E5),MAX(0,N(F5)-SUMIF($A$2:A4,A5,$G$2:G4)))) | H5: =IF(OR(A5="",B5=""),"",MAX(0,N(F5)-SUMIF($A$2:A4,A5,$G$2:G4)-N(G5))) | J5: =IF(H5="","",IF(AND(N(H5)>0,COUNTIF($A6:$A$100,A5)=0),"Short "&H5,""))
C6: =IF(B6="","",IFERROR(VLOOKUP(B6,Stock!$A$2:$E$200,3,FALSE),"")) | D6: =IF(B6="","",IFERROR(VLOOKUP(B6,Stock!$A$2:$E$200,4,FALSE),"")) | E6: =IF(B6="","",IFERROR(VLOOKUP(B6,Stock!$A$2:$E$200,5,FALSE),0)) | F6: =IF(A6="","",SUMIF(Orders!$C$2:$C$200,A6,Orders!$D$2:$D$200)) | G6: =IF(OR(A6="",B6=""),"",MIN(N(E6),MAX(0,N(F6)-SUMIF($A$2:A5,A6,$G$2:G5)))) | H6: =IF(OR(A6="",B6=""),"",MAX(0,N(F6)-SUMIF($A$2:A5,A6,$G$2:G5)-N(G6))) | J6: =IF(H6="","",IF(AND(N(H6)>0,COUNTIF($A7:$A$100,A6)=0),"Short "&H6,""))
C7: =IF(B7="","",IFERROR(VLOOKUP(B7,Stock!$A$2:$E$200,3,FALSE),"")) | D7: =IF(B7="","",IFERROR(VLOOKUP(B7,Stock!$A$2:$E$200,4,FALSE),"")) | E7: =IF(B7="","",IFERROR(VLOOKUP(B7,Stock!$A$2:$E$200,5,FALSE),0)) | F7: =IF(A7="","",SUMIF(Orders!$C$2:$C$200,A7,Orders!$D$2:$D$200)) | G7: =IF(OR(A7="",B7=""),"",MIN(N(E7),MAX(0,N(F7)-SUMIF($A$2:A6,A7,$G$2:G6)))) | H7: =IF(OR(A7="",B7=""),"",MAX(0,N(F7)-SUMIF($A$2:A6,A7,$G$2:G6)-N(G7))) | J7: =IF(H7="","",IF(AND(N(H7)>0,COUNTIF($A8:$A$100,A7)=0),"Short "&H7,""))
C8: =IF(B8="","",IFERROR(VLOOKUP(B8,Stock!$A$2:$E$200,3,FALSE),"")) | D8: =IF(B8="","",IFERROR(VLOOKUP(B8,Stock!$A$2:$E$200,4,FALSE),"")) | E8: =IF(B8="","",IFERROR(VLOOKUP(B8,Stock!$A$2:$E$200,5,FALSE),0)) | F8: =IF(A8="","",SUMIF(Orders!$C$2:$C$200,A8,Orders!$D$2:$D$200)) | G8: =IF(OR(A8="",B8=""),"",MIN(N(E8),MAX(0,N(F8)-SUMIF($A$2:A7,A8,$G$2:G7)))) | H8: =IF(OR(A8="",B8=""),"",MAX(0,N(F8)-SUMIF($A$2:A7,A8,$G$2:G7)-N(G8))) | J8: =IF(H8="","",IF(AND(N(H8)>0,COUNTIF($A9:$A$100,A8)=0),"Short "&H8,""))
C9: =IF(B9="","",IFERROR(VLOOKUP(B9,Stock!$A$2:$E$200,3,FALSE),"")) | D9: =IF(B9="","",IFERROR(VLOOKUP(B9,Stock!$A$2:$E$200,4,FALSE),"")) | E9: =IF(B9="","",IFERROR(VLOOKUP(B9,Stock!$A$2:$E$200,5,FALSE),0)) | F9: =IF(A9="","",SUMIF(Orders!$C$2:$C$200,A9,Orders!$D$2:$D$200)) | G9: =IF(OR(A9="",B9=""),"",MIN(N(E9),MAX(0,N(F9)-SUMIF($A$2:A8,A9,$G$2:G8)))) | H9: =IF(OR(A9="",B9=""),"",MAX(0,N(F9)-SUMIF($A$2:A8,A9,$G$2:G8)-N(G9))) | J9: =IF(H9="","",IF(AND(N(H9)>0,COUNTIF($A10:$A$100,A9)=0),"Short "&H9,""))
C10: =IF(B10="","",IFERROR(VLOOKUP(B10,Stock!$A$2:$E$200,3,FALSE),"")) | D10: =IF(B10="","",IFERROR(VLOOKUP(B10,Stock!$A$2:$E$200,4,FALSE),"")) | E10: =IF(B10="","",IFERROR(VLOOKUP(B10,Stock!$A$2:$E$200,5,FALSE),0)) | F10: =IF(A10="","",SUMIF(Orders!$C$2:$C$200,A10,Orders!$D$2:$D$200)) | G10: =IF(OR(A10="",B10=""),"",MIN(N(E10),MAX(0,N(F10)-SUMIF($A$2:A9,A10,$G$2:G9)))) | H10: =IF(OR(A10="",B10=""),"",MAX(0,N(F10)-SUMIF($A$2:A9,A10,$G$2:G9)-N(G10))) | J10: =IF(H10="","",IF(AND(N(H10)>0,COUNTIF($A11:$A$100,A10)=0),"Short "&H10,""))
C11: =IF(B11="","",IFERROR(VLOOKUP(B11,Stock!$A$2:$E$200,3,FALSE),"")) | D11: =IF(B11="","",IFERROR(VLOOKUP(B11,Stock!$A$2:$E$200,4,FALSE),"")) | E11: =IF(B11="","",IFERROR(VLOOKUP(B11,Stock!$A$2:$E$200,5,FALSE),0)) | F11: =IF(A11="","",SUMIF(Orders!$C$2:$C$200,A11,Orders!$D$2:$D$200)) | G11: =IF(OR(A11="",B11=""),"",MIN(N(E11),MAX(0,N(F11)-SUMIF($A$2:A10,A11,$G$2:G10)))) | H11: =IF(OR(A11="",B11=""),"",MAX(0,N(F11)-SUMIF($A$2:A10,A11,$G$2:G10)-N(G11))) | J11: =IF(H11="","",IF(AND(N(H11)>0,COUNTIF($A12:$A$100,A11)=0),"Short "&H11,""))
C12: =IF(B12="","",IFERROR(VLOOKUP(B12,Stock!$A$2:$E$200,3,FALSE),"")) | D12: =IF(B12="","",IFERROR(VLOOKUP(B12,Stock!$A$2:$E$200,4,FALSE),"")) | E12: =IF(B12="","",IFERROR(VLOOKUP(B12,Stock!$A$2:$E$200,5,FALSE),0)) | F12: =IF(A12="","",SUMIF(Orders!$C$2:$C$200,A12,Orders!$D$2:$D$200)) | G12: =IF(OR(A12="",B12=""),"",MIN(N(E12),MAX(0,N(F12)-SUMIF($A$2:A11,A12,$G$2:G11)))) | H12: =IF(OR(A12="",B12=""),"",MAX(0,N(F12)-SUMIF($A$2:A11,A12,$G$2:G11)-N(G12))) | J12: =IF(H12="","",IF(AND(N(H12)>0,COUNTIF($A13:$A$100,A12)=0),"Short "&H12,""))
C13: =IF(B13="","",IFERROR(VLOOKUP(B13,Stock!$A$2:$E$200,3,FALSE),"")) | D13: =IF(B13="","",IFERROR(VLOOKUP(B13,Stock!$A$2:$E$200,4,FALSE),"")) | E13: =IF(B13="","",IFERROR(VLOOKUP(B13,Stock!$A$2:$E$200,5,FALSE),0)) | F13: =IF(A13="","",SUMIF(Orders!$C$2:$C$200,A13,Orders!$D$2:$D$200)) | G13: =IF(OR(A13="",B13=""),"",MIN(N(E13),MAX(0,N(F13)-SUMIF($A$2:A12,A13,$G$2:G12)))) | H13: =IF(OR(A13="",B13=""),"",MAX(0,N(F13)-SUMIF($A$2:A12,A13,$G$2:G12)-N(G13))) | J13: =IF(H13="","",IF(AND(N(H13)>0,COUNTIF($A14:$A$100,A13)=0),"Short "&H13,""))
C14: =IF(B14="","",IFERROR(VLOOKUP(B14,Stock!$A$2:$E$200,3,FALSE),"")) | D14: =IF(B14="","",IFERROR(VLOOKUP(B14,Stock!$A$2:$E$200,4,FALSE),"")) | E14: =IF(B14="","",IFERROR(VLOOKUP(B14,Stock!$A$2:$E$200,5,FALSE),0)) | F14: =IF(A14="","",SUMIF(Orders!$C$2:$C$200,A14,Orders!$D$2:$D$200)) | G14: =IF(OR(A14="",B14=""),"",MIN(N(E14),MAX(0,N(F14)-SUMIF($A$2:A13,A14,$G$2:G13)))) | H14: =IF(OR(A14="",B14=""),"",MAX(0,N(F14)-SUMIF($A$2:A13,A14,$G$2:G13)-N(G14))) | J14: =IF(H14="","",IF(AND(N(H14)>0,COUNTIF($A15:$A$100,A14)=0),"Short "&H14,""))
C15: =IF(B15="","",IFERROR(VLOOKUP(B15,Stock!$A$2:$E$200,3,FALSE),"")) | D15: =IF(B15="","",IFERROR(VLOOKUP(B15,Stock!$A$2:$E$200,4,FALSE),"")) | E15: =IF(B15="","",IFERROR(VLOOKUP(B15,Stock!$A$2:$E$200,5,FALSE),0)) | F15: =IF(A15="","",SUMIF(Orders!$C$2:$C$200,A15,Orders!$D$2:$D$200)) | G15: =IF(OR(A15="",B15=""),"",MIN(N(E15),MAX(0,N(F15)-SUMIF($A$2:A14,A15,$G$2:G14)))) | H15: =IF(OR(A15="",B15=""),"",MAX(0,N(F15)-SUMIF($A$2:A14,A15,$G$2:G14)-N(G15))) | J15: =IF(H15="","",IF(AND(N(H15)>0,COUNTIF($A16:$A$100,A15)=0),"Short "&H15,""))
C16: =IF(B16="","",IFERROR(VLOOKUP(B16,Stock!$A$2:$E$200,3,FALSE),"")) | D16: =IF(B16="","",IFERROR(VLOOKUP(B16,Stock!$A$2:$E$200,4,FALSE),"")) | E16: =IF(B16="","",IFERROR(VLOOKUP(B16,Stock!$A$2:$E$200,5,FALSE),0)) | F16: =IF(A16="","",SUMIF(Orders!$C$2:$C$200,A16,Orders!$D$2:$D$200)) | G16: =IF(OR(A16="",B16=""),"",MIN(N(E16),MAX(0,N(F16)-SUMIF($A$2:A15,A16,$G$2:G15)))) | H16: =IF(OR(A16="",B16=""),"",MAX(0,N(F16)-SUMIF($A$2:A15,A16,$G$2:G15)-N(G16))) | J16: =IF(H16="","",IF(AND(N(H16)>0,COUNTIF($A17:$A$100,A16)=0),"Short "&H16,""))
... C100: =IF(B100="","",IFERROR(VLOOKUP(B100,Stock!$A$2:$E$200,3,FALSE),"")) | D100: =IF(B100="","",IFERROR(VLOOKUP(B100,Stock!$A$2:$E$200,4,FALSE),"")) | E100: =IF(B100="","",IFERROR(VLOOKUP(B100,Stock!$A$2:$E$200,5,FALSE),0)) | F100: =IF(A100="","",SUMIF(Orders!$C$2:$C$200,A100,Orders!$D$2:$D$200)) | G100: =IF(OR(A100="",B100=""),"",MIN(N(E100),MAX(0,N(F100)-SUMIF($A$2:A99,A100,$G$2:G99)))) | H100: =IF(OR(A100="",B100=""),"",MAX(0,N(F100)-SUMIF($A$2:A99,A100,$G$2:G99)-N(G100))) | J100: =IF(H100="","",IF(AND(N(H100)>0,COUNTIF($A101:$A$100,A100)=0),"Short "&H100,""))
A103: List each item once for each lot you'll pick from, oldest best-by first; the next line for the same item picks what the first couldn't.

Sheet Read me
A1: Pick list template
A2: From the article: https://www.tarostack.com/articles/pick-list-template
A4: Orders: the day's order lines, one per item per order.
A5: Stock: each lot on hand, with its item, bin, best-by date and cases.
A6: Pick list: list each item with the lot to pick from, oldest best-by first, and a second line for the same item if the first lot won't cover it. It totals the item across all orders, looks up the bin, date and cases in the lot, and works out how many to pick from each lot, what's still to pick, and what's short when the lots run out. Tick Picked as you go.
A8: Works in Excel (2010 and later), Google Sheets, LibreOffice and Numbers. No macros.
A9: Free to use and change. Made by TaroStack, inventory and production software for small producers: https://www.tarostack.com
