Workbook

Sheet Products
A1: Product | B1: Shelf life (days) | C1: Buyer needs left (days) | D1: Days in transit | E1: Sellable window (days) | F1: Sold a day | G1: Most worth holding | H1: On hand, still shippable | I1: Days of cover
A2: Firm tofu, 16 oz | B2: 35 | C2: 21 | D2: 1 | E2: =IF(OR(B2="",C2=""),"",B2-C2-N(D2)) -> 13 | F2: 35 | G2: =IF(OR(E2="",F2=""),"",MAX(0,E2)*F2) -> 455 | H2: =IF(A2="","",SUMIFS(Lots!F$2:F$500,Lots!A$2:A$500,A2,Lots!H$2:H$500,">=0")) -> 180 | I2: =IF(OR(H2="",N(F2)=0),"",H2/F2) -> 5.1428571
A3: Smoked tofu, 8 oz | B3: 45 | C3: 25 | D3: 1 | E3: =IF(OR(B3="",C3=""),"",B3-C3-N(D3)) -> 19 | F3: 8 | G3: =IF(OR(E3="",F3=""),"",MAX(0,E3)*F3) -> 152 | H3: =IF(A3="","",SUMIFS(Lots!F$2:F$500,Lots!A$2:A$500,A3,Lots!H$2:H$500,">=0")) -> 70 | I3: =IF(OR(H3="",N(F3)=0),"",H3/F3) -> 8.75
A4: Soy milk, half gallon | B4: 14 | C4: 7 | D4: 1 | E4: =IF(OR(B4="",C4=""),"",B4-C4-N(D4)) -> 6 | F4: 10 | G4: =IF(OR(E4="",F4=""),"",MAX(0,E4)*F4) -> 60 | H4: =IF(A4="","",SUMIFS(Lots!F$2:F$500,Lots!A$2:A$500,A4,Lots!H$2:H$500,">=0")) -> 52 | I4: =IF(OR(H4="",N(F4)=0),"",H4/F4) -> 5.2
E5: =IF(OR(B5="",C5=""),"",B5-C5-N(D5)) | G5: =IF(OR(E5="",F5=""),"",MAX(0,E5)*F5) | H5: =IF(A5="","",SUMIFS(Lots!F$2:F$500,Lots!A$2:A$500,A5,Lots!H$2:H$500,">=0")) | I5: =IF(OR(H5="",N(F5)=0),"",H5/F5)
E6: =IF(OR(B6="",C6=""),"",B6-C6-N(D6)) | G6: =IF(OR(E6="",F6=""),"",MAX(0,E6)*F6) | H6: =IF(A6="","",SUMIFS(Lots!F$2:F$500,Lots!A$2:A$500,A6,Lots!H$2:H$500,">=0")) | I6: =IF(OR(H6="",N(F6)=0),"",H6/F6)
E7: =IF(OR(B7="",C7=""),"",B7-C7-N(D7)) | G7: =IF(OR(E7="",F7=""),"",MAX(0,E7)*F7) | H7: =IF(A7="","",SUMIFS(Lots!F$2:F$500,Lots!A$2:A$500,A7,Lots!H$2:H$500,">=0")) | I7: =IF(OR(H7="",N(F7)=0),"",H7/F7)
E8: =IF(OR(B8="",C8=""),"",B8-C8-N(D8)) | G8: =IF(OR(E8="",F8=""),"",MAX(0,E8)*F8) | H8: =IF(A8="","",SUMIFS(Lots!F$2:F$500,Lots!A$2:A$500,A8,Lots!H$2:H$500,">=0")) | I8: =IF(OR(H8="",N(F8)=0),"",H8/F8)
E9: =IF(OR(B9="",C9=""),"",B9-C9-N(D9)) | G9: =IF(OR(E9="",F9=""),"",MAX(0,E9)*F9) | H9: =IF(A9="","",SUMIFS(Lots!F$2:F$500,Lots!A$2:A$500,A9,Lots!H$2:H$500,">=0")) | I9: =IF(OR(H9="",N(F9)=0),"",H9/F9)
E10: =IF(OR(B10="",C10=""),"",B10-C10-N(D10)) | G10: =IF(OR(E10="",F10=""),"",MAX(0,E10)*F10) | H10: =IF(A10="","",SUMIFS(Lots!F$2:F$500,Lots!A$2:A$500,A10,Lots!H$2:H$500,">=0")) | I10: =IF(OR(H10="",N(F10)=0),"",H10/F10)
E11: =IF(OR(B11="",C11=""),"",B11-C11-N(D11)) | G11: =IF(OR(E11="",F11=""),"",MAX(0,E11)*F11) | H11: =IF(A11="","",SUMIFS(Lots!F$2:F$500,Lots!A$2:A$500,A11,Lots!H$2:H$500,">=0")) | I11: =IF(OR(H11="",N(F11)=0),"",H11/F11)
E12: =IF(OR(B12="",C12=""),"",B12-C12-N(D12)) | G12: =IF(OR(E12="",F12=""),"",MAX(0,E12)*F12) | H12: =IF(A12="","",SUMIFS(Lots!F$2:F$500,Lots!A$2:A$500,A12,Lots!H$2:H$500,">=0")) | I12: =IF(OR(H12="",N(F12)=0),"",H12/F12)
E13: =IF(OR(B13="",C13=""),"",B13-C13-N(D13)) | G13: =IF(OR(E13="",F13=""),"",MAX(0,E13)*F13) | H13: =IF(A13="","",SUMIFS(Lots!F$2:F$500,Lots!A$2:A$500,A13,Lots!H$2:H$500,">=0")) | I13: =IF(OR(H13="",N(F13)=0),"",H13/F13)
E14: =IF(OR(B14="",C14=""),"",B14-C14-N(D14)) | G14: =IF(OR(E14="",F14=""),"",MAX(0,E14)*F14) | H14: =IF(A14="","",SUMIFS(Lots!F$2:F$500,Lots!A$2:A$500,A14,Lots!H$2:H$500,">=0")) | I14: =IF(OR(H14="",N(F14)=0),"",H14/F14)
E15: =IF(OR(B15="",C15=""),"",B15-C15-N(D15)) | G15: =IF(OR(E15="",F15=""),"",MAX(0,E15)*F15) | H15: =IF(A15="","",SUMIFS(Lots!F$2:F$500,Lots!A$2:A$500,A15,Lots!H$2:H$500,">=0")) | I15: =IF(OR(H15="",N(F15)=0),"",H15/F15)
E16: =IF(OR(B16="",C16=""),"",B16-C16-N(D16)) | G16: =IF(OR(E16="",F16=""),"",MAX(0,E16)*F16) | H16: =IF(A16="","",SUMIFS(Lots!F$2:F$500,Lots!A$2:A$500,A16,Lots!H$2:H$500,">=0")) | I16: =IF(OR(H16="",N(F16)=0),"",H16/F16)
... E50: =IF(OR(B50="",C50=""),"",B50-C50-N(D50)) | G50: =IF(OR(E50="",F50=""),"",MAX(0,E50)*F50) | H50: =IF(A50="","",SUMIFS(Lots!F$2:F$500,Lots!A$2:A$500,A50,Lots!H$2:H$500,">=0")) | I50: =IF(OR(H50="",N(F50)=0),"",H50/F50)

Sheet Lots
A1: Product | B1: Lot | C1: Made | D1: Use by | E1: Last day to ship | F1: On hand | G1: As of | H1: Days left to ship
A2: Firm tofu, 16 oz | B2: T-1001 | C2: 46296 | D2: =IF(OR(A2="",C2=""),"",C2+IFERROR(VLOOKUP(A2,Products!A$2:B$50,2,FALSE),0)) -> 46331 | E2: =IF(D2="","",D2-IFERROR(VLOOKUP(A2,Products!A$2:C$50,3,FALSE),0)-IFERROR(VLOOKUP(A2,Products!A$2:D$50,4,FALSE),0)) -> 46309 | F2: 14 | G2: 46311 | H2: =IF(OR(E2="",N($G$2)=0),"",E2-$G$2) -> -2
A3: Firm tofu, 16 oz | B3: T-1012 | C3: 46307 | D3: =IF(OR(A3="",C3=""),"",C3+IFERROR(VLOOKUP(A3,Products!A$2:B$50,2,FALSE),0)) -> 46342 | E3: =IF(D3="","",D3-IFERROR(VLOOKUP(A3,Products!A$2:C$50,3,FALSE),0)-IFERROR(VLOOKUP(A3,Products!A$2:D$50,4,FALSE),0)) -> 46320 | F3: 60 | H3: =IF(OR(E3="",N($G$2)=0),"",E3-$G$2) -> 9
A4: Firm tofu, 16 oz | B4: T-1015 | C4: 46310 | D4: =IF(OR(A4="",C4=""),"",C4+IFERROR(VLOOKUP(A4,Products!A$2:B$50,2,FALSE),0)) -> 46345 | E4: =IF(D4="","",D4-IFERROR(VLOOKUP(A4,Products!A$2:C$50,3,FALSE),0)-IFERROR(VLOOKUP(A4,Products!A$2:D$50,4,FALSE),0)) -> 46323 | F4: 120 | H4: =IF(OR(E4="",N($G$2)=0),"",E4-$G$2) -> 12
A5: Smoked tofu, 8 oz | B5: S-0924 | C5: 46289 | D5: =IF(OR(A5="",C5=""),"",C5+IFERROR(VLOOKUP(A5,Products!A$2:B$50,2,FALSE),0)) -> 46334 | E5: =IF(D5="","",D5-IFERROR(VLOOKUP(A5,Products!A$2:C$50,3,FALSE),0)-IFERROR(VLOOKUP(A5,Products!A$2:D$50,4,FALSE),0)) -> 46308 | F5: 6 | H5: =IF(OR(E5="",N($G$2)=0),"",E5-$G$2) -> -3
A6: Smoked tofu, 8 oz | B6: S-1008 | C6: 46303 | D6: =IF(OR(A6="",C6=""),"",C6+IFERROR(VLOOKUP(A6,Products!A$2:B$50,2,FALSE),0)) -> 46348 | E6: =IF(D6="","",D6-IFERROR(VLOOKUP(A6,Products!A$2:C$50,3,FALSE),0)-IFERROR(VLOOKUP(A6,Products!A$2:D$50,4,FALSE),0)) -> 46322 | F6: 70 | H6: =IF(OR(E6="",N($G$2)=0),"",E6-$G$2) -> 11
A7: Soy milk, half gallon | B7: M-1012 | C7: 46307 | D7: =IF(OR(A7="",C7=""),"",C7+IFERROR(VLOOKUP(A7,Products!A$2:B$50,2,FALSE),0)) -> 46321 | E7: =IF(D7="","",D7-IFERROR(VLOOKUP(A7,Products!A$2:C$50,3,FALSE),0)-IFERROR(VLOOKUP(A7,Products!A$2:D$50,4,FALSE),0)) -> 46313 | F7: 12 | H7: =IF(OR(E7="",N($G$2)=0),"",E7-$G$2) -> 2
A8: Soy milk, half gallon | B8: M-1015 | C8: 46310 | D8: =IF(OR(A8="",C8=""),"",C8+IFERROR(VLOOKUP(A8,Products!A$2:B$50,2,FALSE),0)) -> 46324 | E8: =IF(D8="","",D8-IFERROR(VLOOKUP(A8,Products!A$2:C$50,3,FALSE),0)-IFERROR(VLOOKUP(A8,Products!A$2:D$50,4,FALSE),0)) -> 46316 | F8: 40 | H8: =IF(OR(E8="",N($G$2)=0),"",E8-$G$2) -> 5
D9: =IF(OR(A9="",C9=""),"",C9+IFERROR(VLOOKUP(A9,Products!A$2:B$50,2,FALSE),0)) | E9: =IF(D9="","",D9-IFERROR(VLOOKUP(A9,Products!A$2:C$50,3,FALSE),0)-IFERROR(VLOOKUP(A9,Products!A$2:D$50,4,FALSE),0)) | H9: =IF(OR(E9="",N($G$2)=0),"",E9-$G$2)
D10: =IF(OR(A10="",C10=""),"",C10+IFERROR(VLOOKUP(A10,Products!A$2:B$50,2,FALSE),0)) | E10: =IF(D10="","",D10-IFERROR(VLOOKUP(A10,Products!A$2:C$50,3,FALSE),0)-IFERROR(VLOOKUP(A10,Products!A$2:D$50,4,FALSE),0)) | H10: =IF(OR(E10="",N($G$2)=0),"",E10-$G$2)
D11: =IF(OR(A11="",C11=""),"",C11+IFERROR(VLOOKUP(A11,Products!A$2:B$50,2,FALSE),0)) | E11: =IF(D11="","",D11-IFERROR(VLOOKUP(A11,Products!A$2:C$50,3,FALSE),0)-IFERROR(VLOOKUP(A11,Products!A$2:D$50,4,FALSE),0)) | H11: =IF(OR(E11="",N($G$2)=0),"",E11-$G$2)
D12: =IF(OR(A12="",C12=""),"",C12+IFERROR(VLOOKUP(A12,Products!A$2:B$50,2,FALSE),0)) | E12: =IF(D12="","",D12-IFERROR(VLOOKUP(A12,Products!A$2:C$50,3,FALSE),0)-IFERROR(VLOOKUP(A12,Products!A$2:D$50,4,FALSE),0)) | H12: =IF(OR(E12="",N($G$2)=0),"",E12-$G$2)
D13: =IF(OR(A13="",C13=""),"",C13+IFERROR(VLOOKUP(A13,Products!A$2:B$50,2,FALSE),0)) | E13: =IF(D13="","",D13-IFERROR(VLOOKUP(A13,Products!A$2:C$50,3,FALSE),0)-IFERROR(VLOOKUP(A13,Products!A$2:D$50,4,FALSE),0)) | H13: =IF(OR(E13="",N($G$2)=0),"",E13-$G$2)
D14: =IF(OR(A14="",C14=""),"",C14+IFERROR(VLOOKUP(A14,Products!A$2:B$50,2,FALSE),0)) | E14: =IF(D14="","",D14-IFERROR(VLOOKUP(A14,Products!A$2:C$50,3,FALSE),0)-IFERROR(VLOOKUP(A14,Products!A$2:D$50,4,FALSE),0)) | H14: =IF(OR(E14="",N($G$2)=0),"",E14-$G$2)
D15: =IF(OR(A15="",C15=""),"",C15+IFERROR(VLOOKUP(A15,Products!A$2:B$50,2,FALSE),0)) | E15: =IF(D15="","",D15-IFERROR(VLOOKUP(A15,Products!A$2:C$50,3,FALSE),0)-IFERROR(VLOOKUP(A15,Products!A$2:D$50,4,FALSE),0)) | H15: =IF(OR(E15="",N($G$2)=0),"",E15-$G$2)
D16: =IF(OR(A16="",C16=""),"",C16+IFERROR(VLOOKUP(A16,Products!A$2:B$50,2,FALSE),0)) | E16: =IF(D16="","",D16-IFERROR(VLOOKUP(A16,Products!A$2:C$50,3,FALSE),0)-IFERROR(VLOOKUP(A16,Products!A$2:D$50,4,FALSE),0)) | H16: =IF(OR(E16="",N($G$2)=0),"",E16-$G$2)
D17: =IF(OR(A17="",C17=""),"",C17+IFERROR(VLOOKUP(A17,Products!A$2:B$50,2,FALSE),0)) | E17: =IF(D17="","",D17-IFERROR(VLOOKUP(A17,Products!A$2:C$50,3,FALSE),0)-IFERROR(VLOOKUP(A17,Products!A$2:D$50,4,FALSE),0)) | H17: =IF(OR(E17="",N($G$2)=0),"",E17-$G$2)
D18: =IF(OR(A18="",C18=""),"",C18+IFERROR(VLOOKUP(A18,Products!A$2:B$50,2,FALSE),0)) | E18: =IF(D18="","",D18-IFERROR(VLOOKUP(A18,Products!A$2:C$50,3,FALSE),0)-IFERROR(VLOOKUP(A18,Products!A$2:D$50,4,FALSE),0)) | H18: =IF(OR(E18="",N($G$2)=0),"",E18-$G$2)
D19: =IF(OR(A19="",C19=""),"",C19+IFERROR(VLOOKUP(A19,Products!A$2:B$50,2,FALSE),0)) | E19: =IF(D19="","",D19-IFERROR(VLOOKUP(A19,Products!A$2:C$50,3,FALSE),0)-IFERROR(VLOOKUP(A19,Products!A$2:D$50,4,FALSE),0)) | H19: =IF(OR(E19="",N($G$2)=0),"",E19-$G$2)
D20: =IF(OR(A20="",C20=""),"",C20+IFERROR(VLOOKUP(A20,Products!A$2:B$50,2,FALSE),0)) | E20: =IF(D20="","",D20-IFERROR(VLOOKUP(A20,Products!A$2:C$50,3,FALSE),0)-IFERROR(VLOOKUP(A20,Products!A$2:D$50,4,FALSE),0)) | H20: =IF(OR(E20="",N($G$2)=0),"",E20-$G$2)
... D500: =IF(OR(A500="",C500=""),"",C500+IFERROR(VLOOKUP(A500,Products!A$2:B$50,2,FALSE),0)) | E500: =IF(D500="","",D500-IFERROR(VLOOKUP(A500,Products!A$2:C$50,3,FALSE),0)-IFERROR(VLOOKUP(A500,Products!A$2:D$50,4,FALSE),0)) | H500: =IF(OR(E500="",N($G$2)=0),"",E500-$G$2)

Sheet Read me
A1: Perishable inventory management
A2: From the article: https://www.tarostack.com/articles/perishable-inventory-management
A4: Products: each product's shelf life, the days of shelf life your buyers need left when it arrives, the days in transit, and what sells a day. The sellable window, the most worth holding, what's on hand and still shippable (from the Lots sheet), and its days of cover fill in. Days of cover longer than the window turn red: some of it will pass its last day to ship before it sells.
A5: Lots: one line for each lot with its product, lot code, the day it was made and how many are on hand. Type today's date in G2. The use-by date, the last day it can ship to a buyer, and the days left to ship fill in: red when past, amber within three days.
A6: The example is the article's made-up tofu maker on October 16.
A8: Works in Excel (2010 and later), Google Sheets, LibreOffice and Numbers. No macros.
A9: Free to use and change. Made by TaroStack, inventory and production software for small producers: https://www.tarostack.com
