Workbook

Sheet Pallets
A1: Pallet | B1: Extension digit | C1: Company prefix | D1: Serial reference | E1: First 17 digits | F1: Check digit | G1: SSCC | H1: Case GTIN-14 | I1: Cases | J1: Lot | K1: Use by | L1: SSCC line | M1: Contents line | O1: The extension digit, prefix and serial reference make 17 digits; never reuse a serial reference. The example uses 0614141, GS1's example prefix.
A2: 1 | B2: 0 | C2: 0614141 | D2: 000000101 | E2: =IF(OR(B2="",C2="",D2=""),"",B2&C2&D2) -> 00614141000000101 | F2: =IF(LEN(E2)<>17,"",MOD(10-MOD(MID(E2,1,1)*3+MID(E2,2,1)*1+MID(E2,3,1)*3+MID(E2,4,1)*1+MID(E2,5,1)*3+MID(E2,6,1)*1+MID(E2,7,1)*3+MID(E2,8,1)*1+MID(E2,9,1)*3+MID(E2,10,1)*1+MID(E2,11,1)*3+MID(E2,12,1)*1+MID(E2,13,1)*3+MID(E2,14,1)*1+MID(E2,15,1)*3+MID(E2,16,1)*1+MID(E2,17,1)*3,10),10)) -> 9 | G2: =IF(F2="","",E2&F2) -> 006141410000001019 | H2: 10061414110010 | I2: 20 | J2: SR-261012A | K2: 46321 | L2: =IF(G2="","","(00)"&G2) -> (00)006141410000001019 | M2: =IF(OR(H2="",I2="",J2="",K2=""),"","(02)"&H2&" (17)"&TEXT(K2,"yymmdd")&" (37)"&I2&" (10)"&J2) -> (02)10061414110010 (17)261026 (37)20 (10)SR-261012A
A3: 2 | B3: 0 | C3: 0614141 | D3: 000000102 | E3: =IF(OR(B3="",C3="",D3=""),"",B3&C3&D3) -> 00614141000000102 | F3: =IF(LEN(E3)<>17,"",MOD(10-MOD(MID(E3,1,1)*3+MID(E3,2,1)*1+MID(E3,3,1)*3+MID(E3,4,1)*1+MID(E3,5,1)*3+MID(E3,6,1)*1+MID(E3,7,1)*3+MID(E3,8,1)*1+MID(E3,9,1)*3+MID(E3,10,1)*1+MID(E3,11,1)*3+MID(E3,12,1)*1+MID(E3,13,1)*3+MID(E3,14,1)*1+MID(E3,15,1)*3+MID(E3,16,1)*1+MID(E3,17,1)*3,10),10)) -> 6 | G3: =IF(F3="","",E3&F3) -> 006141410000001026 | H3: 10061414110027 | I3: 20 | J3: SV-261013A | K3: 46322 | L3: =IF(G3="","","(00)"&G3) -> (00)006141410000001026 | M3: =IF(OR(H3="",I3="",J3="",K3=""),"","(02)"&H3&" (17)"&TEXT(K3,"yymmdd")&" (37)"&I3&" (10)"&J3) -> (02)10061414110027 (17)261027 (37)20 (10)SV-261013A
E4: =IF(OR(B4="",C4="",D4=""),"",B4&C4&D4) | F4: =IF(LEN(E4)<>17,"",MOD(10-MOD(MID(E4,1,1)*3+MID(E4,2,1)*1+MID(E4,3,1)*3+MID(E4,4,1)*1+MID(E4,5,1)*3+MID(E4,6,1)*1+MID(E4,7,1)*3+MID(E4,8,1)*1+MID(E4,9,1)*3+MID(E4,10,1)*1+MID(E4,11,1)*3+MID(E4,12,1)*1+MID(E4,13,1)*3+MID(E4,14,1)*1+MID(E4,15,1)*3+MID(E4,16,1)*1+MID(E4,17,1)*3,10),10)) | G4: =IF(F4="","",E4&F4) | L4: =IF(G4="","","(00)"&G4) | M4: =IF(OR(H4="",I4="",J4="",K4=""),"","(02)"&H4&" (17)"&TEXT(K4,"yymmdd")&" (37)"&I4&" (10)"&J4)
E5: =IF(OR(B5="",C5="",D5=""),"",B5&C5&D5) | F5: =IF(LEN(E5)<>17,"",MOD(10-MOD(MID(E5,1,1)*3+MID(E5,2,1)*1+MID(E5,3,1)*3+MID(E5,4,1)*1+MID(E5,5,1)*3+MID(E5,6,1)*1+MID(E5,7,1)*3+MID(E5,8,1)*1+MID(E5,9,1)*3+MID(E5,10,1)*1+MID(E5,11,1)*3+MID(E5,12,1)*1+MID(E5,13,1)*3+MID(E5,14,1)*1+MID(E5,15,1)*3+MID(E5,16,1)*1+MID(E5,17,1)*3,10),10)) | G5: =IF(F5="","",E5&F5) | L5: =IF(G5="","","(00)"&G5) | M5: =IF(OR(H5="",I5="",J5="",K5=""),"","(02)"&H5&" (17)"&TEXT(K5,"yymmdd")&" (37)"&I5&" (10)"&J5)
E6: =IF(OR(B6="",C6="",D6=""),"",B6&C6&D6) | F6: =IF(LEN(E6)<>17,"",MOD(10-MOD(MID(E6,1,1)*3+MID(E6,2,1)*1+MID(E6,3,1)*3+MID(E6,4,1)*1+MID(E6,5,1)*3+MID(E6,6,1)*1+MID(E6,7,1)*3+MID(E6,8,1)*1+MID(E6,9,1)*3+MID(E6,10,1)*1+MID(E6,11,1)*3+MID(E6,12,1)*1+MID(E6,13,1)*3+MID(E6,14,1)*1+MID(E6,15,1)*3+MID(E6,16,1)*1+MID(E6,17,1)*3,10),10)) | G6: =IF(F6="","",E6&F6) | L6: =IF(G6="","","(00)"&G6) | M6: =IF(OR(H6="",I6="",J6="",K6=""),"","(02)"&H6&" (17)"&TEXT(K6,"yymmdd")&" (37)"&I6&" (10)"&J6)
E7: =IF(OR(B7="",C7="",D7=""),"",B7&C7&D7) | F7: =IF(LEN(E7)<>17,"",MOD(10-MOD(MID(E7,1,1)*3+MID(E7,2,1)*1+MID(E7,3,1)*3+MID(E7,4,1)*1+MID(E7,5,1)*3+MID(E7,6,1)*1+MID(E7,7,1)*3+MID(E7,8,1)*1+MID(E7,9,1)*3+MID(E7,10,1)*1+MID(E7,11,1)*3+MID(E7,12,1)*1+MID(E7,13,1)*3+MID(E7,14,1)*1+MID(E7,15,1)*3+MID(E7,16,1)*1+MID(E7,17,1)*3,10),10)) | G7: =IF(F7="","",E7&F7) | L7: =IF(G7="","","(00)"&G7) | M7: =IF(OR(H7="",I7="",J7="",K7=""),"","(02)"&H7&" (17)"&TEXT(K7,"yymmdd")&" (37)"&I7&" (10)"&J7)
E8: =IF(OR(B8="",C8="",D8=""),"",B8&C8&D8) | F8: =IF(LEN(E8)<>17,"",MOD(10-MOD(MID(E8,1,1)*3+MID(E8,2,1)*1+MID(E8,3,1)*3+MID(E8,4,1)*1+MID(E8,5,1)*3+MID(E8,6,1)*1+MID(E8,7,1)*3+MID(E8,8,1)*1+MID(E8,9,1)*3+MID(E8,10,1)*1+MID(E8,11,1)*3+MID(E8,12,1)*1+MID(E8,13,1)*3+MID(E8,14,1)*1+MID(E8,15,1)*3+MID(E8,16,1)*1+MID(E8,17,1)*3,10),10)) | G8: =IF(F8="","",E8&F8) | L8: =IF(G8="","","(00)"&G8) | M8: =IF(OR(H8="",I8="",J8="",K8=""),"","(02)"&H8&" (17)"&TEXT(K8,"yymmdd")&" (37)"&I8&" (10)"&J8)
E9: =IF(OR(B9="",C9="",D9=""),"",B9&C9&D9) | F9: =IF(LEN(E9)<>17,"",MOD(10-MOD(MID(E9,1,1)*3+MID(E9,2,1)*1+MID(E9,3,1)*3+MID(E9,4,1)*1+MID(E9,5,1)*3+MID(E9,6,1)*1+MID(E9,7,1)*3+MID(E9,8,1)*1+MID(E9,9,1)*3+MID(E9,10,1)*1+MID(E9,11,1)*3+MID(E9,12,1)*1+MID(E9,13,1)*3+MID(E9,14,1)*1+MID(E9,15,1)*3+MID(E9,16,1)*1+MID(E9,17,1)*3,10),10)) | G9: =IF(F9="","",E9&F9) | L9: =IF(G9="","","(00)"&G9) | M9: =IF(OR(H9="",I9="",J9="",K9=""),"","(02)"&H9&" (17)"&TEXT(K9,"yymmdd")&" (37)"&I9&" (10)"&J9)
E10: =IF(OR(B10="",C10="",D10=""),"",B10&C10&D10) | F10: =IF(LEN(E10)<>17,"",MOD(10-MOD(MID(E10,1,1)*3+MID(E10,2,1)*1+MID(E10,3,1)*3+MID(E10,4,1)*1+MID(E10,5,1)*3+MID(E10,6,1)*1+MID(E10,7,1)*3+MID(E10,8,1)*1+MID(E10,9,1)*3+MID(E10,10,1)*1+MID(E10,11,1)*3+MID(E10,12,1)*1+MID(E10,13,1)*3+MID(E10,14,1)*1+MID(E10,15,1)*3+MID(E10,16,1)*1+MID(E10,17,1)*3,10),10)) | G10: =IF(F10="","",E10&F10) | L10: =IF(G10="","","(00)"&G10) | M10: =IF(OR(H10="",I10="",J10="",K10=""),"","(02)"&H10&" (17)"&TEXT(K10,"yymmdd")&" (37)"&I10&" (10)"&J10)
E11: =IF(OR(B11="",C11="",D11=""),"",B11&C11&D11) | F11: =IF(LEN(E11)<>17,"",MOD(10-MOD(MID(E11,1,1)*3+MID(E11,2,1)*1+MID(E11,3,1)*3+MID(E11,4,1)*1+MID(E11,5,1)*3+MID(E11,6,1)*1+MID(E11,7,1)*3+MID(E11,8,1)*1+MID(E11,9,1)*3+MID(E11,10,1)*1+MID(E11,11,1)*3+MID(E11,12,1)*1+MID(E11,13,1)*3+MID(E11,14,1)*1+MID(E11,15,1)*3+MID(E11,16,1)*1+MID(E11,17,1)*3,10),10)) | G11: =IF(F11="","",E11&F11) | L11: =IF(G11="","","(00)"&G11) | M11: =IF(OR(H11="",I11="",J11="",K11=""),"","(02)"&H11&" (17)"&TEXT(K11,"yymmdd")&" (37)"&I11&" (10)"&J11)
E12: =IF(OR(B12="",C12="",D12=""),"",B12&C12&D12) | F12: =IF(LEN(E12)<>17,"",MOD(10-MOD(MID(E12,1,1)*3+MID(E12,2,1)*1+MID(E12,3,1)*3+MID(E12,4,1)*1+MID(E12,5,1)*3+MID(E12,6,1)*1+MID(E12,7,1)*3+MID(E12,8,1)*1+MID(E12,9,1)*3+MID(E12,10,1)*1+MID(E12,11,1)*3+MID(E12,12,1)*1+MID(E12,13,1)*3+MID(E12,14,1)*1+MID(E12,15,1)*3+MID(E12,16,1)*1+MID(E12,17,1)*3,10),10)) | G12: =IF(F12="","",E12&F12) | L12: =IF(G12="","","(00)"&G12) | M12: =IF(OR(H12="",I12="",J12="",K12=""),"","(02)"&H12&" (17)"&TEXT(K12,"yymmdd")&" (37)"&I12&" (10)"&J12)
E13: =IF(OR(B13="",C13="",D13=""),"",B13&C13&D13) | F13: =IF(LEN(E13)<>17,"",MOD(10-MOD(MID(E13,1,1)*3+MID(E13,2,1)*1+MID(E13,3,1)*3+MID(E13,4,1)*1+MID(E13,5,1)*3+MID(E13,6,1)*1+MID(E13,7,1)*3+MID(E13,8,1)*1+MID(E13,9,1)*3+MID(E13,10,1)*1+MID(E13,11,1)*3+MID(E13,12,1)*1+MID(E13,13,1)*3+MID(E13,14,1)*1+MID(E13,15,1)*3+MID(E13,16,1)*1+MID(E13,17,1)*3,10),10)) | G13: =IF(F13="","",E13&F13) | L13: =IF(G13="","","(00)"&G13) | M13: =IF(OR(H13="",I13="",J13="",K13=""),"","(02)"&H13&" (17)"&TEXT(K13,"yymmdd")&" (37)"&I13&" (10)"&J13)
E14: =IF(OR(B14="",C14="",D14=""),"",B14&C14&D14) | F14: =IF(LEN(E14)<>17,"",MOD(10-MOD(MID(E14,1,1)*3+MID(E14,2,1)*1+MID(E14,3,1)*3+MID(E14,4,1)*1+MID(E14,5,1)*3+MID(E14,6,1)*1+MID(E14,7,1)*3+MID(E14,8,1)*1+MID(E14,9,1)*3+MID(E14,10,1)*1+MID(E14,11,1)*3+MID(E14,12,1)*1+MID(E14,13,1)*3+MID(E14,14,1)*1+MID(E14,15,1)*3+MID(E14,16,1)*1+MID(E14,17,1)*3,10),10)) | G14: =IF(F14="","",E14&F14) | L14: =IF(G14="","","(00)"&G14) | M14: =IF(OR(H14="",I14="",J14="",K14=""),"","(02)"&H14&" (17)"&TEXT(K14,"yymmdd")&" (37)"&I14&" (10)"&J14)
E15: =IF(OR(B15="",C15="",D15=""),"",B15&C15&D15) | F15: =IF(LEN(E15)<>17,"",MOD(10-MOD(MID(E15,1,1)*3+MID(E15,2,1)*1+MID(E15,3,1)*3+MID(E15,4,1)*1+MID(E15,5,1)*3+MID(E15,6,1)*1+MID(E15,7,1)*3+MID(E15,8,1)*1+MID(E15,9,1)*3+MID(E15,10,1)*1+MID(E15,11,1)*3+MID(E15,12,1)*1+MID(E15,13,1)*3+MID(E15,14,1)*1+MID(E15,15,1)*3+MID(E15,16,1)*1+MID(E15,17,1)*3,10),10)) | G15: =IF(F15="","",E15&F15) | L15: =IF(G15="","","(00)"&G15) | M15: =IF(OR(H15="",I15="",J15="",K15=""),"","(02)"&H15&" (17)"&TEXT(K15,"yymmdd")&" (37)"&I15&" (10)"&J15)
... E100: =IF(OR(B100="",C100="",D100=""),"",B100&C100&D100) | F100: =IF(LEN(E100)<>17,"",MOD(10-MOD(MID(E100,1,1)*3+MID(E100,2,1)*1+MID(E100,3,1)*3+MID(E100,4,1)*1+MID(E100,5,1)*3+MID(E100,6,1)*1+MID(E100,7,1)*3+MID(E100,8,1)*1+MID(E100,9,1)*3+MID(E100,10,1)*1+MID(E100,11,1)*3+MID(E100,12,1)*1+MID(E100,13,1)*3+MID(E100,14,1)*1+MID(E100,15,1)*3+MID(E100,16,1)*1+MID(E100,17,1)*3,10),10)) | G100: =IF(F100="","",E100&F100) | L100: =IF(G100="","","(00)"&G100) | M100: =IF(OR(H100="",I100="",J100="",K100=""),"","(02)"&H100&" (17)"&TEXT(K100,"yymmdd")&" (37)"&I100&" (10)"&J100)

Sheet Pallet label
A1: Pallet label
A2: From | B2: Saguaro Salsa Co., Tucson, AZ 85713 (made up)
A3: To | B3: Rio Grande Natural Foods, Albuquerque, NM 87105 (made up)
A4: Purchase order | B4: RG-55102
A5: Carrier | B5: Desert Line Freight (made up)
A6: Pallet | B6: ="1 of 2" -> 1 of 2
A7: Contents | B7: =Pallets!I2&" cases of GTIN "&Pallets!H2 -> 20 cases of GTIN 10061414110010
A8: Lot | B8: =Pallets!J2 -> SR-261012A
A9: Use by | B9: =Pallets!K2 -> 46321
A10: Barcode 1 (contents) reads | B10: =Pallets!M2 -> (02)10061414110010 (17)261026 (37)20 (10)SR-261012A
A11: Barcode 2 (SSCC) reads | B11: =Pallets!L2 -> (00)006141410000001019
A13: Print at 4 x 6 inches, two labels on adjacent sides of the pallet. The SSCC barcode goes at the bottom.

Sheet Read me
A1: Pallet label template
A2: From the article: https://www.tarostack.com/articles/pallet-label-template
A4: Pallets: one row for each pallet. The SSCC is the extension digit, your GS1 company prefix and a serial reference you never reuse, 17 digits, then a check digit worked out by formula: weights of 3 and 1 alternating from the left, and the number that brings the total to a multiple of 10.
A5: For a pallet of one product and one lot, the contents line carries (02) the cases' GTIN-14, (17) the use-by date as yymmdd, (37) how many cases and (10) the lot. A barcode encoder adds the separator the count needs before the lot.
A6: Pallet label: a printable label for the first pallet. The barcodes come from a label printer or a barcode generator fed the lines without the brackets and spaces.
A7: The example uses 0614141, the company prefix GS1 uses in its own examples. Use your own from GS1.
A9: Works in Excel (2010 and later), Google Sheets, LibreOffice and Numbers. No macros.
A10: Free to use and change. Made by TaroStack, inventory and production software for small producers: https://www.tarostack.com
