Workbook

Sheet Orders
A1: Order | B1: Order date | C1: Customer | D1: Channel | E1: Items | F1: Promised | G1: Status | H1: Out (shipped or picked up) | I1: Tracking | J1: Paid | K1: Days late
A2: 1201 | B2: 46357 | C2: Preorder | D2: Pickup | E2: 2 dozen chocolate chip | F2: 46361 | G2: Delivered | H2: 46361 | J2: Yes | K2: =IF(OR(A2="",F2=""),"",IF(H2<>"",MAX(0,H2-F2),IF(TODAY()>F2,TODAY()-F2,""))) -> 0
A3: 1202 | B3: 46357 | C3: Café, Draper | D3: Café | E3: 60 chocolate chip | F3: 46360 | G3: Delivered | H3: 46360 | J3: Yes | K3: =IF(OR(A3="",F3=""),"",IF(H3<>"",MAX(0,H3-F3),IF(TODAY()>F3,TODAY()-F3,""))) -> 0
A4: 1203 | B4: 46358 | C4: Online | D4: Shipped | E4: 1 dozen, gift box | F4: 46362 | G4: Delivered | H4: 46363 | I4: 9400 1000 0000 1203 | J4: Yes | K4: =IF(OR(A4="",F4=""),"",IF(H4<>"",MAX(0,H4-F4),IF(TODAY()>F4,TODAY()-F4,""))) -> 1
A5: 1204 | B5: 46358 | C5: Preorder | D5: Pickup | E5: 1 dozen decorated | F5: 46362 | G5: Delivered | H5: 46362 | J5: Yes | K5: =IF(OR(A5="",F5=""),"",IF(H5<>"",MAX(0,H5-F5),IF(TODAY()>F5,TODAY()-F5,""))) -> 0
A6: 1205 | B6: 46359 | C6: Office party | D6: Delivery | E6: 6 dozen mixed | F6: 46364 | G6: Delivered | H6: 46364 | J6: Yes | K6: =IF(OR(A6="",F6=""),"",IF(H6<>"",MAX(0,H6-F6),IF(TODAY()>F6,TODAY()-F6,""))) -> 0
A7: 1206 | B7: 46359 | C7: Online | D7: Shipped | E7: 2 dozen, gift box | F7: 46364 | G7: Shipped | H7: 46365 | I7: 9400 1000 0000 1206 | J7: Yes | K7: =IF(OR(A7="",F7=""),"",IF(H7<>"",MAX(0,H7-F7),IF(TODAY()>F7,TODAY()-F7,""))) -> 1
A8: 1207 | B8: 46360 | C8: Preorder | D8: Pickup | E8: 1 dozen chocolate chip | F8: 46365 | G8: Ready | J8: Yes | K8: =IF(OR(A8="",F8=""),"",IF(H8<>"",MAX(0,H8-F8),IF(TODAY()>F8,TODAY()-F8,"")))
A9: 1208 | B9: 46360 | C9: Café, Sandy | D9: Café | E9: 48 chocolate chip | F9: 46365 | G9: In production | J9: No | K9: =IF(OR(A9="",F9=""),"",IF(H9<>"",MAX(0,H9-F9),IF(TODAY()>F9,TODAY()-F9,"")))
A10: 1209 | B10: 46361 | C10: Preorder | D10: Pickup | E10: 2 dozen decorated | F10: 46366 | G10: New | J10: Yes | K10: =IF(OR(A10="",F10=""),"",IF(H10<>"",MAX(0,H10-F10),IF(TODAY()>F10,TODAY()-F10,"")))
A11: 1210 | B11: 46362 | C11: Online | D11: Shipped | E11: 1 dozen, gift box | F11: 46366 | G11: New | J11: Yes | K11: =IF(OR(A11="",F11=""),"",IF(H11<>"",MAX(0,H11-F11),IF(TODAY()>F11,TODAY()-F11,"")))
A12: 1211 | B12: 46363 | C12: Office party | D12: Delivery | E12: 4 dozen decorated | F12: 46368 | G12: New | J12: No | K12: =IF(OR(A12="",F12=""),"",IF(H12<>"",MAX(0,H12-F12),IF(TODAY()>F12,TODAY()-F12,"")))
A13: 1212 | B13: 46364 | C13: Preorder | D13: Pickup | E13: 1 dozen mixed | F13: 46368 | G13: New | J13: Yes | K13: =IF(OR(A13="",F13=""),"",IF(H13<>"",MAX(0,H13-F13),IF(TODAY()>F13,TODAY()-F13,"")))
K14: =IF(OR(A14="",F14=""),"",IF(H14<>"",MAX(0,H14-F14),IF(TODAY()>F14,TODAY()-F14,"")))
K15: =IF(OR(A15="",F15=""),"",IF(H15<>"",MAX(0,H15-F15),IF(TODAY()>F15,TODAY()-F15,"")))
K16: =IF(OR(A16="",F16=""),"",IF(H16<>"",MAX(0,H16-F16),IF(TODAY()>F16,TODAY()-F16,"")))
K17: =IF(OR(A17="",F17=""),"",IF(H17<>"",MAX(0,H17-F17),IF(TODAY()>F17,TODAY()-F17,"")))
K18: =IF(OR(A18="",F18=""),"",IF(H18<>"",MAX(0,H18-F18),IF(TODAY()>F18,TODAY()-F18,"")))
K19: =IF(OR(A19="",F19=""),"",IF(H19<>"",MAX(0,H19-F19),IF(TODAY()>F19,TODAY()-F19,"")))
K20: =IF(OR(A20="",F20=""),"",IF(H20<>"",MAX(0,H20-F20),IF(TODAY()>F20,TODAY()-F20,"")))
K21: =IF(OR(A21="",F21=""),"",IF(H21<>"",MAX(0,H21-F21),IF(TODAY()>F21,TODAY()-F21,"")))
K22: =IF(OR(A22="",F22=""),"",IF(H22<>"",MAX(0,H22-F22),IF(TODAY()>F22,TODAY()-F22,"")))
K23: =IF(OR(A23="",F23=""),"",IF(H23<>"",MAX(0,H23-F23),IF(TODAY()>F23,TODAY()-F23,"")))
K24: =IF(OR(A24="",F24=""),"",IF(H24<>"",MAX(0,H24-F24),IF(TODAY()>F24,TODAY()-F24,"")))
K25: =IF(OR(A25="",F25=""),"",IF(H25<>"",MAX(0,H25-F25),IF(TODAY()>F25,TODAY()-F25,"")))
... K163: =IF(OR(A163="",F163=""),"",IF(H163<>"",MAX(0,H163-F163),IF(TODAY()>F163,TODAY()-F163,"")))

Sheet Summary
A1: Measure | B1: Value
A2: Orders | B2: =COUNTA(Orders!A2:A163) -> 12
A3: Open (not out yet) | B3: =COUNTIFS(Orders!A2:A163,"<>",Orders!H2:H163,"")-COUNTIF(Orders!G2:G163,"Cancelled") -> 6
A4: Open and past the promised date | B4: =COUNTIFS(Orders!H2:H163,"",Orders!K2:K163,">0") -> 0
A5: Out | B5: =COUNT(Orders!H2:H163) -> 6
A6: Out on time | B6: =SUMPRODUCT((Orders!H2:H163<>"")*(Orders!H2:H163<=Orders!F2:F163)) -> 4
A7: On-time rate | B7: =IF(B5=0,"",B6/B5) -> 0.66666667
A8: Unpaid | B8: =COUNTIF(Orders!J2:J163,"No") -> 2

Sheet Read me
A1: Order tracking spreadsheet
A2: From the article: https://www.tarostack.com/articles/order-tracking-spreadsheet-template
A4: Orders: one row per order: number, date, customer, channel, items, promised date, status, the date it went out, tracking and paid. Days late fills in: for an order that's out, how many days after the promised date; for one that isn't, how many days past it today. Late rows turn red.
A5: Summary: orders, open orders, open orders past their promised date, orders out, out on time, the on-time rate and unpaid orders.
A6: The example is the article's made-up Utah cookie bakery's holiday preorders.
A8: Works in Excel (2010 and later), Google Sheets, LibreOffice and Numbers. No macros.
A9: Free to use and change. Made by TaroStack, inventory and production software for small producers: https://www.tarostack.com
