Workbook

Sheet Inputs
A1: Product | B1: Input | C1: Cost a unit | D1: From | E1: Imported?
A2: Taro chips, 5 oz bag | B2: Hawaii taro | C2: 0.62 | D2: Hawaii | E2: No
A3: Taro chips, 5 oz bag | B3: Sunflower oil | C3: 0.18 | D3: Mainland US | E3: No
A4: Taro chips, 5 oz bag | B4: Sea salt | C4: 0.01 | D4: Mainland US | E4: No
A5: Taro chips, 5 oz bag | B5: Printed bag | C5: 0.24 | D5: Mainland US | E5: No
A6: Guava jam, 9 oz jar | B6: Hawaii guava | C6: 0.95 | D6: Hawaii | E6: No
A7: Guava jam, 9 oz jar | B7: Cane sugar | C7: 0.4 | D7: Imported | E7: Yes
A8: Guava jam, 9 oz jar | B8: Pectin and lemon juice | C8: 0.12 | D8: Mainland US | E8: No
A9: Guava jam, 9 oz jar | B9: Jar, lid and label | C9: 0.65 | D9: Mainland US | E9: No

Sheet Claims
A1: Product | B1: Wholesale price | C1: Ingredient cost | D1: Imported ingredient cost | E1: Imported share of ingredients | F1: Inputs from outside Hawaii | G1: Value added in Hawaii | H1: Unqualified Made in USA? | I1: Made in Hawaii, 51%?
A2: Taro chips, 5 oz bag | B2: 2.92 | C2: =IF(A2="","",SUMIFS(Inputs!C$2:C$200,Inputs!A$2:A$200,A2)-SUMIFS(Inputs!C$2:C$200,Inputs!A$2:A$200,A2,Inputs!B$2:B$200,"*bag*")-SUMIFS(Inputs!C$2:C$200,Inputs!A$2:A$200,A2,Inputs!B$2:B$200,"*jar*")) -> 0.81 | D2: =IF(A2="","",SUMIFS(Inputs!C$2:C$200,Inputs!A$2:A$200,A2,Inputs!E$2:E$200,"Yes")) -> 0 | E2: =IF(OR(A2="",N(C2)=0),"",D2/C2) -> 0 | F2: =IF(A2="","",SUMIFS(Inputs!C$2:C$200,Inputs!A$2:A$200,A2)-SUMIFS(Inputs!C$2:C$200,Inputs!A$2:A$200,A2,Inputs!D$2:D$200,"Hawaii")) -> 0.43 | G2: =IF(OR(A2="",N(B2)=0),"",(B2-F2)/B2) -> 0.85273973 | H2: =IF(A2="","",IF(N(D2)=0,"Possible: no imported ingredients","Qualify it: an imported ingredient")) -> Possible: no imported ingredients | I2: =IF(G2="","",IF(G2>=0.51,"Yes","No")) -> Yes
A3: Guava jam, 9 oz jar | B3: 5.5 | C3: =IF(A3="","",SUMIFS(Inputs!C$2:C$200,Inputs!A$2:A$200,A3)-SUMIFS(Inputs!C$2:C$200,Inputs!A$2:A$200,A3,Inputs!B$2:B$200,"*bag*")-SUMIFS(Inputs!C$2:C$200,Inputs!A$2:A$200,A3,Inputs!B$2:B$200,"*jar*")) -> 1.47 | D3: =IF(A3="","",SUMIFS(Inputs!C$2:C$200,Inputs!A$2:A$200,A3,Inputs!E$2:E$200,"Yes")) -> 0.4 | E3: =IF(OR(A3="",N(C3)=0),"",D3/C3) -> 0.27210884 | F3: =IF(A3="","",SUMIFS(Inputs!C$2:C$200,Inputs!A$2:A$200,A3)-SUMIFS(Inputs!C$2:C$200,Inputs!A$2:A$200,A3,Inputs!D$2:D$200,"Hawaii")) -> 1.17 | G3: =IF(OR(A3="",N(B3)=0),"",(B3-F3)/B3) -> 0.78727273 | H3: =IF(A3="","",IF(N(D3)=0,"Possible: no imported ingredients","Qualify it: an imported ingredient")) -> Qualify it: an imported ingredient | I3: =IF(G3="","",IF(G3>=0.51,"Yes","No")) -> Yes
C4: =IF(A4="","",SUMIFS(Inputs!C$2:C$200,Inputs!A$2:A$200,A4)-SUMIFS(Inputs!C$2:C$200,Inputs!A$2:A$200,A4,Inputs!B$2:B$200,"*bag*")-SUMIFS(Inputs!C$2:C$200,Inputs!A$2:A$200,A4,Inputs!B$2:B$200,"*jar*")) | D4: =IF(A4="","",SUMIFS(Inputs!C$2:C$200,Inputs!A$2:A$200,A4,Inputs!E$2:E$200,"Yes")) | E4: =IF(OR(A4="",N(C4)=0),"",D4/C4) | F4: =IF(A4="","",SUMIFS(Inputs!C$2:C$200,Inputs!A$2:A$200,A4)-SUMIFS(Inputs!C$2:C$200,Inputs!A$2:A$200,A4,Inputs!D$2:D$200,"Hawaii")) | G4: =IF(OR(A4="",N(B4)=0),"",(B4-F4)/B4) | H4: =IF(A4="","",IF(N(D4)=0,"Possible: no imported ingredients","Qualify it: an imported ingredient")) | I4: =IF(G4="","",IF(G4>=0.51,"Yes","No"))
C5: =IF(A5="","",SUMIFS(Inputs!C$2:C$200,Inputs!A$2:A$200,A5)-SUMIFS(Inputs!C$2:C$200,Inputs!A$2:A$200,A5,Inputs!B$2:B$200,"*bag*")-SUMIFS(Inputs!C$2:C$200,Inputs!A$2:A$200,A5,Inputs!B$2:B$200,"*jar*")) | D5: =IF(A5="","",SUMIFS(Inputs!C$2:C$200,Inputs!A$2:A$200,A5,Inputs!E$2:E$200,"Yes")) | E5: =IF(OR(A5="",N(C5)=0),"",D5/C5) | F5: =IF(A5="","",SUMIFS(Inputs!C$2:C$200,Inputs!A$2:A$200,A5)-SUMIFS(Inputs!C$2:C$200,Inputs!A$2:A$200,A5,Inputs!D$2:D$200,"Hawaii")) | G5: =IF(OR(A5="",N(B5)=0),"",(B5-F5)/B5) | H5: =IF(A5="","",IF(N(D5)=0,"Possible: no imported ingredients","Qualify it: an imported ingredient")) | I5: =IF(G5="","",IF(G5>=0.51,"Yes","No"))
C6: =IF(A6="","",SUMIFS(Inputs!C$2:C$200,Inputs!A$2:A$200,A6)-SUMIFS(Inputs!C$2:C$200,Inputs!A$2:A$200,A6,Inputs!B$2:B$200,"*bag*")-SUMIFS(Inputs!C$2:C$200,Inputs!A$2:A$200,A6,Inputs!B$2:B$200,"*jar*")) | D6: =IF(A6="","",SUMIFS(Inputs!C$2:C$200,Inputs!A$2:A$200,A6,Inputs!E$2:E$200,"Yes")) | E6: =IF(OR(A6="",N(C6)=0),"",D6/C6) | F6: =IF(A6="","",SUMIFS(Inputs!C$2:C$200,Inputs!A$2:A$200,A6)-SUMIFS(Inputs!C$2:C$200,Inputs!A$2:A$200,A6,Inputs!D$2:D$200,"Hawaii")) | G6: =IF(OR(A6="",N(B6)=0),"",(B6-F6)/B6) | H6: =IF(A6="","",IF(N(D6)=0,"Possible: no imported ingredients","Qualify it: an imported ingredient")) | I6: =IF(G6="","",IF(G6>=0.51,"Yes","No"))
C7: =IF(A7="","",SUMIFS(Inputs!C$2:C$200,Inputs!A$2:A$200,A7)-SUMIFS(Inputs!C$2:C$200,Inputs!A$2:A$200,A7,Inputs!B$2:B$200,"*bag*")-SUMIFS(Inputs!C$2:C$200,Inputs!A$2:A$200,A7,Inputs!B$2:B$200,"*jar*")) | D7: =IF(A7="","",SUMIFS(Inputs!C$2:C$200,Inputs!A$2:A$200,A7,Inputs!E$2:E$200,"Yes")) | E7: =IF(OR(A7="",N(C7)=0),"",D7/C7) | F7: =IF(A7="","",SUMIFS(Inputs!C$2:C$200,Inputs!A$2:A$200,A7)-SUMIFS(Inputs!C$2:C$200,Inputs!A$2:A$200,A7,Inputs!D$2:D$200,"Hawaii")) | G7: =IF(OR(A7="",N(B7)=0),"",(B7-F7)/B7) | H7: =IF(A7="","",IF(N(D7)=0,"Possible: no imported ingredients","Qualify it: an imported ingredient")) | I7: =IF(G7="","",IF(G7>=0.51,"Yes","No"))
C8: =IF(A8="","",SUMIFS(Inputs!C$2:C$200,Inputs!A$2:A$200,A8)-SUMIFS(Inputs!C$2:C$200,Inputs!A$2:A$200,A8,Inputs!B$2:B$200,"*bag*")-SUMIFS(Inputs!C$2:C$200,Inputs!A$2:A$200,A8,Inputs!B$2:B$200,"*jar*")) | D8: =IF(A8="","",SUMIFS(Inputs!C$2:C$200,Inputs!A$2:A$200,A8,Inputs!E$2:E$200,"Yes")) | E8: =IF(OR(A8="",N(C8)=0),"",D8/C8) | F8: =IF(A8="","",SUMIFS(Inputs!C$2:C$200,Inputs!A$2:A$200,A8)-SUMIFS(Inputs!C$2:C$200,Inputs!A$2:A$200,A8,Inputs!D$2:D$200,"Hawaii")) | G8: =IF(OR(A8="",N(B8)=0),"",(B8-F8)/B8) | H8: =IF(A8="","",IF(N(D8)=0,"Possible: no imported ingredients","Qualify it: an imported ingredient")) | I8: =IF(G8="","",IF(G8>=0.51,"Yes","No"))
C9: =IF(A9="","",SUMIFS(Inputs!C$2:C$200,Inputs!A$2:A$200,A9)-SUMIFS(Inputs!C$2:C$200,Inputs!A$2:A$200,A9,Inputs!B$2:B$200,"*bag*")-SUMIFS(Inputs!C$2:C$200,Inputs!A$2:A$200,A9,Inputs!B$2:B$200,"*jar*")) | D9: =IF(A9="","",SUMIFS(Inputs!C$2:C$200,Inputs!A$2:A$200,A9,Inputs!E$2:E$200,"Yes")) | E9: =IF(OR(A9="",N(C9)=0),"",D9/C9) | F9: =IF(A9="","",SUMIFS(Inputs!C$2:C$200,Inputs!A$2:A$200,A9)-SUMIFS(Inputs!C$2:C$200,Inputs!A$2:A$200,A9,Inputs!D$2:D$200,"Hawaii")) | G9: =IF(OR(A9="",N(B9)=0),"",(B9-F9)/B9) | H9: =IF(A9="","",IF(N(D9)=0,"Possible: no imported ingredients","Qualify it: an imported ingredient")) | I9: =IF(G9="","",IF(G9>=0.51,"Yes","No"))
C10: =IF(A10="","",SUMIFS(Inputs!C$2:C$200,Inputs!A$2:A$200,A10)-SUMIFS(Inputs!C$2:C$200,Inputs!A$2:A$200,A10,Inputs!B$2:B$200,"*bag*")-SUMIFS(Inputs!C$2:C$200,Inputs!A$2:A$200,A10,Inputs!B$2:B$200,"*jar*")) | D10: =IF(A10="","",SUMIFS(Inputs!C$2:C$200,Inputs!A$2:A$200,A10,Inputs!E$2:E$200,"Yes")) | E10: =IF(OR(A10="",N(C10)=0),"",D10/C10) | F10: =IF(A10="","",SUMIFS(Inputs!C$2:C$200,Inputs!A$2:A$200,A10)-SUMIFS(Inputs!C$2:C$200,Inputs!A$2:A$200,A10,Inputs!D$2:D$200,"Hawaii")) | G10: =IF(OR(A10="",N(B10)=0),"",(B10-F10)/B10) | H10: =IF(A10="","",IF(N(D10)=0,"Possible: no imported ingredients","Qualify it: an imported ingredient")) | I10: =IF(G10="","",IF(G10>=0.51,"Yes","No"))
C11: =IF(A11="","",SUMIFS(Inputs!C$2:C$200,Inputs!A$2:A$200,A11)-SUMIFS(Inputs!C$2:C$200,Inputs!A$2:A$200,A11,Inputs!B$2:B$200,"*bag*")-SUMIFS(Inputs!C$2:C$200,Inputs!A$2:A$200,A11,Inputs!B$2:B$200,"*jar*")) | D11: =IF(A11="","",SUMIFS(Inputs!C$2:C$200,Inputs!A$2:A$200,A11,Inputs!E$2:E$200,"Yes")) | E11: =IF(OR(A11="",N(C11)=0),"",D11/C11) | F11: =IF(A11="","",SUMIFS(Inputs!C$2:C$200,Inputs!A$2:A$200,A11)-SUMIFS(Inputs!C$2:C$200,Inputs!A$2:A$200,A11,Inputs!D$2:D$200,"Hawaii")) | G11: =IF(OR(A11="",N(B11)=0),"",(B11-F11)/B11) | H11: =IF(A11="","",IF(N(D11)=0,"Possible: no imported ingredients","Qualify it: an imported ingredient")) | I11: =IF(G11="","",IF(G11>=0.51,"Yes","No"))
C12: =IF(A12="","",SUMIFS(Inputs!C$2:C$200,Inputs!A$2:A$200,A12)-SUMIFS(Inputs!C$2:C$200,Inputs!A$2:A$200,A12,Inputs!B$2:B$200,"*bag*")-SUMIFS(Inputs!C$2:C$200,Inputs!A$2:A$200,A12,Inputs!B$2:B$200,"*jar*")) | D12: =IF(A12="","",SUMIFS(Inputs!C$2:C$200,Inputs!A$2:A$200,A12,Inputs!E$2:E$200,"Yes")) | E12: =IF(OR(A12="",N(C12)=0),"",D12/C12) | F12: =IF(A12="","",SUMIFS(Inputs!C$2:C$200,Inputs!A$2:A$200,A12)-SUMIFS(Inputs!C$2:C$200,Inputs!A$2:A$200,A12,Inputs!D$2:D$200,"Hawaii")) | G12: =IF(OR(A12="",N(B12)=0),"",(B12-F12)/B12) | H12: =IF(A12="","",IF(N(D12)=0,"Possible: no imported ingredients","Qualify it: an imported ingredient")) | I12: =IF(G12="","",IF(G12>=0.51,"Yes","No"))
C13: =IF(A13="","",SUMIFS(Inputs!C$2:C$200,Inputs!A$2:A$200,A13)-SUMIFS(Inputs!C$2:C$200,Inputs!A$2:A$200,A13,Inputs!B$2:B$200,"*bag*")-SUMIFS(Inputs!C$2:C$200,Inputs!A$2:A$200,A13,Inputs!B$2:B$200,"*jar*")) | D13: =IF(A13="","",SUMIFS(Inputs!C$2:C$200,Inputs!A$2:A$200,A13,Inputs!E$2:E$200,"Yes")) | E13: =IF(OR(A13="",N(C13)=0),"",D13/C13) | F13: =IF(A13="","",SUMIFS(Inputs!C$2:C$200,Inputs!A$2:A$200,A13)-SUMIFS(Inputs!C$2:C$200,Inputs!A$2:A$200,A13,Inputs!D$2:D$200,"Hawaii")) | G13: =IF(OR(A13="",N(B13)=0),"",(B13-F13)/B13) | H13: =IF(A13="","",IF(N(D13)=0,"Possible: no imported ingredients","Qualify it: an imported ingredient")) | I13: =IF(G13="","",IF(G13>=0.51,"Yes","No"))
C14: =IF(A14="","",SUMIFS(Inputs!C$2:C$200,Inputs!A$2:A$200,A14)-SUMIFS(Inputs!C$2:C$200,Inputs!A$2:A$200,A14,Inputs!B$2:B$200,"*bag*")-SUMIFS(Inputs!C$2:C$200,Inputs!A$2:A$200,A14,Inputs!B$2:B$200,"*jar*")) | D14: =IF(A14="","",SUMIFS(Inputs!C$2:C$200,Inputs!A$2:A$200,A14,Inputs!E$2:E$200,"Yes")) | E14: =IF(OR(A14="",N(C14)=0),"",D14/C14) | F14: =IF(A14="","",SUMIFS(Inputs!C$2:C$200,Inputs!A$2:A$200,A14)-SUMIFS(Inputs!C$2:C$200,Inputs!A$2:A$200,A14,Inputs!D$2:D$200,"Hawaii")) | G14: =IF(OR(A14="",N(B14)=0),"",(B14-F14)/B14) | H14: =IF(A14="","",IF(N(D14)=0,"Possible: no imported ingredients","Qualify it: an imported ingredient")) | I14: =IF(G14="","",IF(G14>=0.51,"Yes","No"))
C15: =IF(A15="","",SUMIFS(Inputs!C$2:C$200,Inputs!A$2:A$200,A15)-SUMIFS(Inputs!C$2:C$200,Inputs!A$2:A$200,A15,Inputs!B$2:B$200,"*bag*")-SUMIFS(Inputs!C$2:C$200,Inputs!A$2:A$200,A15,Inputs!B$2:B$200,"*jar*")) | D15: =IF(A15="","",SUMIFS(Inputs!C$2:C$200,Inputs!A$2:A$200,A15,Inputs!E$2:E$200,"Yes")) | E15: =IF(OR(A15="",N(C15)=0),"",D15/C15) | F15: =IF(A15="","",SUMIFS(Inputs!C$2:C$200,Inputs!A$2:A$200,A15)-SUMIFS(Inputs!C$2:C$200,Inputs!A$2:A$200,A15,Inputs!D$2:D$200,"Hawaii")) | G15: =IF(OR(A15="",N(B15)=0),"",(B15-F15)/B15) | H15: =IF(A15="","",IF(N(D15)=0,"Possible: no imported ingredients","Qualify it: an imported ingredient")) | I15: =IF(G15="","",IF(G15>=0.51,"Yes","No"))
... C20: =IF(A20="","",SUMIFS(Inputs!C$2:C$200,Inputs!A$2:A$200,A20)-SUMIFS(Inputs!C$2:C$200,Inputs!A$2:A$200,A20,Inputs!B$2:B$200,"*bag*")-SUMIFS(Inputs!C$2:C$200,Inputs!A$2:A$200,A20,Inputs!B$2:B$200,"*jar*")) | D20: =IF(A20="","",SUMIFS(Inputs!C$2:C$200,Inputs!A$2:A$200,A20,Inputs!E$2:E$200,"Yes")) | E20: =IF(OR(A20="",N(C20)=0),"",D20/C20) | F20: =IF(A20="","",SUMIFS(Inputs!C$2:C$200,Inputs!A$2:A$200,A20)-SUMIFS(Inputs!C$2:C$200,Inputs!A$2:A$200,A20,Inputs!D$2:D$200,"Hawaii")) | G20: =IF(OR(A20="",N(B20)=0),"",(B20-F20)/B20) | H20: =IF(A20="","",IF(N(D20)=0,"Possible: no imported ingredients","Qualify it: an imported ingredient")) | I20: =IF(G20="","",IF(G20>=0.51,"Yes","No"))
A23: An unqualified Made in USA claim needs final processing and all significant processing in the US, and all or virtually all ingredients made and sourced in the US (16 CFR 323.2). Hawaii: a perishable product labeled made, produced or processed in Hawaii has at least 51% of its wholesale value added in the State (HRS 486-119(b)). This sheet counts packaging out of the ingredient share and estimates Hawaii value added as the wholesale price less inputs from outside Hawaii; ask the agency how it counts.

Sheet Read me
A1: Made in USA and Made in Hawaii: an origin claim checker
A2: From the article: https://www.tarostack.com/articles/made-in-usa-food-label
A4: The example is the article's made-up Oʻahu taro business, checking its chips and guava jam.
A5: Inputs: each product's inputs with their cost, where they come from, and whether they're imported.
A6: Claims: the imported share of the ingredients by cost, the value added in Hawaii as a share of the wholesale price, and what that means for an unqualified Made in USA claim and a Made in Hawaii claim.
A8: Works in Excel (2010 and later), Google Sheets, LibreOffice and Numbers. No macros.
A9: Free to use and change. Made by TaroStack, inventory and production software for small producers: https://www.tarostack.com
