Workbook

Sheet Ingredients
A1: Home state | B1: Minnesota
A2: State program share | B2: 0.8
A4: Product | B4: Ingredient | C4: Weight (g) | D4: Grown in | E4: Miles traveled
A5: Strawberry jam | B5: Strawberries | C5: 500 | D5: Minnesota | E5: 40
A6: Strawberry jam | B6: Beet sugar | C6: 420 | D6: Minnesota | E6: 180
A7: Strawberry jam | B7: Lemon juice | C7: 30 | D7: California | E7: 1900
A8: Strawberry jam | B8: Pectin | C8: 10 | D8: Mexico | E8: 1700
A9: Maple oat granola | B9: Rolled oats | C9: 450 | D9: Minnesota | E9: 120
A10: Maple oat granola | B10: Maple syrup | C10: 140 | D10: Minnesota | E10: 210
A11: Maple oat granola | B11: Sunflower oil | C11: 90 | D11: North Dakota | E11: 330
A12: Maple oat granola | B12: Almonds | C12: 120 | D12: California | E12: 1900
A13: Maple oat granola | B13: Salt | C13: 5 | D13: Kansas | E13: 600
A14: Ground beef | B14: Beef | C14: 1000 | D14: Minnesota | E14: 60
A56: Weigh what's in the recipe, not what's on the label. Water and salt can be left out if your program says so.

Sheet Products
A1: Product | B1: Total weight (g) | C1: Grown in the home state | D1: From under 400 miles | E1: Meets the state program share?
A2: Strawberry jam | B2: =SUMIF(Ingredients!$A$5:$A$54,A2,Ingredients!$C$5:$C$54) -> 960 | C2: =IF(N(B2)=0,"",SUMIFS(Ingredients!$C$5:$C$54,Ingredients!$A$5:$A$54,A2,Ingredients!$D$5:$D$54,Ingredients!$B$1)/B2) -> 0.95833333 | D2: =IF(N(B2)=0,"",SUMIFS(Ingredients!$C$5:$C$54,Ingredients!$A$5:$A$54,A2,Ingredients!$E$5:$E$54,"<400")/B2) -> 0.95833333 | E2: =IF(C2="","",IF(C2>=Ingredients!$B$2,"Yes","No")) -> Yes
A3: Maple oat granola | B3: =SUMIF(Ingredients!$A$5:$A$54,A3,Ingredients!$C$5:$C$54) -> 805 | C3: =IF(N(B3)=0,"",SUMIFS(Ingredients!$C$5:$C$54,Ingredients!$A$5:$A$54,A3,Ingredients!$D$5:$D$54,Ingredients!$B$1)/B3) -> 0.73291925 | D3: =IF(N(B3)=0,"",SUMIFS(Ingredients!$C$5:$C$54,Ingredients!$A$5:$A$54,A3,Ingredients!$E$5:$E$54,"<400")/B3) -> 0.8447205 | E3: =IF(C3="","",IF(C3>=Ingredients!$B$2,"Yes","No")) -> No
A4: Ground beef | B4: =SUMIF(Ingredients!$A$5:$A$54,A4,Ingredients!$C$5:$C$54) -> 1000 | C4: =IF(N(B4)=0,"",SUMIFS(Ingredients!$C$5:$C$54,Ingredients!$A$5:$A$54,A4,Ingredients!$D$5:$D$54,Ingredients!$B$1)/B4) -> 1 | D4: =IF(N(B4)=0,"",SUMIFS(Ingredients!$C$5:$C$54,Ingredients!$A$5:$A$54,A4,Ingredients!$E$5:$E$54,"<400")/B4) -> 1 | E4: =IF(C4="","",IF(C4>=Ingredients!$B$2,"Yes","No")) -> Yes
B5: =IF(A5="","",SUMIF(Ingredients!$A$5:$A$54,A5,Ingredients!$C$5:$C$54)) | C5: =IF(OR(A5="",N(B5)=0),"",SUMIFS(Ingredients!$C$5:$C$54,Ingredients!$A$5:$A$54,A5,Ingredients!$D$5:$D$54,Ingredients!$B$1)/B5) | D5: =IF(OR(A5="",N(B5)=0),"",SUMIFS(Ingredients!$C$5:$C$54,Ingredients!$A$5:$A$54,A5,Ingredients!$E$5:$E$54,"<400")/B5) | E5: =IF(C5="","",IF(C5>=Ingredients!$B$2,"Yes","No"))
B6: =IF(A6="","",SUMIF(Ingredients!$A$5:$A$54,A6,Ingredients!$C$5:$C$54)) | C6: =IF(OR(A6="",N(B6)=0),"",SUMIFS(Ingredients!$C$5:$C$54,Ingredients!$A$5:$A$54,A6,Ingredients!$D$5:$D$54,Ingredients!$B$1)/B6) | D6: =IF(OR(A6="",N(B6)=0),"",SUMIFS(Ingredients!$C$5:$C$54,Ingredients!$A$5:$A$54,A6,Ingredients!$E$5:$E$54,"<400")/B6) | E6: =IF(C6="","",IF(C6>=Ingredients!$B$2,"Yes","No"))
B7: =IF(A7="","",SUMIF(Ingredients!$A$5:$A$54,A7,Ingredients!$C$5:$C$54)) | C7: =IF(OR(A7="",N(B7)=0),"",SUMIFS(Ingredients!$C$5:$C$54,Ingredients!$A$5:$A$54,A7,Ingredients!$D$5:$D$54,Ingredients!$B$1)/B7) | D7: =IF(OR(A7="",N(B7)=0),"",SUMIFS(Ingredients!$C$5:$C$54,Ingredients!$A$5:$A$54,A7,Ingredients!$E$5:$E$54,"<400")/B7) | E7: =IF(C7="","",IF(C7>=Ingredients!$B$2,"Yes","No"))
B8: =IF(A8="","",SUMIF(Ingredients!$A$5:$A$54,A8,Ingredients!$C$5:$C$54)) | C8: =IF(OR(A8="",N(B8)=0),"",SUMIFS(Ingredients!$C$5:$C$54,Ingredients!$A$5:$A$54,A8,Ingredients!$D$5:$D$54,Ingredients!$B$1)/B8) | D8: =IF(OR(A8="",N(B8)=0),"",SUMIFS(Ingredients!$C$5:$C$54,Ingredients!$A$5:$A$54,A8,Ingredients!$E$5:$E$54,"<400")/B8) | E8: =IF(C8="","",IF(C8>=Ingredients!$B$2,"Yes","No"))
B9: =IF(A9="","",SUMIF(Ingredients!$A$5:$A$54,A9,Ingredients!$C$5:$C$54)) | C9: =IF(OR(A9="",N(B9)=0),"",SUMIFS(Ingredients!$C$5:$C$54,Ingredients!$A$5:$A$54,A9,Ingredients!$D$5:$D$54,Ingredients!$B$1)/B9) | D9: =IF(OR(A9="",N(B9)=0),"",SUMIFS(Ingredients!$C$5:$C$54,Ingredients!$A$5:$A$54,A9,Ingredients!$E$5:$E$54,"<400")/B9) | E9: =IF(C9="","",IF(C9>=Ingredients!$B$2,"Yes","No"))
B10: =IF(A10="","",SUMIF(Ingredients!$A$5:$A$54,A10,Ingredients!$C$5:$C$54)) | C10: =IF(OR(A10="",N(B10)=0),"",SUMIFS(Ingredients!$C$5:$C$54,Ingredients!$A$5:$A$54,A10,Ingredients!$D$5:$D$54,Ingredients!$B$1)/B10) | D10: =IF(OR(A10="",N(B10)=0),"",SUMIFS(Ingredients!$C$5:$C$54,Ingredients!$A$5:$A$54,A10,Ingredients!$E$5:$E$54,"<400")/B10) | E10: =IF(C10="","",IF(C10>=Ingredients!$B$2,"Yes","No"))
B11: =IF(A11="","",SUMIF(Ingredients!$A$5:$A$54,A11,Ingredients!$C$5:$C$54)) | C11: =IF(OR(A11="",N(B11)=0),"",SUMIFS(Ingredients!$C$5:$C$54,Ingredients!$A$5:$A$54,A11,Ingredients!$D$5:$D$54,Ingredients!$B$1)/B11) | D11: =IF(OR(A11="",N(B11)=0),"",SUMIFS(Ingredients!$C$5:$C$54,Ingredients!$A$5:$A$54,A11,Ingredients!$E$5:$E$54,"<400")/B11) | E11: =IF(C11="","",IF(C11>=Ingredients!$B$2,"Yes","No"))
B12: =IF(A12="","",SUMIF(Ingredients!$A$5:$A$54,A12,Ingredients!$C$5:$C$54)) | C12: =IF(OR(A12="",N(B12)=0),"",SUMIFS(Ingredients!$C$5:$C$54,Ingredients!$A$5:$A$54,A12,Ingredients!$D$5:$D$54,Ingredients!$B$1)/B12) | D12: =IF(OR(A12="",N(B12)=0),"",SUMIFS(Ingredients!$C$5:$C$54,Ingredients!$A$5:$A$54,A12,Ingredients!$E$5:$E$54,"<400")/B12) | E12: =IF(C12="","",IF(C12>=Ingredients!$B$2,"Yes","No"))
B13: =IF(A13="","",SUMIF(Ingredients!$A$5:$A$54,A13,Ingredients!$C$5:$C$54)) | C13: =IF(OR(A13="",N(B13)=0),"",SUMIFS(Ingredients!$C$5:$C$54,Ingredients!$A$5:$A$54,A13,Ingredients!$D$5:$D$54,Ingredients!$B$1)/B13) | D13: =IF(OR(A13="",N(B13)=0),"",SUMIFS(Ingredients!$C$5:$C$54,Ingredients!$A$5:$A$54,A13,Ingredients!$E$5:$E$54,"<400")/B13) | E13: =IF(C13="","",IF(C13>=Ingredients!$B$2,"Yes","No"))
B14: =IF(A14="","",SUMIF(Ingredients!$A$5:$A$54,A14,Ingredients!$C$5:$C$54)) | C14: =IF(OR(A14="",N(B14)=0),"",SUMIFS(Ingredients!$C$5:$C$54,Ingredients!$A$5:$A$54,A14,Ingredients!$D$5:$D$54,Ingredients!$B$1)/B14) | D14: =IF(OR(A14="",N(B14)=0),"",SUMIFS(Ingredients!$C$5:$C$54,Ingredients!$A$5:$A$54,A14,Ingredients!$E$5:$E$54,"<400")/B14) | E14: =IF(C14="","",IF(C14>=Ingredients!$B$2,"Yes","No"))
B15: =IF(A15="","",SUMIF(Ingredients!$A$5:$A$54,A15,Ingredients!$C$5:$C$54)) | C15: =IF(OR(A15="",N(B15)=0),"",SUMIFS(Ingredients!$C$5:$C$54,Ingredients!$A$5:$A$54,A15,Ingredients!$D$5:$D$54,Ingredients!$B$1)/B15) | D15: =IF(OR(A15="",N(B15)=0),"",SUMIFS(Ingredients!$C$5:$C$54,Ingredients!$A$5:$A$54,A15,Ingredients!$E$5:$E$54,"<400")/B15) | E15: =IF(C15="","",IF(C15>=Ingredients!$B$2,"Yes","No"))
B16: =IF(A16="","",SUMIF(Ingredients!$A$5:$A$54,A16,Ingredients!$C$5:$C$54)) | C16: =IF(OR(A16="",N(B16)=0),"",SUMIFS(Ingredients!$C$5:$C$54,Ingredients!$A$5:$A$54,A16,Ingredients!$D$5:$D$54,Ingredients!$B$1)/B16) | D16: =IF(OR(A16="",N(B16)=0),"",SUMIFS(Ingredients!$C$5:$C$54,Ingredients!$A$5:$A$54,A16,Ingredients!$E$5:$E$54,"<400")/B16) | E16: =IF(C16="","",IF(C16>=Ingredients!$B$2,"Yes","No"))
... B21: =IF(A21="","",SUMIF(Ingredients!$A$5:$A$54,A21,Ingredients!$C$5:$C$54)) | C21: =IF(OR(A21="",N(B21)=0),"",SUMIFS(Ingredients!$C$5:$C$54,Ingredients!$A$5:$A$54,A21,Ingredients!$D$5:$D$54,Ingredients!$B$1)/B21) | D21: =IF(OR(A21="",N(B21)=0),"",SUMIFS(Ingredients!$C$5:$C$54,Ingredients!$A$5:$A$54,A21,Ingredients!$E$5:$E$54,"<400")/B21) | E21: =IF(C21="","",IF(C21>=Ingredients!$B$2,"Yes","No"))
A24: Add a product's name in column A to total its ingredients from the first sheet.

Sheet Read me
A1: How local is it: share by weight
A2: From the article: https://www.tarostack.com/articles/locally-grown-label
A4: Ingredients: type the home state and the state program's share at the top, then each product's ingredients with weight, where each was grown and how far it traveled.
A5: Products: the share grown in the home state, the share from under 400 miles, and whether the state share is met fill in.
A6: The example is the article's made-up Mankato food hub. A state program's rules decide what counts.
A8: Works in Excel (2010 and later), Google Sheets, LibreOffice and Numbers. No macros.
A9: Free to use and change. Made by TaroStack, inventory and production software for small producers: https://www.tarostack.com
