Workbook

Sheet Inventory
A1: Item | B1: Category | C1: Unit | D1: Supplier | E1: Cost per unit | F1: Opening stock | G1: In | H1: Out | I1: On hand | J1: Value | K1: Reorder at | L1: Reorder qty | M1: Status | O1: Stock value
A2: Taro | B2: Ingredient | C2: lb | D2: Kahuku Farm | E2: 1.12 | F2: 500 | G2: =IF(A2="","",SUMIFS(Log!$D$2:$D$1000,Log!$B$2:$B$1000,A2)) -> 400 | H2: =IF(A2="","",SUMIFS(Log!$E$2:$E$1000,Log!$B$2:$B$1000,A2)) -> 420 | I2: =IF(A2="","",IF(F2="",0,F2)+G2-H2) -> 480 | J2: =IF(A2="","",IF(E2="",0,ROUND(I2*E2,2))) -> 537.6 | K2: 300 | L2: 400 | M2: =IF(OR(A2="",K2=""),"",IF(I2<=K2,"Reorder","OK")) -> OK | O2: =SUM(J2:J100) -> 1879.6
A3: Coconut milk | B3: Ingredient | C3: can | D3: Island Foods Supply | E3: 1.85 | F3: 48 | G3: =IF(A3="","",SUMIFS(Log!$D$2:$D$1000,Log!$B$2:$B$1000,A3)) -> 0 | H3: =IF(A3="","",SUMIFS(Log!$E$2:$E$1000,Log!$B$2:$B$1000,A3)) -> 0 | I3: =IF(A3="","",IF(F3="",0,F3)+G3-H3) -> 48 | J3: =IF(A3="","",IF(E3="",0,ROUND(I3*E3,2))) -> 88.8 | K3: 24 | L3: 48 | M3: =IF(OR(A3="",K3=""),"",IF(I3<=K3,"Reorder","OK")) -> OK
A4: Sea salt | B4: Ingredient | C4: lb | D4: Sea Salt Co | E4: 2.4 | F4: 30 | G4: =IF(A4="","",SUMIFS(Log!$D$2:$D$1000,Log!$B$2:$B$1000,A4)) -> 0 | H4: =IF(A4="","",SUMIFS(Log!$E$2:$E$1000,Log!$B$2:$B$1000,A4)) -> 8 | I4: =IF(A4="","",IF(F4="",0,F4)+G4-H4) -> 22 | J4: =IF(A4="","",IF(E4="",0,ROUND(I4*E4,2))) -> 52.8 | K4: 10 | L4: 20 | M4: =IF(OR(A4="",K4=""),"",IF(I4<=K4,"Reorder","OK")) -> OK | O4: Items to reorder
A5: Frying oil | B5: Ingredient | C5: jug | D5: Pacific Oils | E5: 38 | F5: 6 | G5: =IF(A5="","",SUMIFS(Log!$D$2:$D$1000,Log!$B$2:$B$1000,A5)) -> 0 | H5: =IF(A5="","",SUMIFS(Log!$E$2:$E$1000,Log!$B$2:$B$1000,A5)) -> 2 | I5: =IF(A5="","",IF(F5="",0,F5)+G5-H5) -> 4 | J5: =IF(A5="","",IF(E5="",0,ROUND(I5*E5,2))) -> 152 | K5: 4 | L5: 6 | M5: =IF(OR(A5="",K5=""),"",IF(I5<=K5,"Reorder","OK")) -> Reorder | O5: =COUNTIF(M2:M100,"Reorder") -> 1
A6: Bags, 5 oz | B6: Packaging | C6: each | D6: Packaging supplier | E6: 0.31 | F6: 1200 | G6: =IF(A6="","",SUMIFS(Log!$D$2:$D$1000,Log!$B$2:$B$1000,A6)) -> 0 | H6: =IF(A6="","",SUMIFS(Log!$E$2:$E$1000,Log!$B$2:$B$1000,A6)) -> 480 | I6: =IF(A6="","",IF(F6="",0,F6)+G6-H6) -> 720 | J6: =IF(A6="","",IF(E6="",0,ROUND(I6*E6,2))) -> 223.2 | K6: 500 | L6: 1000 | M6: =IF(OR(A6="",K6=""),"",IF(I6<=K6,"Reorder","OK")) -> OK
A7: Cases, 12-bag | B7: Packaging | C7: each | D7: Packaging supplier | E7: 1.1 | F7: 120 | G7: =IF(A7="","",SUMIFS(Log!$D$2:$D$1000,Log!$B$2:$B$1000,A7)) -> 0 | H7: =IF(A7="","",SUMIFS(Log!$E$2:$E$1000,Log!$B$2:$B$1000,A7)) -> 40 | I7: =IF(A7="","",IF(F7="",0,F7)+G7-H7) -> 80 | J7: =IF(A7="","",IF(E7="",0,ROUND(I7*E7,2))) -> 88 | K7: 40 | L7: 100 | M7: =IF(OR(A7="",K7=""),"",IF(I7<=K7,"Reorder","OK")) -> OK
A8: Labels, 5 oz | B8: Packaging | C8: roll | D8: Label printer | E8: 40 | F8: 4 | G8: =IF(A8="","",SUMIFS(Log!$D$2:$D$1000,Log!$B$2:$B$1000,A8)) -> 0 | H8: =IF(A8="","",SUMIFS(Log!$E$2:$E$1000,Log!$B$2:$B$1000,A8)) -> 0 | I8: =IF(A8="","",IF(F8="",0,F8)+G8-H8) -> 4 | J8: =IF(A8="","",IF(E8="",0,ROUND(I8*E8,2))) -> 160 | K8: 2 | L8: 4 | M8: =IF(OR(A8="",K8=""),"",IF(I8<=K8,"Reorder","OK")) -> OK
A9: Taro chips, 5 oz | B9: Finished | C9: bag | E9: 1.95 | F9: 300 | G9: =IF(A9="","",SUMIFS(Log!$D$2:$D$1000,Log!$B$2:$B$1000,A9)) -> 476 | H9: =IF(A9="","",SUMIFS(Log!$E$2:$E$1000,Log!$B$2:$B$1000,A9)) -> 480 | I9: =IF(A9="","",IF(F9="",0,F9)+G9-H9) -> 296 | J9: =IF(A9="","",IF(E9="",0,ROUND(I9*E9,2))) -> 577.2 | K9: 240 | M9: =IF(OR(A9="",K9=""),"",IF(I9<=K9,"Reorder","OK")) -> OK
G10: =IF(A10="","",SUMIFS(Log!$D$2:$D$1000,Log!$B$2:$B$1000,A10)) | H10: =IF(A10="","",SUMIFS(Log!$E$2:$E$1000,Log!$B$2:$B$1000,A10)) | I10: =IF(A10="","",IF(F10="",0,F10)+G10-H10) | J10: =IF(A10="","",IF(E10="",0,ROUND(I10*E10,2))) | M10: =IF(OR(A10="",K10=""),"",IF(I10<=K10,"Reorder","OK"))
G11: =IF(A11="","",SUMIFS(Log!$D$2:$D$1000,Log!$B$2:$B$1000,A11)) | H11: =IF(A11="","",SUMIFS(Log!$E$2:$E$1000,Log!$B$2:$B$1000,A11)) | I11: =IF(A11="","",IF(F11="",0,F11)+G11-H11) | J11: =IF(A11="","",IF(E11="",0,ROUND(I11*E11,2))) | M11: =IF(OR(A11="",K11=""),"",IF(I11<=K11,"Reorder","OK"))
G12: =IF(A12="","",SUMIFS(Log!$D$2:$D$1000,Log!$B$2:$B$1000,A12)) | H12: =IF(A12="","",SUMIFS(Log!$E$2:$E$1000,Log!$B$2:$B$1000,A12)) | I12: =IF(A12="","",IF(F12="",0,F12)+G12-H12) | J12: =IF(A12="","",IF(E12="",0,ROUND(I12*E12,2))) | M12: =IF(OR(A12="",K12=""),"",IF(I12<=K12,"Reorder","OK"))
G13: =IF(A13="","",SUMIFS(Log!$D$2:$D$1000,Log!$B$2:$B$1000,A13)) | H13: =IF(A13="","",SUMIFS(Log!$E$2:$E$1000,Log!$B$2:$B$1000,A13)) | I13: =IF(A13="","",IF(F13="",0,F13)+G13-H13) | J13: =IF(A13="","",IF(E13="",0,ROUND(I13*E13,2))) | M13: =IF(OR(A13="",K13=""),"",IF(I13<=K13,"Reorder","OK"))
G14: =IF(A14="","",SUMIFS(Log!$D$2:$D$1000,Log!$B$2:$B$1000,A14)) | H14: =IF(A14="","",SUMIFS(Log!$E$2:$E$1000,Log!$B$2:$B$1000,A14)) | I14: =IF(A14="","",IF(F14="",0,F14)+G14-H14) | J14: =IF(A14="","",IF(E14="",0,ROUND(I14*E14,2))) | M14: =IF(OR(A14="",K14=""),"",IF(I14<=K14,"Reorder","OK"))
G15: =IF(A15="","",SUMIFS(Log!$D$2:$D$1000,Log!$B$2:$B$1000,A15)) | H15: =IF(A15="","",SUMIFS(Log!$E$2:$E$1000,Log!$B$2:$B$1000,A15)) | I15: =IF(A15="","",IF(F15="",0,F15)+G15-H15) | J15: =IF(A15="","",IF(E15="",0,ROUND(I15*E15,2))) | M15: =IF(OR(A15="",K15=""),"",IF(I15<=K15,"Reorder","OK"))
G16: =IF(A16="","",SUMIFS(Log!$D$2:$D$1000,Log!$B$2:$B$1000,A16)) | H16: =IF(A16="","",SUMIFS(Log!$E$2:$E$1000,Log!$B$2:$B$1000,A16)) | I16: =IF(A16="","",IF(F16="",0,F16)+G16-H16) | J16: =IF(A16="","",IF(E16="",0,ROUND(I16*E16,2))) | M16: =IF(OR(A16="",K16=""),"",IF(I16<=K16,"Reorder","OK"))
G17: =IF(A17="","",SUMIFS(Log!$D$2:$D$1000,Log!$B$2:$B$1000,A17)) | H17: =IF(A17="","",SUMIFS(Log!$E$2:$E$1000,Log!$B$2:$B$1000,A17)) | I17: =IF(A17="","",IF(F17="",0,F17)+G17-H17) | J17: =IF(A17="","",IF(E17="",0,ROUND(I17*E17,2))) | M17: =IF(OR(A17="",K17=""),"",IF(I17<=K17,"Reorder","OK"))
G18: =IF(A18="","",SUMIFS(Log!$D$2:$D$1000,Log!$B$2:$B$1000,A18)) | H18: =IF(A18="","",SUMIFS(Log!$E$2:$E$1000,Log!$B$2:$B$1000,A18)) | I18: =IF(A18="","",IF(F18="",0,F18)+G18-H18) | J18: =IF(A18="","",IF(E18="",0,ROUND(I18*E18,2))) | M18: =IF(OR(A18="",K18=""),"",IF(I18<=K18,"Reorder","OK"))
G19: =IF(A19="","",SUMIFS(Log!$D$2:$D$1000,Log!$B$2:$B$1000,A19)) | H19: =IF(A19="","",SUMIFS(Log!$E$2:$E$1000,Log!$B$2:$B$1000,A19)) | I19: =IF(A19="","",IF(F19="",0,F19)+G19-H19) | J19: =IF(A19="","",IF(E19="",0,ROUND(I19*E19,2))) | M19: =IF(OR(A19="",K19=""),"",IF(I19<=K19,"Reorder","OK"))
G20: =IF(A20="","",SUMIFS(Log!$D$2:$D$1000,Log!$B$2:$B$1000,A20)) | H20: =IF(A20="","",SUMIFS(Log!$E$2:$E$1000,Log!$B$2:$B$1000,A20)) | I20: =IF(A20="","",IF(F20="",0,F20)+G20-H20) | J20: =IF(A20="","",IF(E20="",0,ROUND(I20*E20,2))) | M20: =IF(OR(A20="",K20=""),"",IF(I20<=K20,"Reorder","OK"))
G21: =IF(A21="","",SUMIFS(Log!$D$2:$D$1000,Log!$B$2:$B$1000,A21)) | H21: =IF(A21="","",SUMIFS(Log!$E$2:$E$1000,Log!$B$2:$B$1000,A21)) | I21: =IF(A21="","",IF(F21="",0,F21)+G21-H21) | J21: =IF(A21="","",IF(E21="",0,ROUND(I21*E21,2))) | M21: =IF(OR(A21="",K21=""),"",IF(I21<=K21,"Reorder","OK"))
... G100: =IF(A100="","",SUMIFS(Log!$D$2:$D$1000,Log!$B$2:$B$1000,A100)) | H100: =IF(A100="","",SUMIFS(Log!$E$2:$E$1000,Log!$B$2:$B$1000,A100)) | I100: =IF(A100="","",IF(F100="",0,F100)+G100-H100) | J100: =IF(A100="","",IF(E100="",0,ROUND(I100*E100,2))) | M100: =IF(OR(A100="",K100=""),"",IF(I100<=K100,"Reorder","OK"))

Sheet Log
A1: Date | B1: Item | C1: What happened | D1: In | E1: Out | F1: Note
A2: 46300 | B2: Taro | C2: Used in batch | E2: 420 | F2: TC-1005
A3: 46300 | B3: Bags, 5 oz | C3: Used in batch | E3: 480 | F3: TC-1005
A4: 46300 | B4: Taro chips, 5 oz | C4: Made | D4: 476 | F4: TC-1005; 4 bags scrapped
A5: 46301 | B5: Taro | C5: Received | D5: 400 | F5: Kahuku Farm, lot B5-1006
A6: 46302 | B6: Taro chips, 5 oz | C6: Shipped | E6: 480 | F6: Kailua Natural, 40 cases
A7: 46303 | B7: Frying oil | C7: Used | E7: 2
A8: 46303 | B8: Cases, 12-bag | C8: Used | E8: 40 | F8: Kailua Natural order
A9: 46304 | B9: Sea salt | C9: Used | E9: 8

Sheet Read me
A1: Inventory template for Apple Numbers
A2: From the article: https://www.tarostack.com/articles/inventory-template-for-numbers
A4: Open it in Numbers on a Mac, iPad or iPhone, and Numbers turns it into a Numbers spreadsheet. It also opens in Excel and Google Sheets.
A5: Inventory: one row per item: what it's called, its category, unit, supplier, cost per unit, the stock you started with, and when to reorder. In, Out, On hand, Value and Status work themselves out from the log.
A6: Log: one row for everything that comes in or goes out: deliveries, batches, shipments, waste. Type the item exactly as it's named on the Inventory sheet.
A7: Count every so often and compare with On hand; when they differ, add a log line for the difference with a note saying why.
A9: Works in Numbers, Excel (2010 and later), Google Sheets and LibreOffice. No macros.
A10: Free to use and change. Made by TaroStack, inventory and production software for small producers: https://www.tarostack.com
