Workbook

Sheet Recipe
A1: Ingredient as it goes on the label | B1: Weight in the recipe (lb) | C1: Share of the recipe | D1: Sort key | E1: Place
A2: rolled oats | B2: 13.2 | C2: =IF(OR(B2="",N($B$33)=0),"",B2/$B$33) -> 0.44 | D2: =IF(OR(A2="",B2=""),"",B2+9.8e-05) -> 13.200098 | E2: =IF(D2="","",COUNTIF(D$2:D$31,">"&D2)+1) -> 1
A3: almonds | B3: 3.6 | C3: =IF(OR(B3="",N($B$33)=0),"",B3/$B$33) -> 0.12 | D3: =IF(OR(A3="",B3=""),"",B3+9.7e-05) -> 3.600097 | E3: =IF(D3="","",COUNTIF(D$2:D$31,">"&D3)+1) -> 3
A4: pumpkin seeds | B4: 1.8 | C4: =IF(OR(B4="",N($B$33)=0),"",B4/$B$33) -> 0.06 | D4: =IF(OR(A4="",B4=""),"",B4+9.6e-05) -> 1.800096 | E4: =IF(D4="","",COUNTIF(D$2:D$31,">"&D4)+1) -> 5
A5: coconut | B5: 1.5 | C5: =IF(OR(B5="",N($B$33)=0),"",B5/$B$33) -> 0.05 | D5: =IF(OR(A5="",B5=""),"",B5+9.5e-05) -> 1.500095 | E5: =IF(D5="","",COUNTIF(D$2:D$31,">"&D5)+1) -> 6
A6: honey | B6: 4.2 | C6: =IF(OR(B6="",N($B$33)=0),"",B6/$B$33) -> 0.14 | D6: =IF(OR(A6="",B6=""),"",B6+9.4e-05) -> 4.200094 | E6: =IF(D6="","",COUNTIF(D$2:D$31,">"&D6)+1) -> 2
A7: brown sugar | B7: 1.2 | C7: =IF(OR(B7="",N($B$33)=0),"",B7/$B$33) -> 0.04 | D7: =IF(OR(A7="",B7=""),"",B7+9.3e-05) -> 1.200093 | E7: =IF(D7="","",COUNTIF(D$2:D$31,">"&D7)+1) -> 8
A8: sunflower oil | B8: 2.7 | C8: =IF(OR(B8="",N($B$33)=0),"",B8/$B$33) -> 0.09 | D8: =IF(OR(A8="",B8=""),"",B8+9.2e-05) -> 2.700092 | E8: =IF(D8="","",COUNTIF(D$2:D$31,">"&D8)+1) -> 4
A9: dried cranberries (cranberries, sugar, sunflower oil) | B9: 1.5 | C9: =IF(OR(B9="",N($B$33)=0),"",B9/$B$33) -> 0.05 | D9: =IF(OR(A9="",B9=""),"",B9+9.1e-05) -> 1.500091 | E9: =IF(D9="","",COUNTIF(D$2:D$31,">"&D9)+1) -> 7
A10: sea salt | B10: 0.15 | C10: =IF(OR(B10="",N($B$33)=0),"",B10/$B$33) -> 0.005 | D10: =IF(OR(A10="",B10=""),"",B10+9e-05) -> 0.15009 | E10: =IF(D10="","",COUNTIF(D$2:D$31,">"&D10)+1) -> 9
A11: cinnamon | B11: 0.1 | C11: =IF(OR(B11="",N($B$33)=0),"",B11/$B$33) -> 0.0033333333 | D11: =IF(OR(A11="",B11=""),"",B11+8.9e-05) -> 0.100089 | E11: =IF(D11="","",COUNTIF(D$2:D$31,">"&D11)+1) -> 10
A12: vanilla extract | B12: 0.05 | C12: =IF(OR(B12="",N($B$33)=0),"",B12/$B$33) -> 0.0016666667 | D12: =IF(OR(A12="",B12=""),"",B12+8.8e-05) -> 0.050088 | E12: =IF(D12="","",COUNTIF(D$2:D$31,">"&D12)+1) -> 11
C13: =IF(OR(B13="",N($B$33)=0),"",B13/$B$33) | D13: =IF(OR(A13="",B13=""),"",B13+8.7e-05) | E13: =IF(D13="","",COUNTIF(D$2:D$31,">"&D13)+1)
C14: =IF(OR(B14="",N($B$33)=0),"",B14/$B$33) | D14: =IF(OR(A14="",B14=""),"",B14+8.6e-05) | E14: =IF(D14="","",COUNTIF(D$2:D$31,">"&D14)+1)
C15: =IF(OR(B15="",N($B$33)=0),"",B15/$B$33) | D15: =IF(OR(A15="",B15=""),"",B15+8.5e-05) | E15: =IF(D15="","",COUNTIF(D$2:D$31,">"&D15)+1)
C16: =IF(OR(B16="",N($B$33)=0),"",B16/$B$33) | D16: =IF(OR(A16="",B16=""),"",B16+8.4e-05) | E16: =IF(D16="","",COUNTIF(D$2:D$31,">"&D16)+1)
C17: =IF(OR(B17="",N($B$33)=0),"",B17/$B$33) | D17: =IF(OR(A17="",B17=""),"",B17+8.3e-05) | E17: =IF(D17="","",COUNTIF(D$2:D$31,">"&D17)+1)
C18: =IF(OR(B18="",N($B$33)=0),"",B18/$B$33) | D18: =IF(OR(A18="",B18=""),"",B18+8.2e-05) | E18: =IF(D18="","",COUNTIF(D$2:D$31,">"&D18)+1)
C19: =IF(OR(B19="",N($B$33)=0),"",B19/$B$33) | D19: =IF(OR(A19="",B19=""),"",B19+8.1e-05) | E19: =IF(D19="","",COUNTIF(D$2:D$31,">"&D19)+1)
C20: =IF(OR(B20="",N($B$33)=0),"",B20/$B$33) | D20: =IF(OR(A20="",B20=""),"",B20+8e-05) | E20: =IF(D20="","",COUNTIF(D$2:D$31,">"&D20)+1)
C21: =IF(OR(B21="",N($B$33)=0),"",B21/$B$33) | D21: =IF(OR(A21="",B21=""),"",B21+7.9e-05) | E21: =IF(D21="","",COUNTIF(D$2:D$31,">"&D21)+1)
C22: =IF(OR(B22="",N($B$33)=0),"",B22/$B$33) | D22: =IF(OR(A22="",B22=""),"",B22+7.8e-05) | E22: =IF(D22="","",COUNTIF(D$2:D$31,">"&D22)+1)
C23: =IF(OR(B23="",N($B$33)=0),"",B23/$B$33) | D23: =IF(OR(A23="",B23=""),"",B23+7.7e-05) | E23: =IF(D23="","",COUNTIF(D$2:D$31,">"&D23)+1)
C24: =IF(OR(B24="",N($B$33)=0),"",B24/$B$33) | D24: =IF(OR(A24="",B24=""),"",B24+7.6e-05) | E24: =IF(D24="","",COUNTIF(D$2:D$31,">"&D24)+1)
C25: =IF(OR(B25="",N($B$33)=0),"",B25/$B$33) | D25: =IF(OR(A25="",B25=""),"",B25+7.5e-05) | E25: =IF(D25="","",COUNTIF(D$2:D$31,">"&D25)+1)
C26: =IF(OR(B26="",N($B$33)=0),"",B26/$B$33) | D26: =IF(OR(A26="",B26=""),"",B26+7.4e-05) | E26: =IF(D26="","",COUNTIF(D$2:D$31,">"&D26)+1)
C27: =IF(OR(B27="",N($B$33)=0),"",B27/$B$33) | D27: =IF(OR(A27="",B27=""),"",B27+7.3e-05) | E27: =IF(D27="","",COUNTIF(D$2:D$31,">"&D27)+1)
C28: =IF(OR(B28="",N($B$33)=0),"",B28/$B$33) | D28: =IF(OR(A28="",B28=""),"",B28+7.2e-05) | E28: =IF(D28="","",COUNTIF(D$2:D$31,">"&D28)+1)
C29: =IF(OR(B29="",N($B$33)=0),"",B29/$B$33) | D29: =IF(OR(A29="",B29=""),"",B29+7.1e-05) | E29: =IF(D29="","",COUNTIF(D$2:D$31,">"&D29)+1)
C30: =IF(OR(B30="",N($B$33)=0),"",B30/$B$33) | D30: =IF(OR(A30="",B30=""),"",B30+7e-05) | E30: =IF(D30="","",COUNTIF(D$2:D$31,">"&D30)+1)
C31: =IF(OR(B31="",N($B$33)=0),"",B31/$B$33) | D31: =IF(OR(A31="",B31=""),"",B31+6.9e-05) | E31: =IF(D31="","",COUNTIF(D$2:D$31,">"&D31)+1)
A33: The whole recipe | B33: =SUM(B2:B31) -> 30

Sheet Ingredient list
A1: Order | B1: Ingredient | C1: Share | D1: The list so far | E1: More than 2%, so far | F1: 2% or less, so far
A2: 1 | B2: =IFERROR(INDEX(Recipe!A$2:A$31,MATCH(1,Recipe!E$2:E$31,0)),"") -> rolled oats | C2: =IF(B2="","",INDEX(Recipe!C$2:C$31,MATCH(1,Recipe!E$2:E$31,0))) -> 0.44 | D2: =IF(B2="","",IF(""="",B2,""&", "&B2)) -> rolled oats | E2: =IF(OR(B2="",C2<=0.02),"",IF(""="",B2,""&", "&B2)) -> rolled oats | F2: =IF(OR(B2="",C2>0.02),"",IF(""="",B2,""&", "&B2))
A3: 2 | B3: =IFERROR(INDEX(Recipe!A$2:A$31,MATCH(2,Recipe!E$2:E$31,0)),"") -> honey | C3: =IF(B3="","",INDEX(Recipe!C$2:C$31,MATCH(2,Recipe!E$2:E$31,0))) -> 0.14 | D3: =IF(B3="",D2,IF(D2="",B3,D2&", "&B3)) -> rolled oats, honey | E3: =IF(OR(B3="",C3<=0.02),E2,IF(E2="",B3,E2&", "&B3)) -> rolled oats, honey | F3: =IF(OR(B3="",C3>0.02),F2,IF(F2="",B3,F2&", "&B3))
A4: 3 | B4: =IFERROR(INDEX(Recipe!A$2:A$31,MATCH(3,Recipe!E$2:E$31,0)),"") -> almonds | C4: =IF(B4="","",INDEX(Recipe!C$2:C$31,MATCH(3,Recipe!E$2:E$31,0))) -> 0.12 | D4: =IF(B4="",D3,IF(D3="",B4,D3&", "&B4)) -> rolled oats, honey, almonds | E4: =IF(OR(B4="",C4<=0.02),E3,IF(E3="",B4,E3&", "&B4)) -> rolled oats, honey, almonds | F4: =IF(OR(B4="",C4>0.02),F3,IF(F3="",B4,F3&", "&B4))
A5: 4 | B5: =IFERROR(INDEX(Recipe!A$2:A$31,MATCH(4,Recipe!E$2:E$31,0)),"") -> sunflower oil | C5: =IF(B5="","",INDEX(Recipe!C$2:C$31,MATCH(4,Recipe!E$2:E$31,0))) -> 0.09 | D5: =IF(B5="",D4,IF(D4="",B5,D4&", "&B5)) -> rolled oats, honey, almonds, sunflower oil | E5: =IF(OR(B5="",C5<=0.02),E4,IF(E4="",B5,E4&", "&B5)) -> rolled oats, honey, almonds, sunflower oil | F5: =IF(OR(B5="",C5>0.02),F4,IF(F4="",B5,F4&", "&B5))
A6: 5 | B6: =IFERROR(INDEX(Recipe!A$2:A$31,MATCH(5,Recipe!E$2:E$31,0)),"") -> pumpkin seeds | C6: =IF(B6="","",INDEX(Recipe!C$2:C$31,MATCH(5,Recipe!E$2:E$31,0))) -> 0.06 | D6: =IF(B6="",D5,IF(D5="",B6,D5&", "&B6)) -> rolled oats, honey, almonds, sunflower oil, pumpkin seeds | E6: =IF(OR(B6="",C6<=0.02),E5,IF(E5="",B6,E5&", "&B6)) -> rolled oats, honey, almonds, sunflower oil, pumpkin seeds | F6: =IF(OR(B6="",C6>0.02),F5,IF(F5="",B6,F5&", "&B6))
A7: 6 | B7: =IFERROR(INDEX(Recipe!A$2:A$31,MATCH(6,Recipe!E$2:E$31,0)),"") -> coconut | C7: =IF(B7="","",INDEX(Recipe!C$2:C$31,MATCH(6,Recipe!E$2:E$31,0))) -> 0.05 | D7: =IF(B7="",D6,IF(D6="",B7,D6&", "&B7)) -> rolled oats, honey, almonds, sunflower oil, pumpkin seeds, coconut | E7: =IF(OR(B7="",C7<=0.02),E6,IF(E6="",B7,E6&", "&B7)) -> rolled oats, honey, almonds, sunflower oil, pumpkin seeds, coconut | F7: =IF(OR(B7="",C7>0.02),F6,IF(F6="",B7,F6&", "&B7))
A8: 7 | B8: =IFERROR(INDEX(Recipe!A$2:A$31,MATCH(7,Recipe!E$2:E$31,0)),"") -> dried cranberries (cranberries, sugar, sunflower oil) | C8: =IF(B8="","",INDEX(Recipe!C$2:C$31,MATCH(7,Recipe!E$2:E$31,0))) -> 0.05 | D8: =IF(B8="",D7,IF(D7="",B8,D7&", "&B8)) -> rolled oats, honey, almonds, sunflower oil, pumpkin seeds, coconut, dried cranberries (cranberries, sugar, sunflower oil) | E8: =IF(OR(B8="",C8<=0.02),E7,IF(E7="",B8,E7&", "&B8)) -> rolled oats, honey, almonds, sunflower oil, pumpkin seeds, coconut, dried cranberries (cranberries, sugar, sunflower oil) | F8: =IF(OR(B8="",C8>0.02),F7,IF(F7="",B8,F7&", "&B8))
A9: 8 | B9: =IFERROR(INDEX(Recipe!A$2:A$31,MATCH(8,Recipe!E$2:E$31,0)),"") -> brown sugar | C9: =IF(B9="","",INDEX(Recipe!C$2:C$31,MATCH(8,Recipe!E$2:E$31,0))) -> 0.04 | D9: =IF(B9="",D8,IF(D8="",B9,D8&", "&B9)) -> rolled oats, honey, almonds, sunflower oil, pumpkin seeds, coconut, dried cranberries (cranberries, sugar, sunflower oil), brown sugar | E9: =IF(OR(B9="",C9<=0.02),E8,IF(E8="",B9,E8&", "&B9)) -> rolled oats, honey, almonds, sunflower oil, pumpkin seeds, coconut, dried cranberries (cranberries, sugar, sunflower oil), brown sugar | F9: =IF(OR(B9="",C9>0.02),F8,IF(F8="",B9,F8&", "&B9))
A10: 9 | B10: =IFERROR(INDEX(Recipe!A$2:A$31,MATCH(9,Recipe!E$2:E$31,0)),"") -> sea salt | C10: =IF(B10="","",INDEX(Recipe!C$2:C$31,MATCH(9,Recipe!E$2:E$31,0))) -> 0.005 | D10: =IF(B10="",D9,IF(D9="",B10,D9&", "&B10)) -> rolled oats, honey, almonds, sunflower oil, pumpkin seeds, coconut, dried cranberries (cranberries, sugar, sunflower oil), brown sugar, sea salt | E10: =IF(OR(B10="",C10<=0.02),E9,IF(E9="",B10,E9&", "&B10)) -> rolled oats, honey, almonds, sunflower oil, pumpkin seeds, coconut, dried cranberries (cranberries, sugar, sunflower oil), brown sugar | F10: =IF(OR(B10="",C10>0.02),F9,IF(F9="",B10,F9&", "&B10)) -> sea salt
A11: 10 | B11: =IFERROR(INDEX(Recipe!A$2:A$31,MATCH(10,Recipe!E$2:E$31,0)),"") -> cinnamon | C11: =IF(B11="","",INDEX(Recipe!C$2:C$31,MATCH(10,Recipe!E$2:E$31,0))) -> 0.0033333333 | D11: =IF(B11="",D10,IF(D10="",B11,D10&", "&B11)) -> rolled oats, honey, almonds, sunflower oil, pumpkin seeds, coconut, dried cranberries (cranberries, sugar, sunflower oil), brown sugar, sea salt, cinnamon | E11: =IF(OR(B11="",C11<=0.02),E10,IF(E10="",B11,E10&", "&B11)) -> rolled oats, honey, almonds, sunflower oil, pumpkin seeds, coconut, dried cranberries (cranberries, sugar, sunflower oil), brown sugar | F11: =IF(OR(B11="",C11>0.02),F10,IF(F10="",B11,F10&", "&B11)) -> sea salt, cinnamon
A12: 11 | B12: =IFERROR(INDEX(Recipe!A$2:A$31,MATCH(11,Recipe!E$2:E$31,0)),"") -> vanilla extract | C12: =IF(B12="","",INDEX(Recipe!C$2:C$31,MATCH(11,Recipe!E$2:E$31,0))) -> 0.0016666667 | D12: =IF(B12="",D11,IF(D11="",B12,D11&", "&B12)) -> rolled oats, honey, almonds, sunflower oil, pumpkin seeds, coconut, dried cranberries (cranberries, sugar, sunflower oil), brown sugar, sea salt, cinnamon, vanilla extract | E12: =IF(OR(B12="",C12<=0.02),E11,IF(E11="",B12,E11&", "&B12)) -> rolled oats, honey, almonds, sunflower oil, pumpkin seeds, coconut, dried cranberries (cranberries, sugar, sunflower oil), brown sugar | F12: =IF(OR(B12="",C12>0.02),F11,IF(F11="",B12,F11&", "&B12)) -> sea salt, cinnamon, vanilla extract
A13: 12 | B13: =IFERROR(INDEX(Recipe!A$2:A$31,MATCH(12,Recipe!E$2:E$31,0)),"") | C13: =IF(B13="","",INDEX(Recipe!C$2:C$31,MATCH(12,Recipe!E$2:E$31,0))) | D13: =IF(B13="",D12,IF(D12="",B13,D12&", "&B13)) -> rolled oats, honey, almonds, sunflower oil, pumpkin seeds, coconut, dried cranberries (cranberries, sugar, sunflower oil), brown sugar, sea salt, cinnamon, vanilla extract | E13: =IF(OR(B13="",C13<=0.02),E12,IF(E12="",B13,E12&", "&B13)) -> rolled oats, honey, almonds, sunflower oil, pumpkin seeds, coconut, dried cranberries (cranberries, sugar, sunflower oil), brown sugar | F13: =IF(OR(B13="",C13>0.02),F12,IF(F12="",B13,F12&", "&B13)) -> sea salt, cinnamon, vanilla extract
A14: 13 | B14: =IFERROR(INDEX(Recipe!A$2:A$31,MATCH(13,Recipe!E$2:E$31,0)),"") | C14: =IF(B14="","",INDEX(Recipe!C$2:C$31,MATCH(13,Recipe!E$2:E$31,0))) | D14: =IF(B14="",D13,IF(D13="",B14,D13&", "&B14)) -> rolled oats, honey, almonds, sunflower oil, pumpkin seeds, coconut, dried cranberries (cranberries, sugar, sunflower oil), brown sugar, sea salt, cinnamon, vanilla extract | E14: =IF(OR(B14="",C14<=0.02),E13,IF(E13="",B14,E13&", "&B14)) -> rolled oats, honey, almonds, sunflower oil, pumpkin seeds, coconut, dried cranberries (cranberries, sugar, sunflower oil), brown sugar | F14: =IF(OR(B14="",C14>0.02),F13,IF(F13="",B14,F13&", "&B14)) -> sea salt, cinnamon, vanilla extract
A15: 14 | B15: =IFERROR(INDEX(Recipe!A$2:A$31,MATCH(14,Recipe!E$2:E$31,0)),"") | C15: =IF(B15="","",INDEX(Recipe!C$2:C$31,MATCH(14,Recipe!E$2:E$31,0))) | D15: =IF(B15="",D14,IF(D14="",B15,D14&", "&B15)) -> rolled oats, honey, almonds, sunflower oil, pumpkin seeds, coconut, dried cranberries (cranberries, sugar, sunflower oil), brown sugar, sea salt, cinnamon, vanilla extract | E15: =IF(OR(B15="",C15<=0.02),E14,IF(E14="",B15,E14&", "&B15)) -> rolled oats, honey, almonds, sunflower oil, pumpkin seeds, coconut, dried cranberries (cranberries, sugar, sunflower oil), brown sugar | F15: =IF(OR(B15="",C15>0.02),F14,IF(F14="",B15,F14&", "&B15)) -> sea salt, cinnamon, vanilla extract
A16: 15 | B16: =IFERROR(INDEX(Recipe!A$2:A$31,MATCH(15,Recipe!E$2:E$31,0)),"") | C16: =IF(B16="","",INDEX(Recipe!C$2:C$31,MATCH(15,Recipe!E$2:E$31,0))) | D16: =IF(B16="",D15,IF(D15="",B16,D15&", "&B16)) -> rolled oats, honey, almonds, sunflower oil, pumpkin seeds, coconut, dried cranberries (cranberries, sugar, sunflower oil), brown sugar, sea salt, cinnamon, vanilla extract | E16: =IF(OR(B16="",C16<=0.02),E15,IF(E15="",B16,E15&", "&B16)) -> rolled oats, honey, almonds, sunflower oil, pumpkin seeds, coconut, dried cranberries (cranberries, sugar, sunflower oil), brown sugar | F16: =IF(OR(B16="",C16>0.02),F15,IF(F15="",B16,F15&", "&B16)) -> sea salt, cinnamon, vanilla extract
A17: 16 | B17: =IFERROR(INDEX(Recipe!A$2:A$31,MATCH(16,Recipe!E$2:E$31,0)),"") | C17: =IF(B17="","",INDEX(Recipe!C$2:C$31,MATCH(16,Recipe!E$2:E$31,0))) | D17: =IF(B17="",D16,IF(D16="",B17,D16&", "&B17)) -> rolled oats, honey, almonds, sunflower oil, pumpkin seeds, coconut, dried cranberries (cranberries, sugar, sunflower oil), brown sugar, sea salt, cinnamon, vanilla extract | E17: =IF(OR(B17="",C17<=0.02),E16,IF(E16="",B17,E16&", "&B17)) -> rolled oats, honey, almonds, sunflower oil, pumpkin seeds, coconut, dried cranberries (cranberries, sugar, sunflower oil), brown sugar | F17: =IF(OR(B17="",C17>0.02),F16,IF(F16="",B17,F16&", "&B17)) -> sea salt, cinnamon, vanilla extract
A18: 17 | B18: =IFERROR(INDEX(Recipe!A$2:A$31,MATCH(17,Recipe!E$2:E$31,0)),"") | C18: =IF(B18="","",INDEX(Recipe!C$2:C$31,MATCH(17,Recipe!E$2:E$31,0))) | D18: =IF(B18="",D17,IF(D17="",B18,D17&", "&B18)) -> rolled oats, honey, almonds, sunflower oil, pumpkin seeds, coconut, dried cranberries (cranberries, sugar, sunflower oil), brown sugar, sea salt, cinnamon, vanilla extract | E18: =IF(OR(B18="",C18<=0.02),E17,IF(E17="",B18,E17&", "&B18)) -> rolled oats, honey, almonds, sunflower oil, pumpkin seeds, coconut, dried cranberries (cranberries, sugar, sunflower oil), brown sugar | F18: =IF(OR(B18="",C18>0.02),F17,IF(F17="",B18,F17&", "&B18)) -> sea salt, cinnamon, vanilla extract
A19: 18 | B19: =IFERROR(INDEX(Recipe!A$2:A$31,MATCH(18,Recipe!E$2:E$31,0)),"") | C19: =IF(B19="","",INDEX(Recipe!C$2:C$31,MATCH(18,Recipe!E$2:E$31,0))) | D19: =IF(B19="",D18,IF(D18="",B19,D18&", "&B19)) -> rolled oats, honey, almonds, sunflower oil, pumpkin seeds, coconut, dried cranberries (cranberries, sugar, sunflower oil), brown sugar, sea salt, cinnamon, vanilla extract | E19: =IF(OR(B19="",C19<=0.02),E18,IF(E18="",B19,E18&", "&B19)) -> rolled oats, honey, almonds, sunflower oil, pumpkin seeds, coconut, dried cranberries (cranberries, sugar, sunflower oil), brown sugar | F19: =IF(OR(B19="",C19>0.02),F18,IF(F18="",B19,F18&", "&B19)) -> sea salt, cinnamon, vanilla extract
A20: 19 | B20: =IFERROR(INDEX(Recipe!A$2:A$31,MATCH(19,Recipe!E$2:E$31,0)),"") | C20: =IF(B20="","",INDEX(Recipe!C$2:C$31,MATCH(19,Recipe!E$2:E$31,0))) | D20: =IF(B20="",D19,IF(D19="",B20,D19&", "&B20)) -> rolled oats, honey, almonds, sunflower oil, pumpkin seeds, coconut, dried cranberries (cranberries, sugar, sunflower oil), brown sugar, sea salt, cinnamon, vanilla extract | E20: =IF(OR(B20="",C20<=0.02),E19,IF(E19="",B20,E19&", "&B20)) -> rolled oats, honey, almonds, sunflower oil, pumpkin seeds, coconut, dried cranberries (cranberries, sugar, sunflower oil), brown sugar | F20: =IF(OR(B20="",C20>0.02),F19,IF(F19="",B20,F19&", "&B20)) -> sea salt, cinnamon, vanilla extract
A21: 20 | B21: =IFERROR(INDEX(Recipe!A$2:A$31,MATCH(20,Recipe!E$2:E$31,0)),"") | C21: =IF(B21="","",INDEX(Recipe!C$2:C$31,MATCH(20,Recipe!E$2:E$31,0))) | D21: =IF(B21="",D20,IF(D20="",B21,D20&", "&B21)) -> rolled oats, honey, almonds, sunflower oil, pumpkin seeds, coconut, dried cranberries (cranberries, sugar, sunflower oil), brown sugar, sea salt, cinnamon, vanilla extract | E21: =IF(OR(B21="",C21<=0.02),E20,IF(E20="",B21,E20&", "&B21)) -> rolled oats, honey, almonds, sunflower oil, pumpkin seeds, coconut, dried cranberries (cranberries, sugar, sunflower oil), brown sugar | F21: =IF(OR(B21="",C21>0.02),F20,IF(F20="",B21,F20&", "&B21)) -> sea salt, cinnamon, vanilla extract
A22: 21 | B22: =IFERROR(INDEX(Recipe!A$2:A$31,MATCH(21,Recipe!E$2:E$31,0)),"") | C22: =IF(B22="","",INDEX(Recipe!C$2:C$31,MATCH(21,Recipe!E$2:E$31,0))) | D22: =IF(B22="",D21,IF(D21="",B22,D21&", "&B22)) -> rolled oats, honey, almonds, sunflower oil, pumpkin seeds, coconut, dried cranberries (cranberries, sugar, sunflower oil), brown sugar, sea salt, cinnamon, vanilla extract | E22: =IF(OR(B22="",C22<=0.02),E21,IF(E21="",B22,E21&", "&B22)) -> rolled oats, honey, almonds, sunflower oil, pumpkin seeds, coconut, dried cranberries (cranberries, sugar, sunflower oil), brown sugar | F22: =IF(OR(B22="",C22>0.02),F21,IF(F21="",B22,F21&", "&B22)) -> sea salt, cinnamon, vanilla extract
A23: 22 | B23: =IFERROR(INDEX(Recipe!A$2:A$31,MATCH(22,Recipe!E$2:E$31,0)),"") | C23: =IF(B23="","",INDEX(Recipe!C$2:C$31,MATCH(22,Recipe!E$2:E$31,0))) | D23: =IF(B23="",D22,IF(D22="",B23,D22&", "&B23)) -> rolled oats, honey, almonds, sunflower oil, pumpkin seeds, coconut, dried cranberries (cranberries, sugar, sunflower oil), brown sugar, sea salt, cinnamon, vanilla extract | E23: =IF(OR(B23="",C23<=0.02),E22,IF(E22="",B23,E22&", "&B23)) -> rolled oats, honey, almonds, sunflower oil, pumpkin seeds, coconut, dried cranberries (cranberries, sugar, sunflower oil), brown sugar | F23: =IF(OR(B23="",C23>0.02),F22,IF(F22="",B23,F22&", "&B23)) -> sea salt, cinnamon, vanilla extract
A24: 23 | B24: =IFERROR(INDEX(Recipe!A$2:A$31,MATCH(23,Recipe!E$2:E$31,0)),"") | C24: =IF(B24="","",INDEX(Recipe!C$2:C$31,MATCH(23,Recipe!E$2:E$31,0))) | D24: =IF(B24="",D23,IF(D23="",B24,D23&", "&B24)) -> rolled oats, honey, almonds, sunflower oil, pumpkin seeds, coconut, dried cranberries (cranberries, sugar, sunflower oil), brown sugar, sea salt, cinnamon, vanilla extract | E24: =IF(OR(B24="",C24<=0.02),E23,IF(E23="",B24,E23&", "&B24)) -> rolled oats, honey, almonds, sunflower oil, pumpkin seeds, coconut, dried cranberries (cranberries, sugar, sunflower oil), brown sugar | F24: =IF(OR(B24="",C24>0.02),F23,IF(F23="",B24,F23&", "&B24)) -> sea salt, cinnamon, vanilla extract
A25: 24 | B25: =IFERROR(INDEX(Recipe!A$2:A$31,MATCH(24,Recipe!E$2:E$31,0)),"") | C25: =IF(B25="","",INDEX(Recipe!C$2:C$31,MATCH(24,Recipe!E$2:E$31,0))) | D25: =IF(B25="",D24,IF(D24="",B25,D24&", "&B25)) -> rolled oats, honey, almonds, sunflower oil, pumpkin seeds, coconut, dried cranberries (cranberries, sugar, sunflower oil), brown sugar, sea salt, cinnamon, vanilla extract | E25: =IF(OR(B25="",C25<=0.02),E24,IF(E24="",B25,E24&", "&B25)) -> rolled oats, honey, almonds, sunflower oil, pumpkin seeds, coconut, dried cranberries (cranberries, sugar, sunflower oil), brown sugar | F25: =IF(OR(B25="",C25>0.02),F24,IF(F24="",B25,F24&", "&B25)) -> sea salt, cinnamon, vanilla extract
A26: 25 | B26: =IFERROR(INDEX(Recipe!A$2:A$31,MATCH(25,Recipe!E$2:E$31,0)),"") | C26: =IF(B26="","",INDEX(Recipe!C$2:C$31,MATCH(25,Recipe!E$2:E$31,0))) | D26: =IF(B26="",D25,IF(D25="",B26,D25&", "&B26)) -> rolled oats, honey, almonds, sunflower oil, pumpkin seeds, coconut, dried cranberries (cranberries, sugar, sunflower oil), brown sugar, sea salt, cinnamon, vanilla extract | E26: =IF(OR(B26="",C26<=0.02),E25,IF(E25="",B26,E25&", "&B26)) -> rolled oats, honey, almonds, sunflower oil, pumpkin seeds, coconut, dried cranberries (cranberries, sugar, sunflower oil), brown sugar | F26: =IF(OR(B26="",C26>0.02),F25,IF(F25="",B26,F25&", "&B26)) -> sea salt, cinnamon, vanilla extract
A27: 26 | B27: =IFERROR(INDEX(Recipe!A$2:A$31,MATCH(26,Recipe!E$2:E$31,0)),"") | C27: =IF(B27="","",INDEX(Recipe!C$2:C$31,MATCH(26,Recipe!E$2:E$31,0))) | D27: =IF(B27="",D26,IF(D26="",B27,D26&", "&B27)) -> rolled oats, honey, almonds, sunflower oil, pumpkin seeds, coconut, dried cranberries (cranberries, sugar, sunflower oil), brown sugar, sea salt, cinnamon, vanilla extract | E27: =IF(OR(B27="",C27<=0.02),E26,IF(E26="",B27,E26&", "&B27)) -> rolled oats, honey, almonds, sunflower oil, pumpkin seeds, coconut, dried cranberries (cranberries, sugar, sunflower oil), brown sugar | F27: =IF(OR(B27="",C27>0.02),F26,IF(F26="",B27,F26&", "&B27)) -> sea salt, cinnamon, vanilla extract
A28: 27 | B28: =IFERROR(INDEX(Recipe!A$2:A$31,MATCH(27,Recipe!E$2:E$31,0)),"") | C28: =IF(B28="","",INDEX(Recipe!C$2:C$31,MATCH(27,Recipe!E$2:E$31,0))) | D28: =IF(B28="",D27,IF(D27="",B28,D27&", "&B28)) -> rolled oats, honey, almonds, sunflower oil, pumpkin seeds, coconut, dried cranberries (cranberries, sugar, sunflower oil), brown sugar, sea salt, cinnamon, vanilla extract | E28: =IF(OR(B28="",C28<=0.02),E27,IF(E27="",B28,E27&", "&B28)) -> rolled oats, honey, almonds, sunflower oil, pumpkin seeds, coconut, dried cranberries (cranberries, sugar, sunflower oil), brown sugar | F28: =IF(OR(B28="",C28>0.02),F27,IF(F27="",B28,F27&", "&B28)) -> sea salt, cinnamon, vanilla extract
A29: 28 | B29: =IFERROR(INDEX(Recipe!A$2:A$31,MATCH(28,Recipe!E$2:E$31,0)),"") | C29: =IF(B29="","",INDEX(Recipe!C$2:C$31,MATCH(28,Recipe!E$2:E$31,0))) | D29: =IF(B29="",D28,IF(D28="",B29,D28&", "&B29)) -> rolled oats, honey, almonds, sunflower oil, pumpkin seeds, coconut, dried cranberries (cranberries, sugar, sunflower oil), brown sugar, sea salt, cinnamon, vanilla extract | E29: =IF(OR(B29="",C29<=0.02),E28,IF(E28="",B29,E28&", "&B29)) -> rolled oats, honey, almonds, sunflower oil, pumpkin seeds, coconut, dried cranberries (cranberries, sugar, sunflower oil), brown sugar | F29: =IF(OR(B29="",C29>0.02),F28,IF(F28="",B29,F28&", "&B29)) -> sea salt, cinnamon, vanilla extract
A30: 29 | B30: =IFERROR(INDEX(Recipe!A$2:A$31,MATCH(29,Recipe!E$2:E$31,0)),"") | C30: =IF(B30="","",INDEX(Recipe!C$2:C$31,MATCH(29,Recipe!E$2:E$31,0))) | D30: =IF(B30="",D29,IF(D29="",B30,D29&", "&B30)) -> rolled oats, honey, almonds, sunflower oil, pumpkin seeds, coconut, dried cranberries (cranberries, sugar, sunflower oil), brown sugar, sea salt, cinnamon, vanilla extract | E30: =IF(OR(B30="",C30<=0.02),E29,IF(E29="",B30,E29&", "&B30)) -> rolled oats, honey, almonds, sunflower oil, pumpkin seeds, coconut, dried cranberries (cranberries, sugar, sunflower oil), brown sugar | F30: =IF(OR(B30="",C30>0.02),F29,IF(F29="",B30,F29&", "&B30)) -> sea salt, cinnamon, vanilla extract
A31: 30 | B31: =IFERROR(INDEX(Recipe!A$2:A$31,MATCH(30,Recipe!E$2:E$31,0)),"") | C31: =IF(B31="","",INDEX(Recipe!C$2:C$31,MATCH(30,Recipe!E$2:E$31,0))) | D31: =IF(B31="",D30,IF(D30="",B31,D30&", "&B31)) -> rolled oats, honey, almonds, sunflower oil, pumpkin seeds, coconut, dried cranberries (cranberries, sugar, sunflower oil), brown sugar, sea salt, cinnamon, vanilla extract | E31: =IF(OR(B31="",C31<=0.02),E30,IF(E30="",B31,E30&", "&B31)) -> rolled oats, honey, almonds, sunflower oil, pumpkin seeds, coconut, dried cranberries (cranberries, sugar, sunflower oil), brown sugar | F31: =IF(OR(B31="",C31>0.02),F30,IF(F30="",B31,F30&", "&B31)) -> sea salt, cinnamon, vanilla extract
A34: Ingredients, in order | B34: =IF(D31="","","Ingredients: "&D31&".") -> Ingredients: rolled oats, honey, almonds, sunflower oil, pumpkin seeds, coconut, dried cranberries (cranberries, sugar, sunflower oil), brown sugar, sea salt, cinnamon, vanilla extract.
A35: With the 2% statement | B35: =IF(E31="","","Ingredients: "&E31&IF(F31="","",". Contains 2% or less of: "&F31)&".") -> Ingredients: rolled oats, honey, almonds, sunflower oil, pumpkin seeds, coconut, dried cranberries (cranberries, sugar, sunflower oil), brown sugar. Contains 2% or less of: sea salt, cinnamon, vanilla extract.
A37: The 2% statement is optional; no ingredient after it may be more than 2% of the recipe. Ties keep the order you typed them.

Sheet Read me
A1: Ingredient list order
A2: From the article: https://www.tarostack.com/articles/ingredient-list-order
A4: Recipe: one line for each ingredient, named as it goes on the label (with its own ingredients in parentheses where it has them), and its weight in the recipe. Each one's share fills in.
A5: Ingredient list: the ingredients in descending order by weight, and the ingredient statement built from them, plain and with the optional 2% statement.
A6: The example is the article's made-up granola maker's 30 lb mix.
A7: This is a checklist, not legal advice; the rule is 21 CFR 101.4.
A9: Works in Excel (2010 and later), Google Sheets, LibreOffice and Numbers. No macros.
A10: Free to use and change. Made by TaroStack, inventory and production software for small producers: https://www.tarostack.com
