Workbook

Sheet Plan
A1: Flour | B1: Bag (lb) | C1: Bags used a week | D1: Bags bought at a time | E1: Safety bags | F1: Keep-by policy (weeks) | G1: Most on hand (bags) | H1: Weeks it lasts | I1: Within policy? | J1: Rack spots (bags a spot) | K1: Spots needed
A2: Bread flour | B2: 50 | C2: 32 | D2: 40 | E2: 8 | F2: 26 | G2: =IF(A2="","",N(D2)+N(E2)) -> 48 | H2: =IF(OR(A2="",N(C2)=0),"",G2/C2) -> 1.5 | I2: =IF(H2="","",IF(H2>F2,"No: buy less at a time","Yes")) -> Yes | J2: 10 | K2: =IF(OR(A2="",N(J2)=0),"",ROUNDUP(G2/J2,0)) -> 5
A3: Whole wheat flour | B3: 50 | C3: 6 | D3: 40 | E3: 4 | F3: 8 | G3: =IF(A3="","",N(D3)+N(E3)) -> 44 | H3: =IF(OR(A3="",N(C3)=0),"",G3/C3) -> 7.3333333 | I3: =IF(H3="","",IF(H3>F3,"No: buy less at a time","Yes")) -> Yes | J3: 10 | K3: =IF(OR(A3="",N(J3)=0),"",ROUNDUP(G3/J3,0)) -> 5
A4: Dark rye flour | B4: 50 | C4: 2 | D4: 10 | E4: 2 | F4: 12 | G4: =IF(A4="","",N(D4)+N(E4)) -> 12 | H4: =IF(OR(A4="",N(C4)=0),"",G4/C4) -> 6 | I4: =IF(H4="","",IF(H4>F4,"No: buy less at a time","Yes")) -> Yes | J4: 10 | K4: =IF(OR(A4="",N(J4)=0),"",ROUNDUP(G4/J4,0)) -> 2
A5: Cake flour | B5: 50 | C5: 3 | D5: 10 | E5: 2 | F5: 26 | G5: =IF(A5="","",N(D5)+N(E5)) -> 12 | H5: =IF(OR(A5="",N(C5)=0),"",G5/C5) -> 4 | I5: =IF(H5="","",IF(H5>F5,"No: buy less at a time","Yes")) -> Yes | J5: 10 | K5: =IF(OR(A5="",N(J5)=0),"",ROUNDUP(G5/J5,0)) -> 2
G6: =IF(A6="","",N(D6)+N(E6)) | H6: =IF(OR(A6="",N(C6)=0),"",G6/C6) | I6: =IF(H6="","",IF(H6>F6,"No: buy less at a time","Yes")) | K6: =IF(OR(A6="",N(J6)=0),"",ROUNDUP(G6/J6,0))
G7: =IF(A7="","",N(D7)+N(E7)) | H7: =IF(OR(A7="",N(C7)=0),"",G7/C7) | I7: =IF(H7="","",IF(H7>F7,"No: buy less at a time","Yes")) | K7: =IF(OR(A7="",N(J7)=0),"",ROUNDUP(G7/J7,0))
G8: =IF(A8="","",N(D8)+N(E8)) | H8: =IF(OR(A8="",N(C8)=0),"",G8/C8) | I8: =IF(H8="","",IF(H8>F8,"No: buy less at a time","Yes")) | K8: =IF(OR(A8="",N(J8)=0),"",ROUNDUP(G8/J8,0))
G9: =IF(A9="","",N(D9)+N(E9)) | H9: =IF(OR(A9="",N(C9)=0),"",G9/C9) | I9: =IF(H9="","",IF(H9>F9,"No: buy less at a time","Yes")) | K9: =IF(OR(A9="",N(J9)=0),"",ROUNDUP(G9/J9,0))
G10: =IF(A10="","",N(D10)+N(E10)) | H10: =IF(OR(A10="",N(C10)=0),"",G10/C10) | I10: =IF(H10="","",IF(H10>F10,"No: buy less at a time","Yes")) | K10: =IF(OR(A10="",N(J10)=0),"",ROUNDUP(G10/J10,0))
G11: =IF(A11="","",N(D11)+N(E11)) | H11: =IF(OR(A11="",N(C11)=0),"",G11/C11) | I11: =IF(H11="","",IF(H11>F11,"No: buy less at a time","Yes")) | K11: =IF(OR(A11="",N(J11)=0),"",ROUNDUP(G11/J11,0))
G12: =IF(A12="","",N(D12)+N(E12)) | H12: =IF(OR(A12="",N(C12)=0),"",G12/C12) | I12: =IF(H12="","",IF(H12>F12,"No: buy less at a time","Yes")) | K12: =IF(OR(A12="",N(J12)=0),"",ROUNDUP(G12/J12,0))
G13: =IF(A13="","",N(D13)+N(E13)) | H13: =IF(OR(A13="",N(C13)=0),"",G13/C13) | I13: =IF(H13="","",IF(H13>F13,"No: buy less at a time","Yes")) | K13: =IF(OR(A13="",N(J13)=0),"",ROUNDUP(G13/J13,0))
G14: =IF(A14="","",N(D14)+N(E14)) | H14: =IF(OR(A14="",N(C14)=0),"",G14/C14) | I14: =IF(H14="","",IF(H14>F14,"No: buy less at a time","Yes")) | K14: =IF(OR(A14="",N(J14)=0),"",ROUNDUP(G14/J14,0))
G15: =IF(A15="","",N(D15)+N(E15)) | H15: =IF(OR(A15="",N(C15)=0),"",G15/C15) | I15: =IF(H15="","",IF(H15>F15,"No: buy less at a time","Yes")) | K15: =IF(OR(A15="",N(J15)=0),"",ROUNDUP(G15/J15,0))
A17: Keep-by is your own policy for quality: whole grain flours go off sooner than white. Bags on racks or dollies, off the floor, labeled if decanted.

Sheet Lots
A1: Today | B1: 46312
A3: Flour | B3: Mill lot | C3: Received | D3: Bags left | E3: Keep by | F3: Status
A4: Bread flour | B4: M2609-22 | C4: 46300 | D4: 12 | E4: =IF(OR(A4="",C4=""),"",C4+7*IFERROR(VLOOKUP(A4,Plan!$A$2:$F$15,6,FALSE),0)) -> 46482 | F4: =IF(E4="","",IF(N(D4)=0,"Used up",IF($B$1>E4,"Past keep-by",IF(COUNTIFS($A$4:$A$50,A4,$C$4:$C$50,"<"&C4,$D$4:$D$50,">0")=0,"Use first","OK")))) -> Use first
A5: Bread flour | B5: M2610-06 | C5: 46307 | D5: 40 | E5: =IF(OR(A5="",C5=""),"",C5+7*IFERROR(VLOOKUP(A5,Plan!$A$2:$F$15,6,FALSE),0)) -> 46489 | F5: =IF(E5="","",IF(N(D5)=0,"Used up",IF($B$1>E5,"Past keep-by",IF(COUNTIFS($A$4:$A$50,A5,$C$4:$C$50,"<"&C5,$D$4:$D$50,">0")=0,"Use first","OK")))) -> OK
A6: Whole wheat flour | B6: W2608-30 | C6: 46279 | D6: 9 | E6: =IF(OR(A6="",C6=""),"",C6+7*IFERROR(VLOOKUP(A6,Plan!$A$2:$F$15,6,FALSE),0)) -> 46335 | F6: =IF(E6="","",IF(N(D6)=0,"Used up",IF($B$1>E6,"Past keep-by",IF(COUNTIFS($A$4:$A$50,A6,$C$4:$C$50,"<"&C6,$D$4:$D$50,">0")=0,"Use first","OK")))) -> Use first
A7: Whole wheat flour | B7: W2610-02 | C7: 46307 | D7: 40 | E7: =IF(OR(A7="",C7=""),"",C7+7*IFERROR(VLOOKUP(A7,Plan!$A$2:$F$15,6,FALSE),0)) -> 46363 | F7: =IF(E7="","",IF(N(D7)=0,"Used up",IF($B$1>E7,"Past keep-by",IF(COUNTIFS($A$4:$A$50,A7,$C$4:$C$50,"<"&C7,$D$4:$D$50,">0")=0,"Use first","OK")))) -> OK
A8: Dark rye flour | B8: R2606-18 | C8: 46209 | D8: 1 | E8: =IF(OR(A8="",C8=""),"",C8+7*IFERROR(VLOOKUP(A8,Plan!$A$2:$F$15,6,FALSE),0)) -> 46293 | F8: =IF(E8="","",IF(N(D8)=0,"Used up",IF($B$1>E8,"Past keep-by",IF(COUNTIFS($A$4:$A$50,A8,$C$4:$C$50,"<"&C8,$D$4:$D$50,">0")=0,"Use first","OK")))) -> Past keep-by
A9: Dark rye flour | B9: R2609-15 | C9: 46293 | D9: 8 | E9: =IF(OR(A9="",C9=""),"",C9+7*IFERROR(VLOOKUP(A9,Plan!$A$2:$F$15,6,FALSE),0)) -> 46377 | F9: =IF(E9="","",IF(N(D9)=0,"Used up",IF($B$1>E9,"Past keep-by",IF(COUNTIFS($A$4:$A$50,A9,$C$4:$C$50,"<"&C9,$D$4:$D$50,">0")=0,"Use first","OK")))) -> OK
A10: Cake flour | B10: C2608-11 | C10: 46266 | D10: 5 | E10: =IF(OR(A10="",C10=""),"",C10+7*IFERROR(VLOOKUP(A10,Plan!$A$2:$F$15,6,FALSE),0)) -> 46448 | F10: =IF(E10="","",IF(N(D10)=0,"Used up",IF($B$1>E10,"Past keep-by",IF(COUNTIFS($A$4:$A$50,A10,$C$4:$C$50,"<"&C10,$D$4:$D$50,">0")=0,"Use first","OK")))) -> Use first
E11: =IF(OR(A11="",C11=""),"",C11+7*IFERROR(VLOOKUP(A11,Plan!$A$2:$F$15,6,FALSE),0)) | F11: =IF(E11="","",IF(N(D11)=0,"Used up",IF($B$1>E11,"Past keep-by",IF(COUNTIFS($A$4:$A$50,A11,$C$4:$C$50,"<"&C11,$D$4:$D$50,">0")=0,"Use first","OK"))))
E12: =IF(OR(A12="",C12=""),"",C12+7*IFERROR(VLOOKUP(A12,Plan!$A$2:$F$15,6,FALSE),0)) | F12: =IF(E12="","",IF(N(D12)=0,"Used up",IF($B$1>E12,"Past keep-by",IF(COUNTIFS($A$4:$A$50,A12,$C$4:$C$50,"<"&C12,$D$4:$D$50,">0")=0,"Use first","OK"))))
E13: =IF(OR(A13="",C13=""),"",C13+7*IFERROR(VLOOKUP(A13,Plan!$A$2:$F$15,6,FALSE),0)) | F13: =IF(E13="","",IF(N(D13)=0,"Used up",IF($B$1>E13,"Past keep-by",IF(COUNTIFS($A$4:$A$50,A13,$C$4:$C$50,"<"&C13,$D$4:$D$50,">0")=0,"Use first","OK"))))
E14: =IF(OR(A14="",C14=""),"",C14+7*IFERROR(VLOOKUP(A14,Plan!$A$2:$F$15,6,FALSE),0)) | F14: =IF(E14="","",IF(N(D14)=0,"Used up",IF($B$1>E14,"Past keep-by",IF(COUNTIFS($A$4:$A$50,A14,$C$4:$C$50,"<"&C14,$D$4:$D$50,">0")=0,"Use first","OK"))))
E15: =IF(OR(A15="",C15=""),"",C15+7*IFERROR(VLOOKUP(A15,Plan!$A$2:$F$15,6,FALSE),0)) | F15: =IF(E15="","",IF(N(D15)=0,"Used up",IF($B$1>E15,"Past keep-by",IF(COUNTIFS($A$4:$A$50,A15,$C$4:$C$50,"<"&C15,$D$4:$D$50,">0")=0,"Use first","OK"))))
E16: =IF(OR(A16="",C16=""),"",C16+7*IFERROR(VLOOKUP(A16,Plan!$A$2:$F$15,6,FALSE),0)) | F16: =IF(E16="","",IF(N(D16)=0,"Used up",IF($B$1>E16,"Past keep-by",IF(COUNTIFS($A$4:$A$50,A16,$C$4:$C$50,"<"&C16,$D$4:$D$50,">0")=0,"Use first","OK"))))
E17: =IF(OR(A17="",C17=""),"",C17+7*IFERROR(VLOOKUP(A17,Plan!$A$2:$F$15,6,FALSE),0)) | F17: =IF(E17="","",IF(N(D17)=0,"Used up",IF($B$1>E17,"Past keep-by",IF(COUNTIFS($A$4:$A$50,A17,$C$4:$C$50,"<"&C17,$D$4:$D$50,">0")=0,"Use first","OK"))))
E18: =IF(OR(A18="",C18=""),"",C18+7*IFERROR(VLOOKUP(A18,Plan!$A$2:$F$15,6,FALSE),0)) | F18: =IF(E18="","",IF(N(D18)=0,"Used up",IF($B$1>E18,"Past keep-by",IF(COUNTIFS($A$4:$A$50,A18,$C$4:$C$50,"<"&C18,$D$4:$D$50,">0")=0,"Use first","OK"))))
E19: =IF(OR(A19="",C19=""),"",C19+7*IFERROR(VLOOKUP(A19,Plan!$A$2:$F$15,6,FALSE),0)) | F19: =IF(E19="","",IF(N(D19)=0,"Used up",IF($B$1>E19,"Past keep-by",IF(COUNTIFS($A$4:$A$50,A19,$C$4:$C$50,"<"&C19,$D$4:$D$50,">0")=0,"Use first","OK"))))
E20: =IF(OR(A20="",C20=""),"",C20+7*IFERROR(VLOOKUP(A20,Plan!$A$2:$F$15,6,FALSE),0)) | F20: =IF(E20="","",IF(N(D20)=0,"Used up",IF($B$1>E20,"Past keep-by",IF(COUNTIFS($A$4:$A$50,A20,$C$4:$C$50,"<"&C20,$D$4:$D$50,">0")=0,"Use first","OK"))))
E21: =IF(OR(A21="",C21=""),"",C21+7*IFERROR(VLOOKUP(A21,Plan!$A$2:$F$15,6,FALSE),0)) | F21: =IF(E21="","",IF(N(D21)=0,"Used up",IF($B$1>E21,"Past keep-by",IF(COUNTIFS($A$4:$A$50,A21,$C$4:$C$50,"<"&C21,$D$4:$D$50,">0")=0,"Use first","OK"))))
E22: =IF(OR(A22="",C22=""),"",C22+7*IFERROR(VLOOKUP(A22,Plan!$A$2:$F$15,6,FALSE),0)) | F22: =IF(E22="","",IF(N(D22)=0,"Used up",IF($B$1>E22,"Past keep-by",IF(COUNTIFS($A$4:$A$50,A22,$C$4:$C$50,"<"&C22,$D$4:$D$50,">0")=0,"Use first","OK"))))
... E50: =IF(OR(A50="",C50=""),"",C50+7*IFERROR(VLOOKUP(A50,Plan!$A$2:$F$15,6,FALSE),0)) | F50: =IF(E50="","",IF(N(D50)=0,"Used up",IF($B$1>E50,"Past keep-by",IF(COUNTIFS($A$4:$A$50,A50,$C$4:$C$50,"<"&C50,$D$4:$D$50,">0")=0,"Use first","OK"))))
A52: Use first marks the oldest lot of each flour that still has bags. Write the mill lot on the rack label too.

Sheet Read me
A1: Bulk flour storage planner
A2: From the article: https://www.tarostack.com/articles/how-to-store-flour-in-bulk
A4: Plan: each flour's bag size, bags used a week, bags bought at a time, safety bags, your keep-by policy in weeks and bags a rack spot; the most on hand, the weeks it lasts, whether that's within policy and the rack spots fill in.
A5: Lots: today's date, then each lot's flour, mill lot, received date and bags left; the keep-by date and use first, OK or past keep-by fill in.
A6: The example is the article's made-up Topeka wholesale bakery.
A8: Works in Excel (2010 and later), Google Sheets, LibreOffice and Numbers. No macros.
A9: Free to use and change. Made by TaroStack, inventory and production software for small producers: https://www.tarostack.com
