Workbook

Sheet Market day
A1: Product | B1: Price | C1: Cost a jar | D1: Bring | E1: Expect to sell | F1: Sales | G1: Left after costs | H1: Sell-through | J1: The day
A2: Dill pickles, quart | B2: 9 | C2: 2.8 | D2: 24 | E2: 18 | F2: =IF(OR(B2="",E2=""),"",E2*B2) -> 162 | G2: =IF(OR(B2="",E2=""),"",E2*(B2-C2)) -> 111.6 | H2: =IF(N(D2)=0,"",E2/D2) -> 0.75 | J2: Stall fee | K2: 15
A3: Dill pickles, pint | B3: 6 | C3: 1.7 | D3: 30 | E3: 22 | F3: =IF(OR(B3="",E3=""),"",E3*B3) -> 132 | G3: =IF(OR(B3="",E3=""),"",E3*(B3-C3)) -> 94.6 | H3: =IF(N(D3)=0,"",E3/D3) -> 0.73333333 | J3: Hours, with setup and travel | K3: 6
A4: Bread-and-butter pickles, pint | B4: 6 | C4: 1.75 | D4: 20 | E4: 14 | F4: =IF(OR(B4="",E4=""),"",E4*B4) -> 84 | G4: =IF(OR(B4="",E4=""),"",E4*(B4-C4)) -> 59.5 | H4: =IF(N(D4)=0,"",E4/D4) -> 0.7 | J4: Expected sales | K4: =F10 -> 448
A5: Dilly beans, pint | B5: 7 | C5: 2.1 | D5: 16 | E5: 10 | F5: =IF(OR(B5="",E5=""),"",E5*B5) -> 70 | G5: =IF(OR(B5="",E5=""),"",E5*(B5-C5)) -> 49 | H5: =IF(N(D5)=0,"",E5/D5) -> 0.625 | J5: Left after costs and the stall | K5: =G10-K2 -> 299.7
F6: =IF(OR(B6="",E6=""),"",E6*B6) | G6: =IF(OR(B6="",E6=""),"",E6*(B6-C6)) | H6: =IF(N(D6)=0,"",E6/D6) | J6: Left for each hour | K6: =IF(N(K3)=0,"",(G10-K2)/K3) -> 49.95
F7: =IF(OR(B7="",E7=""),"",E7*B7) | G7: =IF(OR(B7="",E7=""),"",E7*(B7-C7)) | H7: =IF(N(D7)=0,"",E7/D7)
F8: =IF(OR(B8="",E8=""),"",E8*B8) | G8: =IF(OR(B8="",E8=""),"",E8*(B8-C8)) | H8: =IF(N(D8)=0,"",E8/D8) | J8: Type your products, prices and what each costs you, what you'll bring and what you expect to sell.
F9: =IF(OR(B9="",E9=""),"",E9*B9) | G9: =IF(OR(B9="",E9=""),"",E9*(B9-C9)) | H9: =IF(N(D9)=0,"",E9/D9)
A10: All products | D10: =SUM(D2:D9) -> 90 | E10: =SUM(E2:E9) -> 64 | F10: =SUM(F2:F9) -> 448 | G10: =SUM(G2:G9) -> 314.7 | H10: =IF(N(D10)=0,"",E10/D10) -> 0.71111111

Sheet Season
A1: Market day | B1: =IF('Market day'!A2="","Sold, product 1","Sold, "&'Market day'!A2) -> Sold, Dill pickles, quart | C1: =IF('Market day'!A3="","Sold, product 2","Sold, "&'Market day'!A3) -> Sold, Dill pickles, pint | D1: =IF('Market day'!A4="","Sold, product 3","Sold, "&'Market day'!A4) -> Sold, Bread-and-butter pickles, pint | E1: =IF('Market day'!A5="","Sold, product 4","Sold, "&'Market day'!A5) -> Sold, Dilly beans, pint | F1: =IF('Market day'!A6="","Sold, product 5","Sold, "&'Market day'!A6) -> Sold, product 5 | G1: =IF('Market day'!A7="","Sold, product 6","Sold, "&'Market day'!A7) -> Sold, product 6 | H1: =IF('Market day'!A8="","Sold, product 7","Sold, "&'Market day'!A8) -> Sold, product 7 | I1: =IF('Market day'!A9="","Sold, product 8","Sold, "&'Market day'!A9) -> Sold, product 8 | J1: Sales | K1: Costs | L1: Stall | M1: Left
A2: Sep 5 | B2: 17 | C2: 21 | D2: 15 | E2: 9 | J2: =IF(A2="","",N(B2)*N('Market day'!$B$2)+N(C2)*N('Market day'!$B$3)+N(D2)*N('Market day'!$B$4)+N(E2)*N('Market day'!$B$5)+N(F2)*N('Market day'!$B$6)+N(G2)*N('Market day'!$B$7)+N(H2)*N('Market day'!$B$8)+N(I2)*N('Market day'!$B$9)) -> 432 | K2: =IF(A2="","",N(B2)*N('Market day'!$C$2)+N(C2)*N('Market day'!$C$3)+N(D2)*N('Market day'!$C$4)+N(E2)*N('Market day'!$C$5)+N(F2)*N('Market day'!$C$6)+N(G2)*N('Market day'!$C$7)+N(H2)*N('Market day'!$C$8)+N(I2)*N('Market day'!$C$9)) -> 128.45 | L2: =IF(A2="","",'Market day'!$K$2) -> 15 | M2: =IF(A2="","",J2-K2-L2) -> 288.55
A3: Sep 12 | B3: 19 | C3: 24 | D3: 13 | E3: 11 | J3: =IF(A3="","",N(B3)*N('Market day'!$B$2)+N(C3)*N('Market day'!$B$3)+N(D3)*N('Market day'!$B$4)+N(E3)*N('Market day'!$B$5)+N(F3)*N('Market day'!$B$6)+N(G3)*N('Market day'!$B$7)+N(H3)*N('Market day'!$B$8)+N(I3)*N('Market day'!$B$9)) -> 470 | K3: =IF(A3="","",N(B3)*N('Market day'!$C$2)+N(C3)*N('Market day'!$C$3)+N(D3)*N('Market day'!$C$4)+N(E3)*N('Market day'!$C$5)+N(F3)*N('Market day'!$C$6)+N(G3)*N('Market day'!$C$7)+N(H3)*N('Market day'!$C$8)+N(I3)*N('Market day'!$C$9)) -> 139.85 | L3: =IF(A3="","",'Market day'!$K$2) -> 15 | M3: =IF(A3="","",J3-K3-L3) -> 315.15
A4: Sep 19 | B4: 16 | C4: 20 | D4: 12 | E4: 8 | J4: =IF(A4="","",N(B4)*N('Market day'!$B$2)+N(C4)*N('Market day'!$B$3)+N(D4)*N('Market day'!$B$4)+N(E4)*N('Market day'!$B$5)+N(F4)*N('Market day'!$B$6)+N(G4)*N('Market day'!$B$7)+N(H4)*N('Market day'!$B$8)+N(I4)*N('Market day'!$B$9)) -> 392 | K4: =IF(A4="","",N(B4)*N('Market day'!$C$2)+N(C4)*N('Market day'!$C$3)+N(D4)*N('Market day'!$C$4)+N(E4)*N('Market day'!$C$5)+N(F4)*N('Market day'!$C$6)+N(G4)*N('Market day'!$C$7)+N(H4)*N('Market day'!$C$8)+N(I4)*N('Market day'!$C$9)) -> 116.6 | L4: =IF(A4="","",'Market day'!$K$2) -> 15 | M4: =IF(A4="","",J4-K4-L4) -> 260.4
A5: Sep 26 | B5: 18 | C5: 23 | D5: 14 | E5: 10 | J5: =IF(A5="","",N(B5)*N('Market day'!$B$2)+N(C5)*N('Market day'!$B$3)+N(D5)*N('Market day'!$B$4)+N(E5)*N('Market day'!$B$5)+N(F5)*N('Market day'!$B$6)+N(G5)*N('Market day'!$B$7)+N(H5)*N('Market day'!$B$8)+N(I5)*N('Market day'!$B$9)) -> 454 | K5: =IF(A5="","",N(B5)*N('Market day'!$C$2)+N(C5)*N('Market day'!$C$3)+N(D5)*N('Market day'!$C$4)+N(E5)*N('Market day'!$C$5)+N(F5)*N('Market day'!$C$6)+N(G5)*N('Market day'!$C$7)+N(H5)*N('Market day'!$C$8)+N(I5)*N('Market day'!$C$9)) -> 135 | L5: =IF(A5="","",'Market day'!$K$2) -> 15 | M5: =IF(A5="","",J5-K5-L5) -> 304
J6: =IF(A6="","",N(B6)*N('Market day'!$B$2)+N(C6)*N('Market day'!$B$3)+N(D6)*N('Market day'!$B$4)+N(E6)*N('Market day'!$B$5)+N(F6)*N('Market day'!$B$6)+N(G6)*N('Market day'!$B$7)+N(H6)*N('Market day'!$B$8)+N(I6)*N('Market day'!$B$9)) | K6: =IF(A6="","",N(B6)*N('Market day'!$C$2)+N(C6)*N('Market day'!$C$3)+N(D6)*N('Market day'!$C$4)+N(E6)*N('Market day'!$C$5)+N(F6)*N('Market day'!$C$6)+N(G6)*N('Market day'!$C$7)+N(H6)*N('Market day'!$C$8)+N(I6)*N('Market day'!$C$9)) | L6: =IF(A6="","",'Market day'!$K$2) | M6: =IF(A6="","",J6-K6-L6)
J7: =IF(A7="","",N(B7)*N('Market day'!$B$2)+N(C7)*N('Market day'!$B$3)+N(D7)*N('Market day'!$B$4)+N(E7)*N('Market day'!$B$5)+N(F7)*N('Market day'!$B$6)+N(G7)*N('Market day'!$B$7)+N(H7)*N('Market day'!$B$8)+N(I7)*N('Market day'!$B$9)) | K7: =IF(A7="","",N(B7)*N('Market day'!$C$2)+N(C7)*N('Market day'!$C$3)+N(D7)*N('Market day'!$C$4)+N(E7)*N('Market day'!$C$5)+N(F7)*N('Market day'!$C$6)+N(G7)*N('Market day'!$C$7)+N(H7)*N('Market day'!$C$8)+N(I7)*N('Market day'!$C$9)) | L7: =IF(A7="","",'Market day'!$K$2) | M7: =IF(A7="","",J7-K7-L7)
J8: =IF(A8="","",N(B8)*N('Market day'!$B$2)+N(C8)*N('Market day'!$B$3)+N(D8)*N('Market day'!$B$4)+N(E8)*N('Market day'!$B$5)+N(F8)*N('Market day'!$B$6)+N(G8)*N('Market day'!$B$7)+N(H8)*N('Market day'!$B$8)+N(I8)*N('Market day'!$B$9)) | K8: =IF(A8="","",N(B8)*N('Market day'!$C$2)+N(C8)*N('Market day'!$C$3)+N(D8)*N('Market day'!$C$4)+N(E8)*N('Market day'!$C$5)+N(F8)*N('Market day'!$C$6)+N(G8)*N('Market day'!$C$7)+N(H8)*N('Market day'!$C$8)+N(I8)*N('Market day'!$C$9)) | L8: =IF(A8="","",'Market day'!$K$2) | M8: =IF(A8="","",J8-K8-L8)
J9: =IF(A9="","",N(B9)*N('Market day'!$B$2)+N(C9)*N('Market day'!$B$3)+N(D9)*N('Market day'!$B$4)+N(E9)*N('Market day'!$B$5)+N(F9)*N('Market day'!$B$6)+N(G9)*N('Market day'!$B$7)+N(H9)*N('Market day'!$B$8)+N(I9)*N('Market day'!$B$9)) | K9: =IF(A9="","",N(B9)*N('Market day'!$C$2)+N(C9)*N('Market day'!$C$3)+N(D9)*N('Market day'!$C$4)+N(E9)*N('Market day'!$C$5)+N(F9)*N('Market day'!$C$6)+N(G9)*N('Market day'!$C$7)+N(H9)*N('Market day'!$C$8)+N(I9)*N('Market day'!$C$9)) | L9: =IF(A9="","",'Market day'!$K$2) | M9: =IF(A9="","",J9-K9-L9)
J10: =IF(A10="","",N(B10)*N('Market day'!$B$2)+N(C10)*N('Market day'!$B$3)+N(D10)*N('Market day'!$B$4)+N(E10)*N('Market day'!$B$5)+N(F10)*N('Market day'!$B$6)+N(G10)*N('Market day'!$B$7)+N(H10)*N('Market day'!$B$8)+N(I10)*N('Market day'!$B$9)) | K10: =IF(A10="","",N(B10)*N('Market day'!$C$2)+N(C10)*N('Market day'!$C$3)+N(D10)*N('Market day'!$C$4)+N(E10)*N('Market day'!$C$5)+N(F10)*N('Market day'!$C$6)+N(G10)*N('Market day'!$C$7)+N(H10)*N('Market day'!$C$8)+N(I10)*N('Market day'!$C$9)) | L10: =IF(A10="","",'Market day'!$K$2) | M10: =IF(A10="","",J10-K10-L10)
J11: =IF(A11="","",N(B11)*N('Market day'!$B$2)+N(C11)*N('Market day'!$B$3)+N(D11)*N('Market day'!$B$4)+N(E11)*N('Market day'!$B$5)+N(F11)*N('Market day'!$B$6)+N(G11)*N('Market day'!$B$7)+N(H11)*N('Market day'!$B$8)+N(I11)*N('Market day'!$B$9)) | K11: =IF(A11="","",N(B11)*N('Market day'!$C$2)+N(C11)*N('Market day'!$C$3)+N(D11)*N('Market day'!$C$4)+N(E11)*N('Market day'!$C$5)+N(F11)*N('Market day'!$C$6)+N(G11)*N('Market day'!$C$7)+N(H11)*N('Market day'!$C$8)+N(I11)*N('Market day'!$C$9)) | L11: =IF(A11="","",'Market day'!$K$2) | M11: =IF(A11="","",J11-K11-L11)
J12: =IF(A12="","",N(B12)*N('Market day'!$B$2)+N(C12)*N('Market day'!$B$3)+N(D12)*N('Market day'!$B$4)+N(E12)*N('Market day'!$B$5)+N(F12)*N('Market day'!$B$6)+N(G12)*N('Market day'!$B$7)+N(H12)*N('Market day'!$B$8)+N(I12)*N('Market day'!$B$9)) | K12: =IF(A12="","",N(B12)*N('Market day'!$C$2)+N(C12)*N('Market day'!$C$3)+N(D12)*N('Market day'!$C$4)+N(E12)*N('Market day'!$C$5)+N(F12)*N('Market day'!$C$6)+N(G12)*N('Market day'!$C$7)+N(H12)*N('Market day'!$C$8)+N(I12)*N('Market day'!$C$9)) | L12: =IF(A12="","",'Market day'!$K$2) | M12: =IF(A12="","",J12-K12-L12)
J13: =IF(A13="","",N(B13)*N('Market day'!$B$2)+N(C13)*N('Market day'!$B$3)+N(D13)*N('Market day'!$B$4)+N(E13)*N('Market day'!$B$5)+N(F13)*N('Market day'!$B$6)+N(G13)*N('Market day'!$B$7)+N(H13)*N('Market day'!$B$8)+N(I13)*N('Market day'!$B$9)) | K13: =IF(A13="","",N(B13)*N('Market day'!$C$2)+N(C13)*N('Market day'!$C$3)+N(D13)*N('Market day'!$C$4)+N(E13)*N('Market day'!$C$5)+N(F13)*N('Market day'!$C$6)+N(G13)*N('Market day'!$C$7)+N(H13)*N('Market day'!$C$8)+N(I13)*N('Market day'!$C$9)) | L13: =IF(A13="","",'Market day'!$K$2) | M13: =IF(A13="","",J13-K13-L13)
J14: =IF(A14="","",N(B14)*N('Market day'!$B$2)+N(C14)*N('Market day'!$B$3)+N(D14)*N('Market day'!$B$4)+N(E14)*N('Market day'!$B$5)+N(F14)*N('Market day'!$B$6)+N(G14)*N('Market day'!$B$7)+N(H14)*N('Market day'!$B$8)+N(I14)*N('Market day'!$B$9)) | K14: =IF(A14="","",N(B14)*N('Market day'!$C$2)+N(C14)*N('Market day'!$C$3)+N(D14)*N('Market day'!$C$4)+N(E14)*N('Market day'!$C$5)+N(F14)*N('Market day'!$C$6)+N(G14)*N('Market day'!$C$7)+N(H14)*N('Market day'!$C$8)+N(I14)*N('Market day'!$C$9)) | L14: =IF(A14="","",'Market day'!$K$2) | M14: =IF(A14="","",J14-K14-L14)
J15: =IF(A15="","",N(B15)*N('Market day'!$B$2)+N(C15)*N('Market day'!$B$3)+N(D15)*N('Market day'!$B$4)+N(E15)*N('Market day'!$B$5)+N(F15)*N('Market day'!$B$6)+N(G15)*N('Market day'!$B$7)+N(H15)*N('Market day'!$B$8)+N(I15)*N('Market day'!$B$9)) | K15: =IF(A15="","",N(B15)*N('Market day'!$C$2)+N(C15)*N('Market day'!$C$3)+N(D15)*N('Market day'!$C$4)+N(E15)*N('Market day'!$C$5)+N(F15)*N('Market day'!$C$6)+N(G15)*N('Market day'!$C$7)+N(H15)*N('Market day'!$C$8)+N(I15)*N('Market day'!$C$9)) | L15: =IF(A15="","",'Market day'!$K$2) | M15: =IF(A15="","",J15-K15-L15)
J16: =IF(A16="","",N(B16)*N('Market day'!$B$2)+N(C16)*N('Market day'!$B$3)+N(D16)*N('Market day'!$B$4)+N(E16)*N('Market day'!$B$5)+N(F16)*N('Market day'!$B$6)+N(G16)*N('Market day'!$B$7)+N(H16)*N('Market day'!$B$8)+N(I16)*N('Market day'!$B$9)) | K16: =IF(A16="","",N(B16)*N('Market day'!$C$2)+N(C16)*N('Market day'!$C$3)+N(D16)*N('Market day'!$C$4)+N(E16)*N('Market day'!$C$5)+N(F16)*N('Market day'!$C$6)+N(G16)*N('Market day'!$C$7)+N(H16)*N('Market day'!$C$8)+N(I16)*N('Market day'!$C$9)) | L16: =IF(A16="","",'Market day'!$K$2) | M16: =IF(A16="","",J16-K16-L16)
J17: =IF(A17="","",N(B17)*N('Market day'!$B$2)+N(C17)*N('Market day'!$B$3)+N(D17)*N('Market day'!$B$4)+N(E17)*N('Market day'!$B$5)+N(F17)*N('Market day'!$B$6)+N(G17)*N('Market day'!$B$7)+N(H17)*N('Market day'!$B$8)+N(I17)*N('Market day'!$B$9)) | K17: =IF(A17="","",N(B17)*N('Market day'!$C$2)+N(C17)*N('Market day'!$C$3)+N(D17)*N('Market day'!$C$4)+N(E17)*N('Market day'!$C$5)+N(F17)*N('Market day'!$C$6)+N(G17)*N('Market day'!$C$7)+N(H17)*N('Market day'!$C$8)+N(I17)*N('Market day'!$C$9)) | L17: =IF(A17="","",'Market day'!$K$2) | M17: =IF(A17="","",J17-K17-L17)
... J60: =IF(A60="","",N(B60)*N('Market day'!$B$2)+N(C60)*N('Market day'!$B$3)+N(D60)*N('Market day'!$B$4)+N(E60)*N('Market day'!$B$5)+N(F60)*N('Market day'!$B$6)+N(G60)*N('Market day'!$B$7)+N(H60)*N('Market day'!$B$8)+N(I60)*N('Market day'!$B$9)) | K60: =IF(A60="","",N(B60)*N('Market day'!$C$2)+N(C60)*N('Market day'!$C$3)+N(D60)*N('Market day'!$C$4)+N(E60)*N('Market day'!$C$5)+N(F60)*N('Market day'!$C$6)+N(G60)*N('Market day'!$C$7)+N(H60)*N('Market day'!$C$8)+N(I60)*N('Market day'!$C$9)) | L60: =IF(A60="","",'Market day'!$K$2) | M60: =IF(A60="","",J60-K60-L60)
A62: Season | B62: =SUM(B2:B61) -> 70 | C62: =SUM(C2:C61) -> 88 | D62: =SUM(D2:D61) -> 54 | E62: =SUM(E2:E61) -> 38 | F62: =SUM(F2:F61) -> 0 | G62: =SUM(G2:G61) -> 0 | H62: =SUM(H2:H61) -> 0 | I62: =SUM(I2:I61) -> 0 | ... M62: =SUM(M2:M61) -> 1168.1

Sheet The $5,000 cap
B1: Amount
A2: Pickle sales so far this year | B2: 3950
A3: Wisconsin's cap: sales stay under | B3: 5000
A4: Room left under the cap | B4: =B3-B2 -> 1050
A5: Expected pickle sales a market day | B5: ='Market day'!F10 -> 448
A6: Market days of pickles left | B6: =IF(N(B5)=0,"",B4/B5) -> 2.34375
A8: The exemption covers less than $5,000 a year from these sales. Past that, the pickles need a licensed kitchen.

Sheet Read me
A1: How to sell pickles at a farmers market
A2: From the article: https://www.tarostack.com/articles/how-to-sell-pickles-at-farmers-market
A4: The example is the article's made-up Wisconsin home baker and canner. Wisconsin's home-canned exemption: pickles and other processed fruits or vegetables at pH 4.6 or lower, sold at farmers markets and community events, under $5,000 a year, with the sign and label (Wis. Stat. 97.29(2)(b)2).
A5: Market day: up to eight products, with the price, what each costs you, what you'll bring and what you expect to sell. Sales, what's left after costs, the expected sell-through and what's left for each hour at the market fill in.
A6: Season: one line for each market day with what sold of each product; sales, costs, the stall fee and what's left fill in from the prices and costs on the first sheet, with the season's totals at row 62.
A8: Works in Excel (2010 and later), Google Sheets, LibreOffice and Numbers. No macros.
A9: Free to use and change. Made by TaroStack, inventory and production software for small producers: https://www.tarostack.com
A10: The $5,000 cap: this year's pickle sales so far, the room left under Wisconsin's cap, and how many market days of pickles that is at the expected sales from the first sheet.
