Workbook

Sheet Market day
A1: Product | B1: Price | C1: Cost a unit, with the box | D1: Bring | E1: Expect to sell | F1: Sales | G1: Left after costs | H1: Sell-through | J1: The day
A2: Oyster mushrooms, half pound | B2: 9 | C2: 2.4 | D2: 40 | E2: 32 | F2: =IF(OR(B2="",E2=""),"",E2*B2) -> 288 | G2: =IF(OR(B2="",E2=""),"",E2*(B2-C2)) -> 211.2 | H2: =IF(N(D2)=0,"",E2/D2) -> 0.8 | J2: Stall fee | K2: 25
A3: Lion's mane, half pound | B3: 11 | C3: 3.1 | D3: 24 | E3: 18 | F3: =IF(OR(B3="",E3=""),"",E3*B3) -> 198 | G3: =IF(OR(B3="",E3=""),"",E3*(B3-C3)) -> 142.2 | H3: =IF(N(D3)=0,"",E3/D3) -> 0.75 | J3: Hours, with setup and travel | K3: 6
A4: Shiitake, half pound | B4: 10 | C4: 2.9 | D4: 30 | E4: 24 | F4: =IF(OR(B4="",E4=""),"",E4*B4) -> 240 | G4: =IF(OR(B4="",E4=""),"",E4*(B4-C4)) -> 170.4 | H4: =IF(N(D4)=0,"",E4/D4) -> 0.8 | J4: Expected sales | K4: =F10 -> 876
A5: Oyster grow kit | B5: 25 | C5: 9.5 | D5: 10 | E5: 6 | F5: =IF(OR(B5="",E5=""),"",E5*B5) -> 150 | G5: =IF(OR(B5="",E5=""),"",E5*(B5-C5)) -> 93 | H5: =IF(N(D5)=0,"",E5/D5) -> 0.6 | J5: Left after costs and the stall | K5: =G10-K2 -> 591.8
F6: =IF(OR(B6="",E6=""),"",E6*B6) | G6: =IF(OR(B6="",E6=""),"",E6*(B6-C6)) | H6: =IF(N(D6)=0,"",E6/D6) | J6: Left for each hour | K6: =IF(N(K3)=0,"",(G10-K2)/K3) -> 98.633333
F7: =IF(OR(B7="",E7=""),"",E7*B7) | G7: =IF(OR(B7="",E7=""),"",E7*(B7-C7)) | H7: =IF(N(D7)=0,"",E7/D7)
F8: =IF(OR(B8="",E8=""),"",E8*B8) | G8: =IF(OR(B8="",E8=""),"",E8*(B8-C8)) | H8: =IF(N(D8)=0,"",E8/D8) | J8: Type your products, prices and what each costs you, what you'll bring and what you expect to sell.
F9: =IF(OR(B9="",E9=""),"",E9*B9) | G9: =IF(OR(B9="",E9=""),"",E9*(B9-C9)) | H9: =IF(N(D9)=0,"",E9/D9)
A10: All products | D10: =SUM(D2:D9) -> 104 | E10: =SUM(E2:E9) -> 80 | F10: =SUM(F2:F9) -> 876 | G10: =SUM(G2:G9) -> 616.8 | H10: =IF(N(D10)=0,"",E10/D10) -> 0.76923077

Sheet Season
A1: Market day | B1: =IF('Market day'!A2="","Sold, product 1","Sold, "&'Market day'!A2) -> Sold, Oyster mushrooms, half pound | C1: =IF('Market day'!A3="","Sold, product 2","Sold, "&'Market day'!A3) -> Sold, Lion's mane, half pound | D1: =IF('Market day'!A4="","Sold, product 3","Sold, "&'Market day'!A4) -> Sold, Shiitake, half pound | E1: =IF('Market day'!A5="","Sold, product 4","Sold, "&'Market day'!A5) -> Sold, Oyster grow kit | F1: =IF('Market day'!A6="","Sold, product 5","Sold, "&'Market day'!A6) -> Sold, product 5 | G1: =IF('Market day'!A7="","Sold, product 6","Sold, "&'Market day'!A7) -> Sold, product 6 | H1: =IF('Market day'!A8="","Sold, product 7","Sold, "&'Market day'!A8) -> Sold, product 7 | I1: =IF('Market day'!A9="","Sold, product 8","Sold, "&'Market day'!A9) -> Sold, product 8 | J1: Sales | K1: Costs | L1: Stall | M1: Left
A2: Aug 1 | B2: 31 | C2: 17 | D2: 25 | E2: 5 | J2: =IF(A2="","",N(B2)*N('Market day'!$B$2)+N(C2)*N('Market day'!$B$3)+N(D2)*N('Market day'!$B$4)+N(E2)*N('Market day'!$B$5)+N(F2)*N('Market day'!$B$6)+N(G2)*N('Market day'!$B$7)+N(H2)*N('Market day'!$B$8)+N(I2)*N('Market day'!$B$9)) -> 841 | K2: =IF(A2="","",N(B2)*N('Market day'!$C$2)+N(C2)*N('Market day'!$C$3)+N(D2)*N('Market day'!$C$4)+N(E2)*N('Market day'!$C$5)+N(F2)*N('Market day'!$C$6)+N(G2)*N('Market day'!$C$7)+N(H2)*N('Market day'!$C$8)+N(I2)*N('Market day'!$C$9)) -> 247.1 | L2: =IF(A2="","",'Market day'!$K$2) -> 25 | M2: =IF(A2="","",J2-K2-L2) -> 568.9
A3: Aug 8 | B3: 34 | C3: 19 | D3: 22 | E3: 7 | J3: =IF(A3="","",N(B3)*N('Market day'!$B$2)+N(C3)*N('Market day'!$B$3)+N(D3)*N('Market day'!$B$4)+N(E3)*N('Market day'!$B$5)+N(F3)*N('Market day'!$B$6)+N(G3)*N('Market day'!$B$7)+N(H3)*N('Market day'!$B$8)+N(I3)*N('Market day'!$B$9)) -> 910 | K3: =IF(A3="","",N(B3)*N('Market day'!$C$2)+N(C3)*N('Market day'!$C$3)+N(D3)*N('Market day'!$C$4)+N(E3)*N('Market day'!$C$5)+N(F3)*N('Market day'!$C$6)+N(G3)*N('Market day'!$C$7)+N(H3)*N('Market day'!$C$8)+N(I3)*N('Market day'!$C$9)) -> 270.8 | L3: =IF(A3="","",'Market day'!$K$2) -> 25 | M3: =IF(A3="","",J3-K3-L3) -> 614.2
A4: Aug 15 | B4: 30 | C4: 18 | D4: 24 | E4: 6 | J4: =IF(A4="","",N(B4)*N('Market day'!$B$2)+N(C4)*N('Market day'!$B$3)+N(D4)*N('Market day'!$B$4)+N(E4)*N('Market day'!$B$5)+N(F4)*N('Market day'!$B$6)+N(G4)*N('Market day'!$B$7)+N(H4)*N('Market day'!$B$8)+N(I4)*N('Market day'!$B$9)) -> 858 | K4: =IF(A4="","",N(B4)*N('Market day'!$C$2)+N(C4)*N('Market day'!$C$3)+N(D4)*N('Market day'!$C$4)+N(E4)*N('Market day'!$C$5)+N(F4)*N('Market day'!$C$6)+N(G4)*N('Market day'!$C$7)+N(H4)*N('Market day'!$C$8)+N(I4)*N('Market day'!$C$9)) -> 254.4 | L4: =IF(A4="","",'Market day'!$K$2) -> 25 | M4: =IF(A4="","",J4-K4-L4) -> 578.6
A5: Aug 22 | B5: 33 | C5: 16 | D5: 26 | E5: 6 | J5: =IF(A5="","",N(B5)*N('Market day'!$B$2)+N(C5)*N('Market day'!$B$3)+N(D5)*N('Market day'!$B$4)+N(E5)*N('Market day'!$B$5)+N(F5)*N('Market day'!$B$6)+N(G5)*N('Market day'!$B$7)+N(H5)*N('Market day'!$B$8)+N(I5)*N('Market day'!$B$9)) -> 883 | K5: =IF(A5="","",N(B5)*N('Market day'!$C$2)+N(C5)*N('Market day'!$C$3)+N(D5)*N('Market day'!$C$4)+N(E5)*N('Market day'!$C$5)+N(F5)*N('Market day'!$C$6)+N(G5)*N('Market day'!$C$7)+N(H5)*N('Market day'!$C$8)+N(I5)*N('Market day'!$C$9)) -> 261.2 | L5: =IF(A5="","",'Market day'!$K$2) -> 25 | M5: =IF(A5="","",J5-K5-L5) -> 596.8
J6: =IF(A6="","",N(B6)*N('Market day'!$B$2)+N(C6)*N('Market day'!$B$3)+N(D6)*N('Market day'!$B$4)+N(E6)*N('Market day'!$B$5)+N(F6)*N('Market day'!$B$6)+N(G6)*N('Market day'!$B$7)+N(H6)*N('Market day'!$B$8)+N(I6)*N('Market day'!$B$9)) | K6: =IF(A6="","",N(B6)*N('Market day'!$C$2)+N(C6)*N('Market day'!$C$3)+N(D6)*N('Market day'!$C$4)+N(E6)*N('Market day'!$C$5)+N(F6)*N('Market day'!$C$6)+N(G6)*N('Market day'!$C$7)+N(H6)*N('Market day'!$C$8)+N(I6)*N('Market day'!$C$9)) | L6: =IF(A6="","",'Market day'!$K$2) | M6: =IF(A6="","",J6-K6-L6)
J7: =IF(A7="","",N(B7)*N('Market day'!$B$2)+N(C7)*N('Market day'!$B$3)+N(D7)*N('Market day'!$B$4)+N(E7)*N('Market day'!$B$5)+N(F7)*N('Market day'!$B$6)+N(G7)*N('Market day'!$B$7)+N(H7)*N('Market day'!$B$8)+N(I7)*N('Market day'!$B$9)) | K7: =IF(A7="","",N(B7)*N('Market day'!$C$2)+N(C7)*N('Market day'!$C$3)+N(D7)*N('Market day'!$C$4)+N(E7)*N('Market day'!$C$5)+N(F7)*N('Market day'!$C$6)+N(G7)*N('Market day'!$C$7)+N(H7)*N('Market day'!$C$8)+N(I7)*N('Market day'!$C$9)) | L7: =IF(A7="","",'Market day'!$K$2) | M7: =IF(A7="","",J7-K7-L7)
J8: =IF(A8="","",N(B8)*N('Market day'!$B$2)+N(C8)*N('Market day'!$B$3)+N(D8)*N('Market day'!$B$4)+N(E8)*N('Market day'!$B$5)+N(F8)*N('Market day'!$B$6)+N(G8)*N('Market day'!$B$7)+N(H8)*N('Market day'!$B$8)+N(I8)*N('Market day'!$B$9)) | K8: =IF(A8="","",N(B8)*N('Market day'!$C$2)+N(C8)*N('Market day'!$C$3)+N(D8)*N('Market day'!$C$4)+N(E8)*N('Market day'!$C$5)+N(F8)*N('Market day'!$C$6)+N(G8)*N('Market day'!$C$7)+N(H8)*N('Market day'!$C$8)+N(I8)*N('Market day'!$C$9)) | L8: =IF(A8="","",'Market day'!$K$2) | M8: =IF(A8="","",J8-K8-L8)
J9: =IF(A9="","",N(B9)*N('Market day'!$B$2)+N(C9)*N('Market day'!$B$3)+N(D9)*N('Market day'!$B$4)+N(E9)*N('Market day'!$B$5)+N(F9)*N('Market day'!$B$6)+N(G9)*N('Market day'!$B$7)+N(H9)*N('Market day'!$B$8)+N(I9)*N('Market day'!$B$9)) | K9: =IF(A9="","",N(B9)*N('Market day'!$C$2)+N(C9)*N('Market day'!$C$3)+N(D9)*N('Market day'!$C$4)+N(E9)*N('Market day'!$C$5)+N(F9)*N('Market day'!$C$6)+N(G9)*N('Market day'!$C$7)+N(H9)*N('Market day'!$C$8)+N(I9)*N('Market day'!$C$9)) | L9: =IF(A9="","",'Market day'!$K$2) | M9: =IF(A9="","",J9-K9-L9)
J10: =IF(A10="","",N(B10)*N('Market day'!$B$2)+N(C10)*N('Market day'!$B$3)+N(D10)*N('Market day'!$B$4)+N(E10)*N('Market day'!$B$5)+N(F10)*N('Market day'!$B$6)+N(G10)*N('Market day'!$B$7)+N(H10)*N('Market day'!$B$8)+N(I10)*N('Market day'!$B$9)) | K10: =IF(A10="","",N(B10)*N('Market day'!$C$2)+N(C10)*N('Market day'!$C$3)+N(D10)*N('Market day'!$C$4)+N(E10)*N('Market day'!$C$5)+N(F10)*N('Market day'!$C$6)+N(G10)*N('Market day'!$C$7)+N(H10)*N('Market day'!$C$8)+N(I10)*N('Market day'!$C$9)) | L10: =IF(A10="","",'Market day'!$K$2) | M10: =IF(A10="","",J10-K10-L10)
J11: =IF(A11="","",N(B11)*N('Market day'!$B$2)+N(C11)*N('Market day'!$B$3)+N(D11)*N('Market day'!$B$4)+N(E11)*N('Market day'!$B$5)+N(F11)*N('Market day'!$B$6)+N(G11)*N('Market day'!$B$7)+N(H11)*N('Market day'!$B$8)+N(I11)*N('Market day'!$B$9)) | K11: =IF(A11="","",N(B11)*N('Market day'!$C$2)+N(C11)*N('Market day'!$C$3)+N(D11)*N('Market day'!$C$4)+N(E11)*N('Market day'!$C$5)+N(F11)*N('Market day'!$C$6)+N(G11)*N('Market day'!$C$7)+N(H11)*N('Market day'!$C$8)+N(I11)*N('Market day'!$C$9)) | L11: =IF(A11="","",'Market day'!$K$2) | M11: =IF(A11="","",J11-K11-L11)
J12: =IF(A12="","",N(B12)*N('Market day'!$B$2)+N(C12)*N('Market day'!$B$3)+N(D12)*N('Market day'!$B$4)+N(E12)*N('Market day'!$B$5)+N(F12)*N('Market day'!$B$6)+N(G12)*N('Market day'!$B$7)+N(H12)*N('Market day'!$B$8)+N(I12)*N('Market day'!$B$9)) | K12: =IF(A12="","",N(B12)*N('Market day'!$C$2)+N(C12)*N('Market day'!$C$3)+N(D12)*N('Market day'!$C$4)+N(E12)*N('Market day'!$C$5)+N(F12)*N('Market day'!$C$6)+N(G12)*N('Market day'!$C$7)+N(H12)*N('Market day'!$C$8)+N(I12)*N('Market day'!$C$9)) | L12: =IF(A12="","",'Market day'!$K$2) | M12: =IF(A12="","",J12-K12-L12)
J13: =IF(A13="","",N(B13)*N('Market day'!$B$2)+N(C13)*N('Market day'!$B$3)+N(D13)*N('Market day'!$B$4)+N(E13)*N('Market day'!$B$5)+N(F13)*N('Market day'!$B$6)+N(G13)*N('Market day'!$B$7)+N(H13)*N('Market day'!$B$8)+N(I13)*N('Market day'!$B$9)) | K13: =IF(A13="","",N(B13)*N('Market day'!$C$2)+N(C13)*N('Market day'!$C$3)+N(D13)*N('Market day'!$C$4)+N(E13)*N('Market day'!$C$5)+N(F13)*N('Market day'!$C$6)+N(G13)*N('Market day'!$C$7)+N(H13)*N('Market day'!$C$8)+N(I13)*N('Market day'!$C$9)) | L13: =IF(A13="","",'Market day'!$K$2) | M13: =IF(A13="","",J13-K13-L13)
J14: =IF(A14="","",N(B14)*N('Market day'!$B$2)+N(C14)*N('Market day'!$B$3)+N(D14)*N('Market day'!$B$4)+N(E14)*N('Market day'!$B$5)+N(F14)*N('Market day'!$B$6)+N(G14)*N('Market day'!$B$7)+N(H14)*N('Market day'!$B$8)+N(I14)*N('Market day'!$B$9)) | K14: =IF(A14="","",N(B14)*N('Market day'!$C$2)+N(C14)*N('Market day'!$C$3)+N(D14)*N('Market day'!$C$4)+N(E14)*N('Market day'!$C$5)+N(F14)*N('Market day'!$C$6)+N(G14)*N('Market day'!$C$7)+N(H14)*N('Market day'!$C$8)+N(I14)*N('Market day'!$C$9)) | L14: =IF(A14="","",'Market day'!$K$2) | M14: =IF(A14="","",J14-K14-L14)
J15: =IF(A15="","",N(B15)*N('Market day'!$B$2)+N(C15)*N('Market day'!$B$3)+N(D15)*N('Market day'!$B$4)+N(E15)*N('Market day'!$B$5)+N(F15)*N('Market day'!$B$6)+N(G15)*N('Market day'!$B$7)+N(H15)*N('Market day'!$B$8)+N(I15)*N('Market day'!$B$9)) | K15: =IF(A15="","",N(B15)*N('Market day'!$C$2)+N(C15)*N('Market day'!$C$3)+N(D15)*N('Market day'!$C$4)+N(E15)*N('Market day'!$C$5)+N(F15)*N('Market day'!$C$6)+N(G15)*N('Market day'!$C$7)+N(H15)*N('Market day'!$C$8)+N(I15)*N('Market day'!$C$9)) | L15: =IF(A15="","",'Market day'!$K$2) | M15: =IF(A15="","",J15-K15-L15)
J16: =IF(A16="","",N(B16)*N('Market day'!$B$2)+N(C16)*N('Market day'!$B$3)+N(D16)*N('Market day'!$B$4)+N(E16)*N('Market day'!$B$5)+N(F16)*N('Market day'!$B$6)+N(G16)*N('Market day'!$B$7)+N(H16)*N('Market day'!$B$8)+N(I16)*N('Market day'!$B$9)) | K16: =IF(A16="","",N(B16)*N('Market day'!$C$2)+N(C16)*N('Market day'!$C$3)+N(D16)*N('Market day'!$C$4)+N(E16)*N('Market day'!$C$5)+N(F16)*N('Market day'!$C$6)+N(G16)*N('Market day'!$C$7)+N(H16)*N('Market day'!$C$8)+N(I16)*N('Market day'!$C$9)) | L16: =IF(A16="","",'Market day'!$K$2) | M16: =IF(A16="","",J16-K16-L16)
J17: =IF(A17="","",N(B17)*N('Market day'!$B$2)+N(C17)*N('Market day'!$B$3)+N(D17)*N('Market day'!$B$4)+N(E17)*N('Market day'!$B$5)+N(F17)*N('Market day'!$B$6)+N(G17)*N('Market day'!$B$7)+N(H17)*N('Market day'!$B$8)+N(I17)*N('Market day'!$B$9)) | K17: =IF(A17="","",N(B17)*N('Market day'!$C$2)+N(C17)*N('Market day'!$C$3)+N(D17)*N('Market day'!$C$4)+N(E17)*N('Market day'!$C$5)+N(F17)*N('Market day'!$C$6)+N(G17)*N('Market day'!$C$7)+N(H17)*N('Market day'!$C$8)+N(I17)*N('Market day'!$C$9)) | L17: =IF(A17="","",'Market day'!$K$2) | M17: =IF(A17="","",J17-K17-L17)
... J60: =IF(A60="","",N(B60)*N('Market day'!$B$2)+N(C60)*N('Market day'!$B$3)+N(D60)*N('Market day'!$B$4)+N(E60)*N('Market day'!$B$5)+N(F60)*N('Market day'!$B$6)+N(G60)*N('Market day'!$B$7)+N(H60)*N('Market day'!$B$8)+N(I60)*N('Market day'!$B$9)) | K60: =IF(A60="","",N(B60)*N('Market day'!$C$2)+N(C60)*N('Market day'!$C$3)+N(D60)*N('Market day'!$C$4)+N(E60)*N('Market day'!$C$5)+N(F60)*N('Market day'!$C$6)+N(G60)*N('Market day'!$C$7)+N(H60)*N('Market day'!$C$8)+N(I60)*N('Market day'!$C$9)) | L60: =IF(A60="","",'Market day'!$K$2) | M60: =IF(A60="","",J60-K60-L60)
A62: Season | B62: =SUM(B2:B61) -> 128 | C62: =SUM(C2:C61) -> 70 | D62: =SUM(D2:D61) -> 97 | E62: =SUM(E2:E61) -> 24 | F62: =SUM(F2:F61) -> 0 | G62: =SUM(G2:G61) -> 0 | H62: =SUM(H2:H61) -> 0 | I62: =SUM(I2:I61) -> 0 | ... M62: =SUM(M2:M61) -> 2358.5

Sheet Wild mushroom records
A1: Date sold | B1: Scientific name | C1: Common name | D1: Harvested: county, state | E1: Date harvested | F1: Pounds, fresh | G1: Sold to | H1: Identified fresh?
A2: 46156 | B2: Morchella americana | C2: Yellow morel | D2: Rice County, Minnesota | E2: 46155 | F2: 6.5 | G2: Restaurant A, Northfield | H2: Yes
A3: 46163 | B3: Morchella americana | C3: Yellow morel | D3: Rice County, Minnesota | E3: 46162 | F3: 4 | G3: Restaurant B, Faribault | H3: Yes
A4: 46226 | B4: Cantharellus cibarius | C4: Golden chanterelle | D4: Goodhue County, Minnesota | E4: 46225 | F4: 3.5 | G4: Restaurant A, Northfield | H4: Yes
A203: Minnesota asks the harvester to keep these records for 90 days, and each restaurant to keep a written buyer specification with the species, date, weight, a statement that each mushroom was identified fresh, the harvester's name, address and phone, and proof the harvester is on the state's registry (Minn. R. 4626.0155). Other states set their own rules.

Sheet Read me
A1: How to sell mushrooms at a farmers market
A2: From the article: https://www.tarostack.com/articles/how-to-sell-mushrooms-at-farmers-market
A4: The example is the article's made-up Minnesota mushroom grower. Cultivated mushrooms grown in a regulated operation are outside the Food Code's wild mushroom rule; wild mushrooms sold to restaurants in Minnesota come from a certified harvester with a written buyer specification (Food Code 3-201.16; Minn. R. 4626.0155).
A5: Market day: up to eight products, with the price, what each costs you, what you'll bring and what you expect to sell. Sales, what's left after costs, the expected sell-through and what's left for each hour at the market fill in.
A6: Season: one line for each market day with what sold of each product; sales, costs, the stall fee and what's left fill in from the prices and costs on the first sheet, with the season's totals at row 62.
A8: Works in Excel (2010 and later), Google Sheets, LibreOffice and Numbers. No macros.
A9: Free to use and change. Made by TaroStack, inventory and production software for small producers: https://www.tarostack.com
A10: Wild mushroom records: each sale of foraged mushrooms with the scientific and common name, where and when it was harvested, the weight and the buyer, the records Minnesota asks a certified harvester to keep for 90 days.
