Workbook

Sheet Read me
A1: Jewelry inventory spreadsheet
A2: From the article: https://www.tarostack.com/articles/how-to-inventory-jewelry
A4: Materials: how you buy each material and how many use units are in a pack. The cost per use unit, value on hand and what needs reordering work themselves out.
A5: Designs: each design's parts, one per line, costed from Materials; the materials cost per design adds up on the right.
A6: Pieces: finished pieces by design and by place, including consignment shops and the market box.
A7: Count by weight: weigh 100 of a finding once, then weigh the bag to count it.
A9: Works in Excel (2010 and later), Google Sheets, LibreOffice and Numbers. No macros.
A10: Free to use and change. Made by TaroStack, inventory and production software for small producers: https://www.tarostack.com

Sheet Materials
A1: Material | B1: Bought as | C1: Pack price | D1: Use units in a pack | E1: Use unit | F1: Cost per use unit | G1: On hand | H1: Value | I1: Reorder at | J1: Reorder?
A2: Sterling chain, 1.5 mm | B2: 25 ft spool | C2: 45 | D2: 300 | E2: inch | F2: =IF(OR(C2="",N(D2)=0),"",ROUND(C2/D2,4)) -> 0.15 | G2: 440 | H2: =IF(OR(F2="",G2=""),"",ROUND(F2*G2,2)) -> 66 | I2: 150 | J2: =IF(OR(G2="",I2=""),"",IF(G2<=I2,"Yes",""))
A3: Sterling wire, 20 gauge | B3: 10 ft coil | C3: 11 | D3: 120 | E3: inch | F3: =IF(OR(C3="",N(D3)=0),"",ROUND(C3/D3,4)) -> 0.0917 | G3: 85 | H3: =IF(OR(F3="",G3=""),"",ROUND(F3*G3,2)) -> 7.79 | I3: 60 | J3: =IF(OR(G3="",I3=""),"",IF(G3<=I3,"Yes",""))
A4: Sterling ear wires | B4: 25 pairs | C4: 22.5 | D4: 25 | E4: pair | F4: =IF(OR(C4="",N(D4)=0),"",ROUND(C4/D4,4)) -> 0.9 | G4: 32 | H4: =IF(OR(F4="",G4=""),"",ROUND(F4*G4,2)) -> 28.8 | I4: 15 | J4: =IF(OR(G4="",I4=""),"",IF(G4<=I4,"Yes",""))
A5: Sterling jump rings, 5 mm | B5: 100 | C5: 15 | D5: 100 | E5: each | F5: =IF(OR(C5="",N(D5)=0),"",ROUND(C5/D5,4)) -> 0.15 | G5: 140 | H5: =IF(OR(F5="",G5=""),"",ROUND(F5*G5,2)) -> 21 | I5: 60 | J5: =IF(OR(G5="",I5=""),"",IF(G5<=I5,"Yes",""))
A6: Lobster clasps | B6: 10 | C6: 12 | D6: 10 | E6: each | F6: =IF(OR(C6="",N(D6)=0),"",ROUND(C6/D6,4)) -> 1.2 | G6: 13 | H6: =IF(OR(F6="",G6=""),"",ROUND(F6*G6,2)) -> 15.6 | I6: 8 | J6: =IF(OR(G6="",I6=""),"",IF(G6<=I6,"Yes",""))
A7: Sea glass, earring size | B7: Lot of 100 | C7: 50 | D7: 100 | E7: each | F7: =IF(OR(C7="",N(D7)=0),"",ROUND(C7/D7,4)) -> 0.5 | G7: 86 | H7: =IF(OR(F7="",G7=""),"",ROUND(F7*G7,2)) -> 43 | I7: 30 | J7: =IF(OR(G7="",I7=""),"",IF(G7<=I7,"Yes",""))
A8: Sea glass, pendant size | B8: Lot of 40 | C8: 30 | D8: 40 | E8: each | F8: =IF(OR(C8="",N(D8)=0),"",ROUND(C8/D8,4)) -> 0.75 | G8: 22 | H8: =IF(OR(F8="",G8=""),"",ROUND(F8*G8,2)) -> 16.5 | I8: 10 | J8: =IF(OR(G8="",I8=""),"",IF(G8<=I8,"Yes",""))
F9: =IF(OR(C9="",N(D9)=0),"",ROUND(C9/D9,4)) | H9: =IF(OR(F9="",G9=""),"",ROUND(F9*G9,2)) | J9: =IF(OR(G9="",I9=""),"",IF(G9<=I9,"Yes",""))
F10: =IF(OR(C10="",N(D10)=0),"",ROUND(C10/D10,4)) | H10: =IF(OR(F10="",G10=""),"",ROUND(F10*G10,2)) | J10: =IF(OR(G10="",I10=""),"",IF(G10<=I10,"Yes",""))
F11: =IF(OR(C11="",N(D11)=0),"",ROUND(C11/D11,4)) | H11: =IF(OR(F11="",G11=""),"",ROUND(F11*G11,2)) | J11: =IF(OR(G11="",I11=""),"",IF(G11<=I11,"Yes",""))
F12: =IF(OR(C12="",N(D12)=0),"",ROUND(C12/D12,4)) | H12: =IF(OR(F12="",G12=""),"",ROUND(F12*G12,2)) | J12: =IF(OR(G12="",I12=""),"",IF(G12<=I12,"Yes",""))
F13: =IF(OR(C13="",N(D13)=0),"",ROUND(C13/D13,4)) | H13: =IF(OR(F13="",G13=""),"",ROUND(F13*G13,2)) | J13: =IF(OR(G13="",I13=""),"",IF(G13<=I13,"Yes",""))
F14: =IF(OR(C14="",N(D14)=0),"",ROUND(C14/D14,4)) | H14: =IF(OR(F14="",G14=""),"",ROUND(F14*G14,2)) | J14: =IF(OR(G14="",I14=""),"",IF(G14<=I14,"Yes",""))
F15: =IF(OR(C15="",N(D15)=0),"",ROUND(C15/D15,4)) | H15: =IF(OR(F15="",G15=""),"",ROUND(F15*G15,2)) | J15: =IF(OR(G15="",I15=""),"",IF(G15<=I15,"Yes",""))
F16: =IF(OR(C16="",N(D16)=0),"",ROUND(C16/D16,4)) | H16: =IF(OR(F16="",G16=""),"",ROUND(F16*G16,2)) | J16: =IF(OR(G16="",I16=""),"",IF(G16<=I16,"Yes",""))
F17: =IF(OR(C17="",N(D17)=0),"",ROUND(C17/D17,4)) | H17: =IF(OR(F17="",G17=""),"",ROUND(F17*G17,2)) | J17: =IF(OR(G17="",I17=""),"",IF(G17<=I17,"Yes",""))
F18: =IF(OR(C18="",N(D18)=0),"",ROUND(C18/D18,4)) | H18: =IF(OR(F18="",G18=""),"",ROUND(F18*G18,2)) | J18: =IF(OR(G18="",I18=""),"",IF(G18<=I18,"Yes",""))
F19: =IF(OR(C19="",N(D19)=0),"",ROUND(C19/D19,4)) | H19: =IF(OR(F19="",G19=""),"",ROUND(F19*G19,2)) | J19: =IF(OR(G19="",I19=""),"",IF(G19<=I19,"Yes",""))
F20: =IF(OR(C20="",N(D20)=0),"",ROUND(C20/D20,4)) | H20: =IF(OR(F20="",G20=""),"",ROUND(F20*G20,2)) | J20: =IF(OR(G20="",I20=""),"",IF(G20<=I20,"Yes",""))
... F60: =IF(OR(C60="",N(D60)=0),"",ROUND(C60/D60,4)) | H60: =IF(OR(F60="",G60=""),"",ROUND(F60*G60,2)) | J60: =IF(OR(G60="",I60=""),"",IF(G60<=I60,"Yes",""))
A62: Total | H62: =SUM(H2:H60) -> 198.69

Sheet Designs
A1: Design | B1: Material (as on Materials) | C1: Quantity | D1: Cost per use unit | E1: Cost | G1: Design | H1: Materials
A2: Sea glass drop earrings | B2: Sea glass, earring size | C2: 2 | D2: =IF(B2="","",IFERROR(VLOOKUP(B2,Materials!$A$2:$F$60,6,0),"")) -> 0.5 | E2: =IF(OR(D2="",C2=""),"",ROUND(C2*D2,2)) -> 1 | G2: Sea glass drop earrings | H2: =IF(G2="","",SUMIF($A$2:$A$100,G2,$E$2:$E$100)) -> 2.75
A3: Sea glass drop earrings | B3: Sterling ear wires | C3: 1 | D3: =IF(B3="","",IFERROR(VLOOKUP(B3,Materials!$A$2:$F$60,6,0),"")) -> 0.9 | E3: =IF(OR(D3="",C3=""),"",ROUND(C3*D3,2)) -> 0.9 | G3: Sea glass pendant necklace | H3: =IF(G3="","",SUMIF($A$2:$A$100,G3,$E$2:$E$100)) -> 5.32
A4: Sea glass drop earrings | B4: Sterling wire, 20 gauge | C4: 6 | D4: =IF(B4="","",IFERROR(VLOOKUP(B4,Materials!$A$2:$F$60,6,0),"")) -> 0.0917 | E4: =IF(OR(D4="",C4=""),"",ROUND(C4*D4,2)) -> 0.55 | H4: =IF(G4="","",SUMIF($A$2:$A$100,G4,$E$2:$E$100))
A5: Sea glass drop earrings | B5: Sterling jump rings, 5 mm | C5: 2 | D5: =IF(B5="","",IFERROR(VLOOKUP(B5,Materials!$A$2:$F$60,6,0),"")) -> 0.15 | E5: =IF(OR(D5="",C5=""),"",ROUND(C5*D5,2)) -> 0.3 | H5: =IF(G5="","",SUMIF($A$2:$A$100,G5,$E$2:$E$100))
A6: Sea glass pendant necklace | B6: Sterling chain, 1.5 mm | C6: 18 | D6: =IF(B6="","",IFERROR(VLOOKUP(B6,Materials!$A$2:$F$60,6,0),"")) -> 0.15 | E6: =IF(OR(D6="",C6=""),"",ROUND(C6*D6,2)) -> 2.7 | H6: =IF(G6="","",SUMIF($A$2:$A$100,G6,$E$2:$E$100))
A7: Sea glass pendant necklace | B7: Lobster clasps | C7: 1 | D7: =IF(B7="","",IFERROR(VLOOKUP(B7,Materials!$A$2:$F$60,6,0),"")) -> 1.2 | E7: =IF(OR(D7="",C7=""),"",ROUND(C7*D7,2)) -> 1.2 | H7: =IF(G7="","",SUMIF($A$2:$A$100,G7,$E$2:$E$100))
A8: Sea glass pendant necklace | B8: Sterling jump rings, 5 mm | C8: 2 | D8: =IF(B8="","",IFERROR(VLOOKUP(B8,Materials!$A$2:$F$60,6,0),"")) -> 0.15 | E8: =IF(OR(D8="",C8=""),"",ROUND(C8*D8,2)) -> 0.3 | H8: =IF(G8="","",SUMIF($A$2:$A$100,G8,$E$2:$E$100))
A9: Sea glass pendant necklace | B9: Sea glass, pendant size | C9: 1 | D9: =IF(B9="","",IFERROR(VLOOKUP(B9,Materials!$A$2:$F$60,6,0),"")) -> 0.75 | E9: =IF(OR(D9="",C9=""),"",ROUND(C9*D9,2)) -> 0.75 | H9: =IF(G9="","",SUMIF($A$2:$A$100,G9,$E$2:$E$100))
A10: Sea glass pendant necklace | B10: Sterling wire, 20 gauge | C10: 4 | D10: =IF(B10="","",IFERROR(VLOOKUP(B10,Materials!$A$2:$F$60,6,0),"")) -> 0.0917 | E10: =IF(OR(D10="",C10=""),"",ROUND(C10*D10,2)) -> 0.37 | H10: =IF(G10="","",SUMIF($A$2:$A$100,G10,$E$2:$E$100))
D11: =IF(B11="","",IFERROR(VLOOKUP(B11,Materials!$A$2:$F$60,6,0),"")) | E11: =IF(OR(D11="",C11=""),"",ROUND(C11*D11,2)) | H11: =IF(G11="","",SUMIF($A$2:$A$100,G11,$E$2:$E$100))
D12: =IF(B12="","",IFERROR(VLOOKUP(B12,Materials!$A$2:$F$60,6,0),"")) | E12: =IF(OR(D12="",C12=""),"",ROUND(C12*D12,2)) | H12: =IF(G12="","",SUMIF($A$2:$A$100,G12,$E$2:$E$100))
D13: =IF(B13="","",IFERROR(VLOOKUP(B13,Materials!$A$2:$F$60,6,0),"")) | E13: =IF(OR(D13="",C13=""),"",ROUND(C13*D13,2)) | H13: =IF(G13="","",SUMIF($A$2:$A$100,G13,$E$2:$E$100))
D14: =IF(B14="","",IFERROR(VLOOKUP(B14,Materials!$A$2:$F$60,6,0),"")) | E14: =IF(OR(D14="",C14=""),"",ROUND(C14*D14,2)) | H14: =IF(G14="","",SUMIF($A$2:$A$100,G14,$E$2:$E$100))
D15: =IF(B15="","",IFERROR(VLOOKUP(B15,Materials!$A$2:$F$60,6,0),"")) | E15: =IF(OR(D15="",C15=""),"",ROUND(C15*D15,2)) | H15: =IF(G15="","",SUMIF($A$2:$A$100,G15,$E$2:$E$100))
D16: =IF(B16="","",IFERROR(VLOOKUP(B16,Materials!$A$2:$F$60,6,0),"")) | E16: =IF(OR(D16="",C16=""),"",ROUND(C16*D16,2)) | H16: =IF(G16="","",SUMIF($A$2:$A$100,G16,$E$2:$E$100))
D17: =IF(B17="","",IFERROR(VLOOKUP(B17,Materials!$A$2:$F$60,6,0),"")) | E17: =IF(OR(D17="",C17=""),"",ROUND(C17*D17,2)) | H17: =IF(G17="","",SUMIF($A$2:$A$100,G17,$E$2:$E$100))
D18: =IF(B18="","",IFERROR(VLOOKUP(B18,Materials!$A$2:$F$60,6,0),"")) | E18: =IF(OR(D18="",C18=""),"",ROUND(C18*D18,2)) | H18: =IF(G18="","",SUMIF($A$2:$A$100,G18,$E$2:$E$100))
D19: =IF(B19="","",IFERROR(VLOOKUP(B19,Materials!$A$2:$F$60,6,0),"")) | E19: =IF(OR(D19="",C19=""),"",ROUND(C19*D19,2)) | H19: =IF(G19="","",SUMIF($A$2:$A$100,G19,$E$2:$E$100))
D20: =IF(B20="","",IFERROR(VLOOKUP(B20,Materials!$A$2:$F$60,6,0),"")) | E20: =IF(OR(D20="",C20=""),"",ROUND(C20*D20,2)) | H20: =IF(G20="","",SUMIF($A$2:$A$100,G20,$E$2:$E$100))
D21: =IF(B21="","",IFERROR(VLOOKUP(B21,Materials!$A$2:$F$60,6,0),"")) | E21: =IF(OR(D21="",C21=""),"",ROUND(C21*D21,2))
D22: =IF(B22="","",IFERROR(VLOOKUP(B22,Materials!$A$2:$F$60,6,0),"")) | E22: =IF(OR(D22="",C22=""),"",ROUND(C22*D22,2)) | G22: One line per part on the left; each design's materials cost adds up on the right. Type material names exactly as on Materials.
D23: =IF(B23="","",IFERROR(VLOOKUP(B23,Materials!$A$2:$F$60,6,0),"")) | E23: =IF(OR(D23="",C23=""),"",ROUND(C23*D23,2))
D24: =IF(B24="","",IFERROR(VLOOKUP(B24,Materials!$A$2:$F$60,6,0),"")) | E24: =IF(OR(D24="",C24=""),"",ROUND(C24*D24,2))
D25: =IF(B25="","",IFERROR(VLOOKUP(B25,Materials!$A$2:$F$60,6,0),"")) | E25: =IF(OR(D25="",C25=""),"",ROUND(C25*D25,2))
D26: =IF(B26="","",IFERROR(VLOOKUP(B26,Materials!$A$2:$F$60,6,0),"")) | E26: =IF(OR(D26="",C26=""),"",ROUND(C26*D26,2))
D27: =IF(B27="","",IFERROR(VLOOKUP(B27,Materials!$A$2:$F$60,6,0),"")) | E27: =IF(OR(D27="",C27=""),"",ROUND(C27*D27,2))
D28: =IF(B28="","",IFERROR(VLOOKUP(B28,Materials!$A$2:$F$60,6,0),"")) | E28: =IF(OR(D28="",C28=""),"",ROUND(C28*D28,2))
D29: =IF(B29="","",IFERROR(VLOOKUP(B29,Materials!$A$2:$F$60,6,0),"")) | E29: =IF(OR(D29="",C29=""),"",ROUND(C29*D29,2))
D30: =IF(B30="","",IFERROR(VLOOKUP(B30,Materials!$A$2:$F$60,6,0),"")) | E30: =IF(OR(D30="",C30=""),"",ROUND(C30*D30,2))
D31: =IF(B31="","",IFERROR(VLOOKUP(B31,Materials!$A$2:$F$60,6,0),"")) | E31: =IF(OR(D31="",C31=""),"",ROUND(C31*D31,2))
D32: =IF(B32="","",IFERROR(VLOOKUP(B32,Materials!$A$2:$F$60,6,0),"")) | E32: =IF(OR(D32="",C32=""),"",ROUND(C32*D32,2))
D33: =IF(B33="","",IFERROR(VLOOKUP(B33,Materials!$A$2:$F$60,6,0),"")) | E33: =IF(OR(D33="",C33=""),"",ROUND(C33*D33,2))
D34: =IF(B34="","",IFERROR(VLOOKUP(B34,Materials!$A$2:$F$60,6,0),"")) | E34: =IF(OR(D34="",C34=""),"",ROUND(C34*D34,2))
... D100: =IF(B100="","",IFERROR(VLOOKUP(B100,Materials!$A$2:$F$60,6,0),"")) | E100: =IF(OR(D100="",C100=""),"",ROUND(C100*D100,2))

Sheet Pieces
A1: Design | B1: Code | C1: Studio | D1: Corner Market | E1: Harbor Gallery | F1: Market box | G1: Total
A2: Sea glass drop earrings | B2: SG-EAR-01 | C2: 14 | D2: 6 | E2: 4 | F2: 10 | G2: =IF(A2="","",SUM(C2:F2)) -> 34
A3: Sea glass pendant necklace | B3: SG-NEC-01 | C3: 8 | D3: 3 | E3: 2 | F3: 6 | G3: =IF(A3="","",SUM(C3:F3)) -> 19
A4: Blue sea glass cuff, one of a kind | B4: OOAK-0012 | C4: 1 | G4: =IF(A4="","",SUM(C4:F4)) -> 1
G5: =IF(A5="","",SUM(C5:F5))
G6: =IF(A6="","",SUM(C6:F6))
G7: =IF(A7="","",SUM(C7:F7))
G8: =IF(A8="","",SUM(C8:F8))
G9: =IF(A9="","",SUM(C9:F9))
G10: =IF(A10="","",SUM(C10:F10))
G11: =IF(A11="","",SUM(C11:F11))
G12: =IF(A12="","",SUM(C12:F12))
G13: =IF(A13="","",SUM(C13:F13))
G14: =IF(A14="","",SUM(C14:F14))
G15: =IF(A15="","",SUM(C15:F15))
G16: =IF(A16="","",SUM(C16:F16))
... G60: =IF(A60="","",SUM(C60:F60))
A62: Total | C62: =SUM(C2:C60) -> 23 | D62: =SUM(D2:D60) -> 9 | E62: =SUM(E2:E60) -> 6 | F62: =SUM(F2:F60) -> 16 | G62: =SUM(G2:G60) -> 54
A63: Rename the place columns for your own shops and boxes. Consignment stock is yours until it sells.

Sheet Count by weight
A1: Finding | B1: Weight of 100 (g) | C1: Weight of one (g) | D1: Bag with findings (g) | E1: Empty bag (g) | F1: Count
A2: Sterling jump rings, 5 mm | B2: 12 | C2: =IF(N(B2)=0,"",B2/100) -> 0.12 | D2: 17.4 | E2: 0.6 | F2: =IF(OR(C2="",D2=""),"",ROUND((D2-N(E2))/C2,0)) -> 140
C3: =IF(N(B3)=0,"",B3/100) | F3: =IF(OR(C3="",D3=""),"",ROUND((D3-N(E3))/C3,0))
C4: =IF(N(B4)=0,"",B4/100) | F4: =IF(OR(C4="",D4=""),"",ROUND((D4-N(E4))/C4,0))
C5: =IF(N(B5)=0,"",B5/100) | F5: =IF(OR(C5="",D5=""),"",ROUND((D5-N(E5))/C5,0))
C6: =IF(N(B6)=0,"",B6/100) | F6: =IF(OR(C6="",D6=""),"",ROUND((D6-N(E6))/C6,0))
C7: =IF(N(B7)=0,"",B7/100) | F7: =IF(OR(C7="",D7=""),"",ROUND((D7-N(E7))/C7,0))
C8: =IF(N(B8)=0,"",B8/100) | F8: =IF(OR(C8="",D8=""),"",ROUND((D8-N(E8))/C8,0))
C9: =IF(N(B9)=0,"",B9/100) | F9: =IF(OR(C9="",D9=""),"",ROUND((D9-N(E9))/C9,0))
C10: =IF(N(B10)=0,"",B10/100) | F10: =IF(OR(C10="",D10=""),"",ROUND((D10-N(E10))/C10,0))
C11: =IF(N(B11)=0,"",B11/100) | F11: =IF(OR(C11="",D11=""),"",ROUND((D11-N(E11))/C11,0))
C12: =IF(N(B12)=0,"",B12/100) | F12: =IF(OR(C12="",D12=""),"",ROUND((D12-N(E12))/C12,0))
C13: =IF(N(B13)=0,"",B13/100) | F13: =IF(OR(C13="",D13=""),"",ROUND((D13-N(E13))/C13,0))
C14: =IF(N(B14)=0,"",B14/100) | F14: =IF(OR(C14="",D14=""),"",ROUND((D14-N(E14))/C14,0))
... C30: =IF(N(B30)=0,"",B30/100) | F30: =IF(OR(C30="",D30=""),"",ROUND((D30-N(E30))/C30,0))
A32: Weigh 100 once on a scale that reads to 0.1 g; at each count, weigh the bag and the count works itself out.
