Workbook

Sheet Codes
A1: Code | B1: Means | C1: Part | E1: One code means one thing. Keep codes short, in capitals, with no spaces, and never reuse one for something else.
A2: JAR09 | B2: 9 oz amber jar | C2: Size
A3: TIN04 | B3: 4 oz tin | C3: Size
A4: JAR16 | B4: 16 oz two-wick jar | C4: Size
A5: PLU | B5: Plumeria | C5: Scent
A6: PIK | B6: Pikake | C6: Scent
A7: CLM | B7: Coconut lime | C7: Scent
A8: GNG | B8: Ginger lei | C8: Scent
A9: RM | B9: Raw material: | C9: Prefix
A10: PK | B10: Packaging: | C10: Prefix
A11: WAX | B11: wax | C11: Material
A12: SOY | B12: soy | C12: Material
A13: FO | B13: fragrance oil | C13: Material
A14: LID09 | B14: lid for the 9 oz jar | C14: Packaging

Sheet SKUs
A1: Prefix | B1: Part 1 | C1: Part 2 | D1: SKU | E1: Name | F1: Characters | G1: Check | I1: Type the codes in Prefix, Part 1 and Part 2; the SKU, its name and the check fill in. A ? in the name is a code missing from Codes.
B2: JAR09 | C2: PLU | D2: =IF(B2="","",UPPER(IF(A2="","",A2&"-")&B2&IF(C2="","","-"&C2))) -> JAR09-PLU | E2: =IF(B2="","",IF(A2="","",IFERROR(VLOOKUP(A2,Codes!$A$2:$B$300,2,FALSE),"?")&" ")&IFERROR(VLOOKUP(B2,Codes!$A$2:$B$300,2,FALSE),"?")&IF(C2="",""," "&IFERROR(VLOOKUP(C2,Codes!$A$2:$B$300,2,FALSE),"?"))) -> 9 oz amber jar Plumeria | F2: =IF(D2="","",LEN(D2)) -> 9 | G2: =IF(D2="","",IF(COUNTIF($D$2:$D$500,D2)>1,"Duplicate",IF(LEFT(D2,1)="0","Starts with 0",IF(LEN(D2)>20,"Long","OK")))) -> OK
B3: JAR09 | C3: PIK | D3: =IF(B3="","",UPPER(IF(A3="","",A3&"-")&B3&IF(C3="","","-"&C3))) -> JAR09-PIK | E3: =IF(B3="","",IF(A3="","",IFERROR(VLOOKUP(A3,Codes!$A$2:$B$300,2,FALSE),"?")&" ")&IFERROR(VLOOKUP(B3,Codes!$A$2:$B$300,2,FALSE),"?")&IF(C3="",""," "&IFERROR(VLOOKUP(C3,Codes!$A$2:$B$300,2,FALSE),"?"))) -> 9 oz amber jar Pikake | F3: =IF(D3="","",LEN(D3)) -> 9 | G3: =IF(D3="","",IF(COUNTIF($D$2:$D$500,D3)>1,"Duplicate",IF(LEFT(D3,1)="0","Starts with 0",IF(LEN(D3)>20,"Long","OK")))) -> OK
B4: JAR09 | C4: CLM | D4: =IF(B4="","",UPPER(IF(A4="","",A4&"-")&B4&IF(C4="","","-"&C4))) -> JAR09-CLM | E4: =IF(B4="","",IF(A4="","",IFERROR(VLOOKUP(A4,Codes!$A$2:$B$300,2,FALSE),"?")&" ")&IFERROR(VLOOKUP(B4,Codes!$A$2:$B$300,2,FALSE),"?")&IF(C4="",""," "&IFERROR(VLOOKUP(C4,Codes!$A$2:$B$300,2,FALSE),"?"))) -> 9 oz amber jar Coconut lime | F4: =IF(D4="","",LEN(D4)) -> 9 | G4: =IF(D4="","",IF(COUNTIF($D$2:$D$500,D4)>1,"Duplicate",IF(LEFT(D4,1)="0","Starts with 0",IF(LEN(D4)>20,"Long","OK")))) -> OK
B5: JAR09 | C5: GNG | D5: =IF(B5="","",UPPER(IF(A5="","",A5&"-")&B5&IF(C5="","","-"&C5))) -> JAR09-GNG | E5: =IF(B5="","",IF(A5="","",IFERROR(VLOOKUP(A5,Codes!$A$2:$B$300,2,FALSE),"?")&" ")&IFERROR(VLOOKUP(B5,Codes!$A$2:$B$300,2,FALSE),"?")&IF(C5="",""," "&IFERROR(VLOOKUP(C5,Codes!$A$2:$B$300,2,FALSE),"?"))) -> 9 oz amber jar Ginger lei | F5: =IF(D5="","",LEN(D5)) -> 9 | G5: =IF(D5="","",IF(COUNTIF($D$2:$D$500,D5)>1,"Duplicate",IF(LEFT(D5,1)="0","Starts with 0",IF(LEN(D5)>20,"Long","OK")))) -> OK
B6: TIN04 | C6: PLU | D6: =IF(B6="","",UPPER(IF(A6="","",A6&"-")&B6&IF(C6="","","-"&C6))) -> TIN04-PLU | E6: =IF(B6="","",IF(A6="","",IFERROR(VLOOKUP(A6,Codes!$A$2:$B$300,2,FALSE),"?")&" ")&IFERROR(VLOOKUP(B6,Codes!$A$2:$B$300,2,FALSE),"?")&IF(C6="",""," "&IFERROR(VLOOKUP(C6,Codes!$A$2:$B$300,2,FALSE),"?"))) -> 4 oz tin Plumeria | F6: =IF(D6="","",LEN(D6)) -> 9 | G6: =IF(D6="","",IF(COUNTIF($D$2:$D$500,D6)>1,"Duplicate",IF(LEFT(D6,1)="0","Starts with 0",IF(LEN(D6)>20,"Long","OK")))) -> OK
B7: TIN04 | C7: PIK | D7: =IF(B7="","",UPPER(IF(A7="","",A7&"-")&B7&IF(C7="","","-"&C7))) -> TIN04-PIK | E7: =IF(B7="","",IF(A7="","",IFERROR(VLOOKUP(A7,Codes!$A$2:$B$300,2,FALSE),"?")&" ")&IFERROR(VLOOKUP(B7,Codes!$A$2:$B$300,2,FALSE),"?")&IF(C7="",""," "&IFERROR(VLOOKUP(C7,Codes!$A$2:$B$300,2,FALSE),"?"))) -> 4 oz tin Pikake | F7: =IF(D7="","",LEN(D7)) -> 9 | G7: =IF(D7="","",IF(COUNTIF($D$2:$D$500,D7)>1,"Duplicate",IF(LEFT(D7,1)="0","Starts with 0",IF(LEN(D7)>20,"Long","OK")))) -> OK
B8: JAR16 | C8: PLU | D8: =IF(B8="","",UPPER(IF(A8="","",A8&"-")&B8&IF(C8="","","-"&C8))) -> JAR16-PLU | E8: =IF(B8="","",IF(A8="","",IFERROR(VLOOKUP(A8,Codes!$A$2:$B$300,2,FALSE),"?")&" ")&IFERROR(VLOOKUP(B8,Codes!$A$2:$B$300,2,FALSE),"?")&IF(C8="",""," "&IFERROR(VLOOKUP(C8,Codes!$A$2:$B$300,2,FALSE),"?"))) -> 16 oz two-wick jar Plumeria | F8: =IF(D8="","",LEN(D8)) -> 9 | G8: =IF(D8="","",IF(COUNTIF($D$2:$D$500,D8)>1,"Duplicate",IF(LEFT(D8,1)="0","Starts with 0",IF(LEN(D8)>20,"Long","OK")))) -> OK
B9: JAR16 | C9: CLM | D9: =IF(B9="","",UPPER(IF(A9="","",A9&"-")&B9&IF(C9="","","-"&C9))) -> JAR16-CLM | E9: =IF(B9="","",IF(A9="","",IFERROR(VLOOKUP(A9,Codes!$A$2:$B$300,2,FALSE),"?")&" ")&IFERROR(VLOOKUP(B9,Codes!$A$2:$B$300,2,FALSE),"?")&IF(C9="",""," "&IFERROR(VLOOKUP(C9,Codes!$A$2:$B$300,2,FALSE),"?"))) -> 16 oz two-wick jar Coconut lime | F9: =IF(D9="","",LEN(D9)) -> 9 | G9: =IF(D9="","",IF(COUNTIF($D$2:$D$500,D9)>1,"Duplicate",IF(LEFT(D9,1)="0","Starts with 0",IF(LEN(D9)>20,"Long","OK")))) -> OK
A10: RM | B10: WAX | C10: SOY | D10: =IF(B10="","",UPPER(IF(A10="","",A10&"-")&B10&IF(C10="","","-"&C10))) -> RM-WAX-SOY | E10: =IF(B10="","",IF(A10="","",IFERROR(VLOOKUP(A10,Codes!$A$2:$B$300,2,FALSE),"?")&" ")&IFERROR(VLOOKUP(B10,Codes!$A$2:$B$300,2,FALSE),"?")&IF(C10="",""," "&IFERROR(VLOOKUP(C10,Codes!$A$2:$B$300,2,FALSE),"?"))) -> Raw material: wax soy | F10: =IF(D10="","",LEN(D10)) -> 10 | G10: =IF(D10="","",IF(COUNTIF($D$2:$D$500,D10)>1,"Duplicate",IF(LEFT(D10,1)="0","Starts with 0",IF(LEN(D10)>20,"Long","OK")))) -> OK
A11: RM | B11: FO | C11: PLU | D11: =IF(B11="","",UPPER(IF(A11="","",A11&"-")&B11&IF(C11="","","-"&C11))) -> RM-FO-PLU | E11: =IF(B11="","",IF(A11="","",IFERROR(VLOOKUP(A11,Codes!$A$2:$B$300,2,FALSE),"?")&" ")&IFERROR(VLOOKUP(B11,Codes!$A$2:$B$300,2,FALSE),"?")&IF(C11="",""," "&IFERROR(VLOOKUP(C11,Codes!$A$2:$B$300,2,FALSE),"?"))) -> Raw material: fragrance oil Plumeria | F11: =IF(D11="","",LEN(D11)) -> 9 | G11: =IF(D11="","",IF(COUNTIF($D$2:$D$500,D11)>1,"Duplicate",IF(LEFT(D11,1)="0","Starts with 0",IF(LEN(D11)>20,"Long","OK")))) -> OK
A12: RM | B12: FO | C12: PIK | D12: =IF(B12="","",UPPER(IF(A12="","",A12&"-")&B12&IF(C12="","","-"&C12))) -> RM-FO-PIK | E12: =IF(B12="","",IF(A12="","",IFERROR(VLOOKUP(A12,Codes!$A$2:$B$300,2,FALSE),"?")&" ")&IFERROR(VLOOKUP(B12,Codes!$A$2:$B$300,2,FALSE),"?")&IF(C12="",""," "&IFERROR(VLOOKUP(C12,Codes!$A$2:$B$300,2,FALSE),"?"))) -> Raw material: fragrance oil Pikake | F12: =IF(D12="","",LEN(D12)) -> 9 | G12: =IF(D12="","",IF(COUNTIF($D$2:$D$500,D12)>1,"Duplicate",IF(LEFT(D12,1)="0","Starts with 0",IF(LEN(D12)>20,"Long","OK")))) -> OK
A13: PK | B13: JAR09 | D13: =IF(B13="","",UPPER(IF(A13="","",A13&"-")&B13&IF(C13="","","-"&C13))) -> PK-JAR09 | E13: =IF(B13="","",IF(A13="","",IFERROR(VLOOKUP(A13,Codes!$A$2:$B$300,2,FALSE),"?")&" ")&IFERROR(VLOOKUP(B13,Codes!$A$2:$B$300,2,FALSE),"?")&IF(C13="",""," "&IFERROR(VLOOKUP(C13,Codes!$A$2:$B$300,2,FALSE),"?"))) -> Packaging: 9 oz amber jar | F13: =IF(D13="","",LEN(D13)) -> 8 | G13: =IF(D13="","",IF(COUNTIF($D$2:$D$500,D13)>1,"Duplicate",IF(LEFT(D13,1)="0","Starts with 0",IF(LEN(D13)>20,"Long","OK")))) -> OK
A14: PK | B14: LID09 | D14: =IF(B14="","",UPPER(IF(A14="","",A14&"-")&B14&IF(C14="","","-"&C14))) -> PK-LID09 | E14: =IF(B14="","",IF(A14="","",IFERROR(VLOOKUP(A14,Codes!$A$2:$B$300,2,FALSE),"?")&" ")&IFERROR(VLOOKUP(B14,Codes!$A$2:$B$300,2,FALSE),"?")&IF(C14="",""," "&IFERROR(VLOOKUP(C14,Codes!$A$2:$B$300,2,FALSE),"?"))) -> Packaging: lid for the 9 oz jar | F14: =IF(D14="","",LEN(D14)) -> 8 | G14: =IF(D14="","",IF(COUNTIF($D$2:$D$500,D14)>1,"Duplicate",IF(LEFT(D14,1)="0","Starts with 0",IF(LEN(D14)>20,"Long","OK")))) -> OK
D15: =IF(B15="","",UPPER(IF(A15="","",A15&"-")&B15&IF(C15="","","-"&C15))) | E15: =IF(B15="","",IF(A15="","",IFERROR(VLOOKUP(A15,Codes!$A$2:$B$300,2,FALSE),"?")&" ")&IFERROR(VLOOKUP(B15,Codes!$A$2:$B$300,2,FALSE),"?")&IF(C15="",""," "&IFERROR(VLOOKUP(C15,Codes!$A$2:$B$300,2,FALSE),"?"))) | F15: =IF(D15="","",LEN(D15)) | G15: =IF(D15="","",IF(COUNTIF($D$2:$D$500,D15)>1,"Duplicate",IF(LEFT(D15,1)="0","Starts with 0",IF(LEN(D15)>20,"Long","OK"))))
D16: =IF(B16="","",UPPER(IF(A16="","",A16&"-")&B16&IF(C16="","","-"&C16))) | E16: =IF(B16="","",IF(A16="","",IFERROR(VLOOKUP(A16,Codes!$A$2:$B$300,2,FALSE),"?")&" ")&IFERROR(VLOOKUP(B16,Codes!$A$2:$B$300,2,FALSE),"?")&IF(C16="",""," "&IFERROR(VLOOKUP(C16,Codes!$A$2:$B$300,2,FALSE),"?"))) | F16: =IF(D16="","",LEN(D16)) | G16: =IF(D16="","",IF(COUNTIF($D$2:$D$500,D16)>1,"Duplicate",IF(LEFT(D16,1)="0","Starts with 0",IF(LEN(D16)>20,"Long","OK"))))
D17: =IF(B17="","",UPPER(IF(A17="","",A17&"-")&B17&IF(C17="","","-"&C17))) | E17: =IF(B17="","",IF(A17="","",IFERROR(VLOOKUP(A17,Codes!$A$2:$B$300,2,FALSE),"?")&" ")&IFERROR(VLOOKUP(B17,Codes!$A$2:$B$300,2,FALSE),"?")&IF(C17="",""," "&IFERROR(VLOOKUP(C17,Codes!$A$2:$B$300,2,FALSE),"?"))) | F17: =IF(D17="","",LEN(D17)) | G17: =IF(D17="","",IF(COUNTIF($D$2:$D$500,D17)>1,"Duplicate",IF(LEFT(D17,1)="0","Starts with 0",IF(LEN(D17)>20,"Long","OK"))))
D18: =IF(B18="","",UPPER(IF(A18="","",A18&"-")&B18&IF(C18="","","-"&C18))) | E18: =IF(B18="","",IF(A18="","",IFERROR(VLOOKUP(A18,Codes!$A$2:$B$300,2,FALSE),"?")&" ")&IFERROR(VLOOKUP(B18,Codes!$A$2:$B$300,2,FALSE),"?")&IF(C18="",""," "&IFERROR(VLOOKUP(C18,Codes!$A$2:$B$300,2,FALSE),"?"))) | F18: =IF(D18="","",LEN(D18)) | G18: =IF(D18="","",IF(COUNTIF($D$2:$D$500,D18)>1,"Duplicate",IF(LEFT(D18,1)="0","Starts with 0",IF(LEN(D18)>20,"Long","OK"))))
D19: =IF(B19="","",UPPER(IF(A19="","",A19&"-")&B19&IF(C19="","","-"&C19))) | E19: =IF(B19="","",IF(A19="","",IFERROR(VLOOKUP(A19,Codes!$A$2:$B$300,2,FALSE),"?")&" ")&IFERROR(VLOOKUP(B19,Codes!$A$2:$B$300,2,FALSE),"?")&IF(C19="",""," "&IFERROR(VLOOKUP(C19,Codes!$A$2:$B$300,2,FALSE),"?"))) | F19: =IF(D19="","",LEN(D19)) | G19: =IF(D19="","",IF(COUNTIF($D$2:$D$500,D19)>1,"Duplicate",IF(LEFT(D19,1)="0","Starts with 0",IF(LEN(D19)>20,"Long","OK"))))
D20: =IF(B20="","",UPPER(IF(A20="","",A20&"-")&B20&IF(C20="","","-"&C20))) | E20: =IF(B20="","",IF(A20="","",IFERROR(VLOOKUP(A20,Codes!$A$2:$B$300,2,FALSE),"?")&" ")&IFERROR(VLOOKUP(B20,Codes!$A$2:$B$300,2,FALSE),"?")&IF(C20="",""," "&IFERROR(VLOOKUP(C20,Codes!$A$2:$B$300,2,FALSE),"?"))) | F20: =IF(D20="","",LEN(D20)) | G20: =IF(D20="","",IF(COUNTIF($D$2:$D$500,D20)>1,"Duplicate",IF(LEFT(D20,1)="0","Starts with 0",IF(LEN(D20)>20,"Long","OK"))))
D21: =IF(B21="","",UPPER(IF(A21="","",A21&"-")&B21&IF(C21="","","-"&C21))) | E21: =IF(B21="","",IF(A21="","",IFERROR(VLOOKUP(A21,Codes!$A$2:$B$300,2,FALSE),"?")&" ")&IFERROR(VLOOKUP(B21,Codes!$A$2:$B$300,2,FALSE),"?")&IF(C21="",""," "&IFERROR(VLOOKUP(C21,Codes!$A$2:$B$300,2,FALSE),"?"))) | F21: =IF(D21="","",LEN(D21)) | G21: =IF(D21="","",IF(COUNTIF($D$2:$D$500,D21)>1,"Duplicate",IF(LEFT(D21,1)="0","Starts with 0",IF(LEN(D21)>20,"Long","OK"))))
D22: =IF(B22="","",UPPER(IF(A22="","",A22&"-")&B22&IF(C22="","","-"&C22))) | E22: =IF(B22="","",IF(A22="","",IFERROR(VLOOKUP(A22,Codes!$A$2:$B$300,2,FALSE),"?")&" ")&IFERROR(VLOOKUP(B22,Codes!$A$2:$B$300,2,FALSE),"?")&IF(C22="",""," "&IFERROR(VLOOKUP(C22,Codes!$A$2:$B$300,2,FALSE),"?"))) | F22: =IF(D22="","",LEN(D22)) | G22: =IF(D22="","",IF(COUNTIF($D$2:$D$500,D22)>1,"Duplicate",IF(LEFT(D22,1)="0","Starts with 0",IF(LEN(D22)>20,"Long","OK"))))
D23: =IF(B23="","",UPPER(IF(A23="","",A23&"-")&B23&IF(C23="","","-"&C23))) | E23: =IF(B23="","",IF(A23="","",IFERROR(VLOOKUP(A23,Codes!$A$2:$B$300,2,FALSE),"?")&" ")&IFERROR(VLOOKUP(B23,Codes!$A$2:$B$300,2,FALSE),"?")&IF(C23="",""," "&IFERROR(VLOOKUP(C23,Codes!$A$2:$B$300,2,FALSE),"?"))) | F23: =IF(D23="","",LEN(D23)) | G23: =IF(D23="","",IF(COUNTIF($D$2:$D$500,D23)>1,"Duplicate",IF(LEFT(D23,1)="0","Starts with 0",IF(LEN(D23)>20,"Long","OK"))))
D24: =IF(B24="","",UPPER(IF(A24="","",A24&"-")&B24&IF(C24="","","-"&C24))) | E24: =IF(B24="","",IF(A24="","",IFERROR(VLOOKUP(A24,Codes!$A$2:$B$300,2,FALSE),"?")&" ")&IFERROR(VLOOKUP(B24,Codes!$A$2:$B$300,2,FALSE),"?")&IF(C24="",""," "&IFERROR(VLOOKUP(C24,Codes!$A$2:$B$300,2,FALSE),"?"))) | F24: =IF(D24="","",LEN(D24)) | G24: =IF(D24="","",IF(COUNTIF($D$2:$D$500,D24)>1,"Duplicate",IF(LEFT(D24,1)="0","Starts with 0",IF(LEN(D24)>20,"Long","OK"))))
D25: =IF(B25="","",UPPER(IF(A25="","",A25&"-")&B25&IF(C25="","","-"&C25))) | E25: =IF(B25="","",IF(A25="","",IFERROR(VLOOKUP(A25,Codes!$A$2:$B$300,2,FALSE),"?")&" ")&IFERROR(VLOOKUP(B25,Codes!$A$2:$B$300,2,FALSE),"?")&IF(C25="",""," "&IFERROR(VLOOKUP(C25,Codes!$A$2:$B$300,2,FALSE),"?"))) | F25: =IF(D25="","",LEN(D25)) | G25: =IF(D25="","",IF(COUNTIF($D$2:$D$500,D25)>1,"Duplicate",IF(LEFT(D25,1)="0","Starts with 0",IF(LEN(D25)>20,"Long","OK"))))
D26: =IF(B26="","",UPPER(IF(A26="","",A26&"-")&B26&IF(C26="","","-"&C26))) | E26: =IF(B26="","",IF(A26="","",IFERROR(VLOOKUP(A26,Codes!$A$2:$B$300,2,FALSE),"?")&" ")&IFERROR(VLOOKUP(B26,Codes!$A$2:$B$300,2,FALSE),"?")&IF(C26="",""," "&IFERROR(VLOOKUP(C26,Codes!$A$2:$B$300,2,FALSE),"?"))) | F26: =IF(D26="","",LEN(D26)) | G26: =IF(D26="","",IF(COUNTIF($D$2:$D$500,D26)>1,"Duplicate",IF(LEFT(D26,1)="0","Starts with 0",IF(LEN(D26)>20,"Long","OK"))))
... D500: =IF(B500="","",UPPER(IF(A500="","",A500&"-")&B500&IF(C500="","","-"&C500))) | E500: =IF(B500="","",IF(A500="","",IFERROR(VLOOKUP(A500,Codes!$A$2:$B$300,2,FALSE),"?")&" ")&IFERROR(VLOOKUP(B500,Codes!$A$2:$B$300,2,FALSE),"?")&IF(C500="",""," "&IFERROR(VLOOKUP(C500,Codes!$A$2:$B$300,2,FALSE),"?"))) | F500: =IF(D500="","",LEN(D500)) | G500: =IF(D500="","",IF(COUNTIF($D$2:$D$500,D500)>1,"Duplicate",IF(LEFT(D500,1)="0","Starts with 0",IF(LEN(D500)>20,"Long","OK"))))

Sheet Read me
A1: SKU builder
A2: From the article: https://www.tarostack.com/articles/how-to-create-sku-numbers
A4: Codes: each short code and what it means: sizes, scents, and prefixes for raw materials (RM) and packaging (PK).
A5: SKUs: type a prefix (or nothing, for what you sell), then the broadest part first (the size) and the narrower one (the scent).
A6: The SKU joins them with dashes in capitals; the name is built from what each code means; the check flags a duplicate, a SKU over 20 characters, or one that starts with 0.
A7: SKU: =UPPER(IF(A2="","",A2&"-")&B2&IF(C2="","","-"&C2)).
A9: Works in Excel (2010 and later), Google Sheets, LibreOffice and Numbers. No macros.
A10: Free to use and change. Made by TaroStack, inventory and production software for small producers: https://www.tarostack.com
