Workbook

Sheet Calculator
A1: What you bought | B1: Price paid | C1: Package size | D1: Unit | E1: Measured by | F1: Ounces in the package | G1: Cost per ounce | H1: Cost per gram or ml
A2: Soy wax, 50 lb case | B2: 110 | C2: 50 | D2: lb | E2: =IF(D2="","",IFERROR(VLOOKUP(D2,Units!$A$2:$D$20,2,FALSE),"Unknown unit")) -> weight | F2: =IF(OR(C2="",D2=""),"",IFERROR(ROUND(C2*VLOOKUP(D2,Units!$A$2:$D$20,3,FALSE),2),"")) -> 800 | G2: =IF(OR(B2="",F2="",N(F2)=0),"",ROUND(B2/F2,4)) -> 0.1375 | H2: =IF(OR(B2="",C2="",D2=""),"",IFERROR(ROUND(B2/(C2*VLOOKUP(D2,Units!$A$2:$D$20,4,FALSE)),4),"")) -> 0.0049
A3: Fragrance oil, 16 oz bottle | B3: 28 | C3: 16 | D3: oz | E3: =IF(D3="","",IFERROR(VLOOKUP(D3,Units!$A$2:$D$20,2,FALSE),"Unknown unit")) -> weight | F3: =IF(OR(C3="",D3=""),"",IFERROR(ROUND(C3*VLOOKUP(D3,Units!$A$2:$D$20,3,FALSE),2),"")) -> 16 | G3: =IF(OR(B3="",F3="",N(F3)=0),"",ROUND(B3/F3,4)) -> 1.75 | H3: =IF(OR(B3="",C3="",D3=""),"",IFERROR(ROUND(B3/(C3*VLOOKUP(D3,Units!$A$2:$D$20,4,FALSE)),4),"")) -> 0.0617
A4: Coconut oil, jug, net weight 7 lb | B4: 24 | C4: 7 | D4: lb | E4: =IF(D4="","",IFERROR(VLOOKUP(D4,Units!$A$2:$D$20,2,FALSE),"Unknown unit")) -> weight | F4: =IF(OR(C4="",D4=""),"",IFERROR(ROUND(C4*VLOOKUP(D4,Units!$A$2:$D$20,3,FALSE),2),"")) -> 112 | G4: =IF(OR(B4="",F4="",N(F4)=0),"",ROUND(B4/F4,4)) -> 0.2143 | H4: =IF(OR(B4="",C4="",D4=""),"",IFERROR(ROUND(B4/(C4*VLOOKUP(D4,Units!$A$2:$D$20,4,FALSE)),4),"")) -> 0.0076
A5: Shea butter, 1 kg | B5: 16 | C5: 1 | D5: kg | E5: =IF(D5="","",IFERROR(VLOOKUP(D5,Units!$A$2:$D$20,2,FALSE),"Unknown unit")) -> weight | F5: =IF(OR(C5="",D5=""),"",IFERROR(ROUND(C5*VLOOKUP(D5,Units!$A$2:$D$20,3,FALSE),2),"")) -> 35.27 | G5: =IF(OR(B5="",F5="",N(F5)=0),"",ROUND(B5/F5,4)) -> 0.4536 | H5: =IF(OR(B5="",C5="",D5=""),"",IFERROR(ROUND(B5/(C5*VLOOKUP(D5,Units!$A$2:$D$20,4,FALSE)),4),"")) -> 0.016
A6: Sea salt, 25 lb bag | B6: 45 | C6: 25 | D6: lb | E6: =IF(D6="","",IFERROR(VLOOKUP(D6,Units!$A$2:$D$20,2,FALSE),"Unknown unit")) -> weight | F6: =IF(OR(C6="",D6=""),"",IFERROR(ROUND(C6*VLOOKUP(D6,Units!$A$2:$D$20,3,FALSE),2),"")) -> 400 | G6: =IF(OR(B6="",F6="",N(F6)=0),"",ROUND(B6/F6,4)) -> 0.1125 | H6: =IF(OR(B6="",C6="",D6=""),"",IFERROR(ROUND(B6/(C6*VLOOKUP(D6,Units!$A$2:$D$20,4,FALSE)),4),"")) -> 0.004
A7: Vanilla extract, 32 fl oz | B7: 38 | C7: 32 | D7: fl oz | E7: =IF(D7="","",IFERROR(VLOOKUP(D7,Units!$A$2:$D$20,2,FALSE),"Unknown unit")) -> volume | F7: =IF(OR(C7="",D7=""),"",IFERROR(ROUND(C7*VLOOKUP(D7,Units!$A$2:$D$20,3,FALSE),2),"")) -> 32 | G7: =IF(OR(B7="",F7="",N(F7)=0),"",ROUND(B7/F7,4)) -> 1.1875 | H7: =IF(OR(B7="",C7="",D7=""),"",IFERROR(ROUND(B7/(C7*VLOOKUP(D7,Units!$A$2:$D$20,4,FALSE)),4),"")) -> 0.0402
A8: Aloe vera juice, 1 gallon | B8: 22 | C8: 1 | D8: gal | E8: =IF(D8="","",IFERROR(VLOOKUP(D8,Units!$A$2:$D$20,2,FALSE),"Unknown unit")) -> volume | F8: =IF(OR(C8="",D8=""),"",IFERROR(ROUND(C8*VLOOKUP(D8,Units!$A$2:$D$20,3,FALSE),2),"")) -> 128 | G8: =IF(OR(B8="",F8="",N(F8)=0),"",ROUND(B8/F8,4)) -> 0.1719 | H8: =IF(OR(B8="",C8="",D8=""),"",IFERROR(ROUND(B8/(C8*VLOOKUP(D8,Units!$A$2:$D$20,4,FALSE)),4),"")) -> 0.0058
E9: =IF(D9="","",IFERROR(VLOOKUP(D9,Units!$A$2:$D$20,2,FALSE),"Unknown unit")) | F9: =IF(OR(C9="",D9=""),"",IFERROR(ROUND(C9*VLOOKUP(D9,Units!$A$2:$D$20,3,FALSE),2),"")) | G9: =IF(OR(B9="",F9="",N(F9)=0),"",ROUND(B9/F9,4)) | H9: =IF(OR(B9="",C9="",D9=""),"",IFERROR(ROUND(B9/(C9*VLOOKUP(D9,Units!$A$2:$D$20,4,FALSE)),4),""))
E10: =IF(D10="","",IFERROR(VLOOKUP(D10,Units!$A$2:$D$20,2,FALSE),"Unknown unit")) | F10: =IF(OR(C10="",D10=""),"",IFERROR(ROUND(C10*VLOOKUP(D10,Units!$A$2:$D$20,3,FALSE),2),"")) | G10: =IF(OR(B10="",F10="",N(F10)=0),"",ROUND(B10/F10,4)) | H10: =IF(OR(B10="",C10="",D10=""),"",IFERROR(ROUND(B10/(C10*VLOOKUP(D10,Units!$A$2:$D$20,4,FALSE)),4),""))
E11: =IF(D11="","",IFERROR(VLOOKUP(D11,Units!$A$2:$D$20,2,FALSE),"Unknown unit")) | F11: =IF(OR(C11="",D11=""),"",IFERROR(ROUND(C11*VLOOKUP(D11,Units!$A$2:$D$20,3,FALSE),2),"")) | G11: =IF(OR(B11="",F11="",N(F11)=0),"",ROUND(B11/F11,4)) | H11: =IF(OR(B11="",C11="",D11=""),"",IFERROR(ROUND(B11/(C11*VLOOKUP(D11,Units!$A$2:$D$20,4,FALSE)),4),""))
E12: =IF(D12="","",IFERROR(VLOOKUP(D12,Units!$A$2:$D$20,2,FALSE),"Unknown unit")) | F12: =IF(OR(C12="",D12=""),"",IFERROR(ROUND(C12*VLOOKUP(D12,Units!$A$2:$D$20,3,FALSE),2),"")) | G12: =IF(OR(B12="",F12="",N(F12)=0),"",ROUND(B12/F12,4)) | H12: =IF(OR(B12="",C12="",D12=""),"",IFERROR(ROUND(B12/(C12*VLOOKUP(D12,Units!$A$2:$D$20,4,FALSE)),4),""))
E13: =IF(D13="","",IFERROR(VLOOKUP(D13,Units!$A$2:$D$20,2,FALSE),"Unknown unit")) | F13: =IF(OR(C13="",D13=""),"",IFERROR(ROUND(C13*VLOOKUP(D13,Units!$A$2:$D$20,3,FALSE),2),"")) | G13: =IF(OR(B13="",F13="",N(F13)=0),"",ROUND(B13/F13,4)) | H13: =IF(OR(B13="",C13="",D13=""),"",IFERROR(ROUND(B13/(C13*VLOOKUP(D13,Units!$A$2:$D$20,4,FALSE)),4),""))
E14: =IF(D14="","",IFERROR(VLOOKUP(D14,Units!$A$2:$D$20,2,FALSE),"Unknown unit")) | F14: =IF(OR(C14="",D14=""),"",IFERROR(ROUND(C14*VLOOKUP(D14,Units!$A$2:$D$20,3,FALSE),2),"")) | G14: =IF(OR(B14="",F14="",N(F14)=0),"",ROUND(B14/F14,4)) | H14: =IF(OR(B14="",C14="",D14=""),"",IFERROR(ROUND(B14/(C14*VLOOKUP(D14,Units!$A$2:$D$20,4,FALSE)),4),""))
E15: =IF(D15="","",IFERROR(VLOOKUP(D15,Units!$A$2:$D$20,2,FALSE),"Unknown unit")) | F15: =IF(OR(C15="",D15=""),"",IFERROR(ROUND(C15*VLOOKUP(D15,Units!$A$2:$D$20,3,FALSE),2),"")) | G15: =IF(OR(B15="",F15="",N(F15)=0),"",ROUND(B15/F15,4)) | H15: =IF(OR(B15="",C15="",D15=""),"",IFERROR(ROUND(B15/(C15*VLOOKUP(D15,Units!$A$2:$D$20,4,FALSE)),4),""))
E16: =IF(D16="","",IFERROR(VLOOKUP(D16,Units!$A$2:$D$20,2,FALSE),"Unknown unit")) | F16: =IF(OR(C16="",D16=""),"",IFERROR(ROUND(C16*VLOOKUP(D16,Units!$A$2:$D$20,3,FALSE),2),"")) | G16: =IF(OR(B16="",F16="",N(F16)=0),"",ROUND(B16/F16,4)) | H16: =IF(OR(B16="",C16="",D16=""),"",IFERROR(ROUND(B16/(C16*VLOOKUP(D16,Units!$A$2:$D$20,4,FALSE)),4),""))
E17: =IF(D17="","",IFERROR(VLOOKUP(D17,Units!$A$2:$D$20,2,FALSE),"Unknown unit")) | F17: =IF(OR(C17="",D17=""),"",IFERROR(ROUND(C17*VLOOKUP(D17,Units!$A$2:$D$20,3,FALSE),2),"")) | G17: =IF(OR(B17="",F17="",N(F17)=0),"",ROUND(B17/F17,4)) | H17: =IF(OR(B17="",C17="",D17=""),"",IFERROR(ROUND(B17/(C17*VLOOKUP(D17,Units!$A$2:$D$20,4,FALSE)),4),""))
E18: =IF(D18="","",IFERROR(VLOOKUP(D18,Units!$A$2:$D$20,2,FALSE),"Unknown unit")) | F18: =IF(OR(C18="",D18=""),"",IFERROR(ROUND(C18*VLOOKUP(D18,Units!$A$2:$D$20,3,FALSE),2),"")) | G18: =IF(OR(B18="",F18="",N(F18)=0),"",ROUND(B18/F18,4)) | H18: =IF(OR(B18="",C18="",D18=""),"",IFERROR(ROUND(B18/(C18*VLOOKUP(D18,Units!$A$2:$D$20,4,FALSE)),4),""))
E19: =IF(D19="","",IFERROR(VLOOKUP(D19,Units!$A$2:$D$20,2,FALSE),"Unknown unit")) | F19: =IF(OR(C19="",D19=""),"",IFERROR(ROUND(C19*VLOOKUP(D19,Units!$A$2:$D$20,3,FALSE),2),"")) | G19: =IF(OR(B19="",F19="",N(F19)=0),"",ROUND(B19/F19,4)) | H19: =IF(OR(B19="",C19="",D19=""),"",IFERROR(ROUND(B19/(C19*VLOOKUP(D19,Units!$A$2:$D$20,4,FALSE)),4),""))
E20: =IF(D20="","",IFERROR(VLOOKUP(D20,Units!$A$2:$D$20,2,FALSE),"Unknown unit")) | F20: =IF(OR(C20="",D20=""),"",IFERROR(ROUND(C20*VLOOKUP(D20,Units!$A$2:$D$20,3,FALSE),2),"")) | G20: =IF(OR(B20="",F20="",N(F20)=0),"",ROUND(B20/F20,4)) | H20: =IF(OR(B20="",C20="",D20=""),"",IFERROR(ROUND(B20/(C20*VLOOKUP(D20,Units!$A$2:$D$20,4,FALSE)),4),""))
... E30: =IF(D30="","",IFERROR(VLOOKUP(D30,Units!$A$2:$D$20,2,FALSE),"Unknown unit")) | F30: =IF(OR(C30="",D30=""),"",IFERROR(ROUND(C30*VLOOKUP(D30,Units!$A$2:$D$20,3,FALSE),2),"")) | G30: =IF(OR(B30="",F30="",N(F30)=0),"",ROUND(B30/F30,4)) | H30: =IF(OR(B30="",C30="",D30=""),"",IFERROR(ROUND(B30/(C30*VLOOKUP(D30,Units!$A$2:$D$20,4,FALSE)),4),""))
A32: Weight ounces and fluid ounces are different measures. Cost a recipe by weight when you can: a fluid ounce of oil weighs less than a fluid ounce of water.
A34: A finished product
A35: Materials and packaging in one unit | B35: 3.99
A36: Net contents, ounces | B36: 9
A37: Your price | B37: 26
A38: Cost per ounce | B38: =IF(N(B36)=0,"",ROUND(B35/B36,4)) -> 0.4433
A39: Price per ounce | B39: =IF(N(B36)=0,"",ROUND(B37/B36,4)) -> 2.8889

Sheet Units
A1: Unit | B1: Measured by | C1: Ounces in one | D1: Grams or ml in one
A2: oz | B2: weight | C2: 1 | D2: 28.3495
A3: lb | B3: weight | C3: 16 | D3: 453.592
A4: g | B4: weight | C4: 0.035274 | D4: 1
A5: kg | B5: weight | C5: 35.274 | D5: 1000
A6: fl oz | B6: volume | C6: 1 | D6: 29.5735
A7: cup | B7: volume | C7: 8 | D7: 236.588
A8: pt | B8: volume | C8: 16 | D8: 473.176
A9: qt | B9: volume | C9: 32 | D9: 946.353
A10: gal | B10: volume | C10: 128 | D10: 3785.41
A11: ml | B11: volume | C11: 0.033814 | D11: 1
A12: l | B12: volume | C12: 33.814 | D12: 1000
A13: each | B13: count | C13: 1 | D13: 1
A15: Weight units give ounces and grams; volume units give fluid ounces and milliliters. US units.

Sheet Read me
A1: Cost per ounce calculator
A2: From the article: https://www.tarostack.com/articles/how-to-calculate-cost-per-ounce
A4: Type what you bought, the price, the package size and its unit (lb, oz, kg, g, gal, qt, pt, cup, fl oz, l, ml). It works out the ounces in the package and the cost per ounce, and the cost per gram for weights or per milliliter for volumes.
A5: Weight and volume stay apart: a pound is 16 ounces of weight, a gallon is 128 fluid ounces of volume, and the two only match for water.
A6: Below, type a finished product's materials and packaging cost, its net contents in ounces and your price, for its cost per ounce and price per ounce.
A8: Works in Excel (2010 and later), Google Sheets, LibreOffice and Numbers. No macros.
A9: Free to use and change. Made by TaroStack, inventory and production software for small producers: https://www.tarostack.com
