Workbook

Sheet Produce order
A1: Item | B1: Unit | C1: Units a case | D1: Sold a day | E1: Days to cover | F1: Cushion | G1: On hand | H1: Need | I1: Cases to order | J1: Left over after cover | K1: Case cost | L1: Order cost
A2: Bananas | B2: lb | C2: 40 | D2: 30 | E2: 3 | F2: 20 | G2: 35 | H2: =IF(OR(D2="",E2="",G2=""),"",D2*E2+N(F2)-G2) -> 75 | I2: =IF(OR(H2="",N(C2)=0),"",ROUNDUP(MAX(0,H2)/C2,0)) -> 2 | J2: =IF(I2="","",G2+I2*C2-D2*E2) -> 25 | K2: 24 | L2: =IF(OR(I2="",K2=""),"",I2*K2) -> 48
A3: Iceberg lettuce | B3: head | C3: 24 | D3: 6 | E3: 3 | F3: 4 | G3: 10 | H3: =IF(OR(D3="",E3="",G3=""),"",D3*E3+N(F3)-G3) -> 12 | I3: =IF(OR(H3="",N(C3)=0),"",ROUNDUP(MAX(0,H3)/C3,0)) -> 1 | J3: =IF(I3="","",G3+I3*C3-D3*E3) -> 16 | K3: 28 | L3: =IF(OR(I3="",K3=""),"",I3*K3) -> 28
A4: Tomatoes | B4: lb | C4: 25 | D4: 10 | E4: 3 | F4: 5 | G4: 12 | H4: =IF(OR(D4="",E4="",G4=""),"",D4*E4+N(F4)-G4) -> 23 | I4: =IF(OR(H4="",N(C4)=0),"",ROUNDUP(MAX(0,H4)/C4,0)) -> 1 | J4: =IF(I4="","",G4+I4*C4-D4*E4) -> 7 | K4: 32 | L4: =IF(OR(I4="",K4=""),"",I4*K4) -> 32
A5: Gala apples | B5: lb | C5: 40 | D5: 12 | E5: 3 | F5: 8 | G5: 50 | H5: =IF(OR(D5="",E5="",G5=""),"",D5*E5+N(F5)-G5) -> -6 | I5: =IF(OR(H5="",N(C5)=0),"",ROUNDUP(MAX(0,H5)/C5,0)) -> 0 | J5: =IF(I5="","",G5+I5*C5-D5*E5) -> 14 | K5: 38 | L5: =IF(OR(I5="",K5=""),"",I5*K5) -> 0
A6: Russet potatoes | B6: lb | C6: 50 | D6: 15 | E6: 3 | F6: 10 | G6: 40 | H6: =IF(OR(D6="",E6="",G6=""),"",D6*E6+N(F6)-G6) -> 15 | I6: =IF(OR(H6="",N(C6)=0),"",ROUNDUP(MAX(0,H6)/C6,0)) -> 1 | J6: =IF(I6="","",G6+I6*C6-D6*E6) -> 45 | K6: 22 | L6: =IF(OR(I6="",K6=""),"",I6*K6) -> 22
A7: Yellow onions | B7: lb | C7: 50 | D7: 8 | E7: 3 | F7: 5 | G7: 30 | H7: =IF(OR(D7="",E7="",G7=""),"",D7*E7+N(F7)-G7) -> -1 | I7: =IF(OR(H7="",N(C7)=0),"",ROUNDUP(MAX(0,H7)/C7,0)) -> 0 | J7: =IF(I7="","",G7+I7*C7-D7*E7) -> 6 | K7: 24 | L7: =IF(OR(I7="",K7=""),"",I7*K7) -> 0
A8: Strawberries, 1 lb | B8: pack | C8: 8 | D8: 10 | E8: 3 | F8: 4 | G8: 6 | H8: =IF(OR(D8="",E8="",G8=""),"",D8*E8+N(F8)-G8) -> 28 | I8: =IF(OR(H8="",N(C8)=0),"",ROUNDUP(MAX(0,H8)/C8,0)) -> 4 | J8: =IF(I8="","",G8+I8*C8-D8*E8) -> 8 | K8: 26 | L8: =IF(OR(I8="",K8=""),"",I8*K8) -> 104
A9: Avocados | B9: each | C9: 48 | D9: 8 | E9: 3 | F9: 6 | G9: 20 | H9: =IF(OR(D9="",E9="",G9=""),"",D9*E9+N(F9)-G9) -> 10 | I9: =IF(OR(H9="",N(C9)=0),"",ROUNDUP(MAX(0,H9)/C9,0)) -> 1 | J9: =IF(I9="","",G9+I9*C9-D9*E9) -> 44 | K9: 48 | L9: =IF(OR(I9="",K9=""),"",I9*K9) -> 48
A10: Bagged salad | B10: bag | C10: 6 | D10: 5 | E10: 3 | F10: 3 | G10: 4 | H10: =IF(OR(D10="",E10="",G10=""),"",D10*E10+N(F10)-G10) -> 14 | I10: =IF(OR(H10="",N(C10)=0),"",ROUNDUP(MAX(0,H10)/C10,0)) -> 3 | J10: =IF(I10="","",G10+I10*C10-D10*E10) -> 7 | K10: 18 | L10: =IF(OR(I10="",K10=""),"",I10*K10) -> 54
H11: =IF(OR(D11="",E11="",G11=""),"",D11*E11+N(F11)-G11) | I11: =IF(OR(H11="",N(C11)=0),"",ROUNDUP(MAX(0,H11)/C11,0)) | J11: =IF(I11="","",G11+I11*C11-D11*E11) | L11: =IF(OR(I11="",K11=""),"",I11*K11)
H12: =IF(OR(D12="",E12="",G12=""),"",D12*E12+N(F12)-G12) | I12: =IF(OR(H12="",N(C12)=0),"",ROUNDUP(MAX(0,H12)/C12,0)) | J12: =IF(I12="","",G12+I12*C12-D12*E12) | L12: =IF(OR(I12="",K12=""),"",I12*K12)
H13: =IF(OR(D13="",E13="",G13=""),"",D13*E13+N(F13)-G13) | I13: =IF(OR(H13="",N(C13)=0),"",ROUNDUP(MAX(0,H13)/C13,0)) | J13: =IF(I13="","",G13+I13*C13-D13*E13) | L13: =IF(OR(I13="",K13=""),"",I13*K13)
H14: =IF(OR(D14="",E14="",G14=""),"",D14*E14+N(F14)-G14) | I14: =IF(OR(H14="",N(C14)=0),"",ROUNDUP(MAX(0,H14)/C14,0)) | J14: =IF(I14="","",G14+I14*C14-D14*E14) | L14: =IF(OR(I14="",K14=""),"",I14*K14)
H15: =IF(OR(D15="",E15="",G15=""),"",D15*E15+N(F15)-G15) | I15: =IF(OR(H15="",N(C15)=0),"",ROUNDUP(MAX(0,H15)/C15,0)) | J15: =IF(I15="","",G15+I15*C15-D15*E15) | L15: =IF(OR(I15="",K15=""),"",I15*K15)
H16: =IF(OR(D16="",E16="",G16=""),"",D16*E16+N(F16)-G16) | I16: =IF(OR(H16="",N(C16)=0),"",ROUNDUP(MAX(0,H16)/C16,0)) | J16: =IF(I16="","",G16+I16*C16-D16*E16) | L16: =IF(OR(I16="",K16=""),"",I16*K16)
H17: =IF(OR(D17="",E17="",G17=""),"",D17*E17+N(F17)-G17) | I17: =IF(OR(H17="",N(C17)=0),"",ROUNDUP(MAX(0,H17)/C17,0)) | J17: =IF(I17="","",G17+I17*C17-D17*E17) | L17: =IF(OR(I17="",K17=""),"",I17*K17)
H18: =IF(OR(D18="",E18="",G18=""),"",D18*E18+N(F18)-G18) | I18: =IF(OR(H18="",N(C18)=0),"",ROUNDUP(MAX(0,H18)/C18,0)) | J18: =IF(I18="","",G18+I18*C18-D18*E18) | L18: =IF(OR(I18="",K18=""),"",I18*K18)
H19: =IF(OR(D19="",E19="",G19=""),"",D19*E19+N(F19)-G19) | I19: =IF(OR(H19="",N(C19)=0),"",ROUNDUP(MAX(0,H19)/C19,0)) | J19: =IF(I19="","",G19+I19*C19-D19*E19) | L19: =IF(OR(I19="",K19=""),"",I19*K19)
H20: =IF(OR(D20="",E20="",G20=""),"",D20*E20+N(F20)-G20) | I20: =IF(OR(H20="",N(C20)=0),"",ROUNDUP(MAX(0,H20)/C20,0)) | J20: =IF(I20="","",G20+I20*C20-D20*E20) | L20: =IF(OR(I20="",K20=""),"",I20*K20)
H21: =IF(OR(D21="",E21="",G21=""),"",D21*E21+N(F21)-G21) | I21: =IF(OR(H21="",N(C21)=0),"",ROUNDUP(MAX(0,H21)/C21,0)) | J21: =IF(I21="","",G21+I21*C21-D21*E21) | L21: =IF(OR(I21="",K21=""),"",I21*K21)
H22: =IF(OR(D22="",E22="",G22=""),"",D22*E22+N(F22)-G22) | I22: =IF(OR(H22="",N(C22)=0),"",ROUNDUP(MAX(0,H22)/C22,0)) | J22: =IF(I22="","",G22+I22*C22-D22*E22) | L22: =IF(OR(I22="",K22=""),"",I22*K22)
... H200: =IF(OR(D200="",E200="",G200=""),"",D200*E200+N(F200)-G200) | I200: =IF(OR(H200="",N(C200)=0),"",ROUNDUP(MAX(0,H200)/C200,0)) | J200: =IF(I200="","",G200+I200*C200-D200*E200) | L200: =IF(OR(I200="",K200=""),"",I200*K200)
A202: This order | L202: =SUM(L2:L200) -> 336

Sheet Losses
A1: Date | B1: Item | C1: Department | D1: Quantity | E1: Reason | F1: Cost a unit | G1: Lost, at cost
A2: 46300 | B2: Iceberg lettuce | C2: Produce | D2: 8 | E2: Spoiled | F2: 1.17 | G2: =IF(OR(D2="",F2=""),"",D2*F2) -> 9.36
A3: 46300 | B3: Strawberries, 1 lb | C3: Produce | D3: 6 | E3: Spoiled | F3: 3.25 | G3: =IF(OR(D3="",F3=""),"",D3*F3) -> 19.5
A4: 46301 | B4: Ground beef, lb | C4: Meat | D4: 4 | E4: Expired | F4: 4.1 | G4: =IF(OR(D4="",F4=""),"",D4*F4) -> 16.4
A5: 46301 | B5: Whole milk, gallon | C5: Dairy and frozen | D5: 3 | E5: Expired | F5: 3.1 | G5: =IF(OR(D5="",F5=""),"",D5*F5) -> 9.3
A6: 46302 | B6: Chicken salad, lb | C6: Deli and bakery | D6: 2.5 | E6: Expired | F6: 3.4 | G6: =IF(OR(D6="",F6=""),"",D6*F6) -> 8.5
A7: 46302 | B7: Soup, 15 oz can | C7: Grocery | D7: 6 | E7: Damaged | F7: 1.1 | G7: =IF(OR(D7="",F7=""),"",D7*F7) -> 6.6
G8: =IF(OR(D8="",F8=""),"",D8*F8)
G9: =IF(OR(D9="",F9=""),"",D9*F9)
G10: =IF(OR(D10="",F10=""),"",D10*F10)
G11: =IF(OR(D11="",F11=""),"",D11*F11)
G12: =IF(OR(D12="",F12=""),"",D12*F12)
G13: =IF(OR(D13="",F13=""),"",D13*F13)
G14: =IF(OR(D14="",F14=""),"",D14*F14)
G15: =IF(OR(D15="",F15=""),"",D15*F15)
G16: =IF(OR(D16="",F16=""),"",D16*F16)
G17: =IF(OR(D17="",F17=""),"",D17*F17)
G18: =IF(OR(D18="",F18=""),"",D18*F18)
G19: =IF(OR(D19="",F19=""),"",D19*F19)
... G500: =IF(OR(D500="",F500=""),"",D500*F500)

Sheet By department
A1: Department | B1: Sales in the period | C1: Lost, at cost | D1: Share of sales
A2: Grocery | B2: 10150 | C2: =IF(A2="","",SUMIF(Losses!C$2:C$500,A2,Losses!G$2:G$500)) -> 6.6 | D2: =IF(OR(C2="",N(B2)=0),"",C2/B2) -> 0.00065024631
A3: Produce | B3: 3050 | C3: =IF(A3="","",SUMIF(Losses!C$2:C$500,A3,Losses!G$2:G$500)) -> 28.86 | D3: =IF(OR(C3="",N(B3)=0),"",C3/B3) -> 0.0094622951
A4: Meat | B4: 3810 | C4: =IF(A4="","",SUMIF(Losses!C$2:C$500,A4,Losses!G$2:G$500)) -> 16.4 | D4: =IF(OR(C4="",N(B4)=0),"",C4/B4) -> 0.0043044619
A5: Dairy and frozen | B5: 3810 | C5: =IF(A5="","",SUMIF(Losses!C$2:C$500,A5,Losses!G$2:G$500)) -> 9.3 | D5: =IF(OR(C5="",N(B5)=0),"",C5/B5) -> 0.0024409449
A6: Deli and bakery | B6: 2030 | C6: =IF(A6="","",SUMIF(Losses!C$2:C$500,A6,Losses!G$2:G$500)) -> 8.5 | D6: =IF(OR(C6="",N(B6)=0),"",C6/B6) -> 0.0041871921
A7: Household | B7: 1520 | C7: =IF(A7="","",SUMIF(Losses!C$2:C$500,A7,Losses!G$2:G$500)) -> 0 | D7: =IF(OR(C7="",N(B7)=0),"",C7/B7) -> 0
A8: Local | B8: 1020 | C8: =IF(A8="","",SUMIF(Losses!C$2:C$500,A8,Losses!G$2:G$500)) -> 0 | D8: =IF(OR(C8="",N(B8)=0),"",C8/B8) -> 0
C9: =IF(A9="","",SUMIF(Losses!C$2:C$500,A9,Losses!G$2:G$500)) | D9: =IF(OR(C9="",N(B9)=0),"",C9/B9)
C10: =IF(A10="","",SUMIF(Losses!C$2:C$500,A10,Losses!G$2:G$500)) | D10: =IF(OR(C10="",N(B10)=0),"",C10/B10)
C11: =IF(A11="","",SUMIF(Losses!C$2:C$500,A11,Losses!G$2:G$500)) | D11: =IF(OR(C11="",N(B11)=0),"",C11/B11)
A13: The store | B13: =SUM(B2:B11) -> 25390 | C13: =SUM(C2:C11) -> 69.66 | D13: =IF(N(B13)=0,"",C13/B13) -> 0.0027435998

Sheet Read me
A1: Grocery store inventory management
A2: From the article: https://www.tarostack.com/articles/grocery-store-inventory-management
A4: Produce order: one line for each item with its unit, units in a case, what sells a day, the days until the delivery after this one arrives, a cushion and what's on hand. What's needed, the whole cases to order, what's left over after the days are covered, and the order cost fill in. A leftover more than twice the cushion turns red: that's the next loss unless the deli uses it or a split case is available.
A5: Losses: one line for each loss with the item, department (from the list on the By department sheet), quantity, reason and cost a unit. The cost lost fills in.
A6: By department: type each department's sales for the same period; losses by department and their share of sales fill in.
A7: The example is a few lines from the article's made-up Nebraska grocery's week, with its week's sales by department.
A9: Works in Excel (2010 and later), Google Sheets, LibreOffice and Numbers. No macros.
A10: Free to use and change. Made by TaroStack, inventory and production software for small producers: https://www.tarostack.com
