Workbook

Sheet Certificates
A1: Person | B1: Course | C1: Completed | D1: Valid for (years) | E1: Expires | F1: Status
A2: Owner | B2: DOH food safety class | C2: 45363 | D2: 3 | E2: =IF(OR(C2="",D2=""),"",DATE(YEAR(C2)+D2,MONTH(C2),DAY(C2))) -> 46458 | F2: =IF(A2="","",IF(C2="","Not certified",IF(E2<TODAY(),"Expired",IF(E2-TODAY()<=60,"Expires within 60 days","Current")))) -> Current
A3: Kitchen lead | B3: ANSI-accredited online course | C3: 45189 | D3: 3 | E3: =IF(OR(C3="",D3=""),"",DATE(YEAR(C3)+D3,MONTH(C3),DAY(C3))) -> 46285 | F3: =IF(A3="","",IF(C3="","Not certified",IF(E3<TODAY(),"Expired",IF(E3-TODAY()<=60,"Expires within 60 days","Current")))) -> Expired
A4: Packer, part-time | E4: =IF(OR(C4="",D4=""),"",DATE(YEAR(C4)+D4,MONTH(C4),DAY(C4))) | F4: =IF(A4="","",IF(C4="","Not certified",IF(E4<TODAY(),"Expired",IF(E4-TODAY()<=60,"Expires within 60 days","Current")))) -> Not certified
A5: Market seller | B5: DOH food safety class | C5: 46063 | D5: 3 | E5: =IF(OR(C5="",D5=""),"",DATE(YEAR(C5)+D5,MONTH(C5),DAY(C5))) -> 47159 | F5: =IF(A5="","",IF(C5="","Not certified",IF(E5<TODAY(),"Expired",IF(E5-TODAY()<=60,"Expires within 60 days","Current")))) -> Current
E6: =IF(OR(C6="",D6=""),"",DATE(YEAR(C6)+D6,MONTH(C6),DAY(C6))) | F6: =IF(A6="","",IF(C6="","Not certified",IF(E6<TODAY(),"Expired",IF(E6-TODAY()<=60,"Expires within 60 days","Current"))))
E7: =IF(OR(C7="",D7=""),"",DATE(YEAR(C7)+D7,MONTH(C7),DAY(C7))) | F7: =IF(A7="","",IF(C7="","Not certified",IF(E7<TODAY(),"Expired",IF(E7-TODAY()<=60,"Expires within 60 days","Current"))))
E8: =IF(OR(C8="",D8=""),"",DATE(YEAR(C8)+D8,MONTH(C8),DAY(C8))) | F8: =IF(A8="","",IF(C8="","Not certified",IF(E8<TODAY(),"Expired",IF(E8-TODAY()<=60,"Expires within 60 days","Current"))))
E9: =IF(OR(C9="",D9=""),"",DATE(YEAR(C9)+D9,MONTH(C9),DAY(C9))) | F9: =IF(A9="","",IF(C9="","Not certified",IF(E9<TODAY(),"Expired",IF(E9-TODAY()<=60,"Expires within 60 days","Current"))))
E10: =IF(OR(C10="",D10=""),"",DATE(YEAR(C10)+D10,MONTH(C10),DAY(C10))) | F10: =IF(A10="","",IF(C10="","Not certified",IF(E10<TODAY(),"Expired",IF(E10-TODAY()<=60,"Expires within 60 days","Current"))))
E11: =IF(OR(C11="",D11=""),"",DATE(YEAR(C11)+D11,MONTH(C11),DAY(C11))) | F11: =IF(A11="","",IF(C11="","Not certified",IF(E11<TODAY(),"Expired",IF(E11-TODAY()<=60,"Expires within 60 days","Current"))))
E12: =IF(OR(C12="",D12=""),"",DATE(YEAR(C12)+D12,MONTH(C12),DAY(C12))) | F12: =IF(A12="","",IF(C12="","Not certified",IF(E12<TODAY(),"Expired",IF(E12-TODAY()<=60,"Expires within 60 days","Current"))))
E13: =IF(OR(C13="",D13=""),"",DATE(YEAR(C13)+D13,MONTH(C13),DAY(C13))) | F13: =IF(A13="","",IF(C13="","Not certified",IF(E13<TODAY(),"Expired",IF(E13-TODAY()<=60,"Expires within 60 days","Current"))))
E14: =IF(OR(C14="",D14=""),"",DATE(YEAR(C14)+D14,MONTH(C14),DAY(C14))) | F14: =IF(A14="","",IF(C14="","Not certified",IF(E14<TODAY(),"Expired",IF(E14-TODAY()<=60,"Expires within 60 days","Current"))))
E15: =IF(OR(C15="",D15=""),"",DATE(YEAR(C15)+D15,MONTH(C15),DAY(C15))) | F15: =IF(A15="","",IF(C15="","Not certified",IF(E15<TODAY(),"Expired",IF(E15-TODAY()<=60,"Expires within 60 days","Current"))))
E16: =IF(OR(C16="",D16=""),"",DATE(YEAR(C16)+D16,MONTH(C16),DAY(C16))) | F16: =IF(A16="","",IF(C16="","Not certified",IF(E16<TODAY(),"Expired",IF(E16-TODAY()<=60,"Expires within 60 days","Current"))))
E17: =IF(OR(C17="",D17=""),"",DATE(YEAR(C17)+D17,MONTH(C17),DAY(C17))) | F17: =IF(A17="","",IF(C17="","Not certified",IF(E17<TODAY(),"Expired",IF(E17-TODAY()<=60,"Expires within 60 days","Current"))))
... E40: =IF(OR(C40="",D40=""),"",DATE(YEAR(C40)+D40,MONTH(C40),DAY(C40))) | F40: =IF(A40="","",IF(C40="","Not certified",IF(E40<TODAY(),"Expired",IF(E40-TODAY()<=60,"Expires within 60 days","Current"))))
A43: DOH's class is free and its certificate is valid for 3 years; for an ANSI-accredited course, enter the years on its certificate.

Sheet Shifts
A1: Day | B1: Shift | C1: On shift | F1: Certified person on shift?
A2: Monday | B2: Kitchen 5:00 to 13:00 | C2: Owner | D2: Packer, part-time | F2: =IF(A2="","",IF(IF(C2="",0,COUNTIFS(Certificates!$A$2:$A$40,C2,Certificates!$F$2:$F$40,"<>Expired",Certificates!$F$2:$F$40,"<>Not certified"))+IF(D2="",0,COUNTIFS(Certificates!$A$2:$A$40,D2,Certificates!$F$2:$F$40,"<>Expired",Certificates!$F$2:$F$40,"<>Not certified"))+IF(E2="",0,COUNTIFS(Certificates!$A$2:$A$40,E2,Certificates!$F$2:$F$40,"<>Expired",Certificates!$F$2:$F$40,"<>Not certified"))>0,"Yes","No: put a certified person on")) -> Yes
A3: Tuesday | B3: Kitchen 5:00 to 13:00 | C3: Kitchen lead | D3: Packer, part-time | F3: =IF(A3="","",IF(IF(C3="",0,COUNTIFS(Certificates!$A$2:$A$40,C3,Certificates!$F$2:$F$40,"<>Expired",Certificates!$F$2:$F$40,"<>Not certified"))+IF(D3="",0,COUNTIFS(Certificates!$A$2:$A$40,D3,Certificates!$F$2:$F$40,"<>Expired",Certificates!$F$2:$F$40,"<>Not certified"))+IF(E3="",0,COUNTIFS(Certificates!$A$2:$A$40,E3,Certificates!$F$2:$F$40,"<>Expired",Certificates!$F$2:$F$40,"<>Not certified"))>0,"Yes","No: put a certified person on")) -> No: put a certified person on
A4: Wednesday | B4: Kitchen 5:00 to 13:00 | C4: Owner | D4: Kitchen lead | F4: =IF(A4="","",IF(IF(C4="",0,COUNTIFS(Certificates!$A$2:$A$40,C4,Certificates!$F$2:$F$40,"<>Expired",Certificates!$F$2:$F$40,"<>Not certified"))+IF(D4="",0,COUNTIFS(Certificates!$A$2:$A$40,D4,Certificates!$F$2:$F$40,"<>Expired",Certificates!$F$2:$F$40,"<>Not certified"))+IF(E4="",0,COUNTIFS(Certificates!$A$2:$A$40,E4,Certificates!$F$2:$F$40,"<>Expired",Certificates!$F$2:$F$40,"<>Not certified"))>0,"Yes","No: put a certified person on")) -> Yes
A5: Saturday | B5: Farmers market booth | C5: Market seller | F5: =IF(A5="","",IF(IF(C5="",0,COUNTIFS(Certificates!$A$2:$A$40,C5,Certificates!$F$2:$F$40,"<>Expired",Certificates!$F$2:$F$40,"<>Not certified"))+IF(D5="",0,COUNTIFS(Certificates!$A$2:$A$40,D5,Certificates!$F$2:$F$40,"<>Expired",Certificates!$F$2:$F$40,"<>Not certified"))+IF(E5="",0,COUNTIFS(Certificates!$A$2:$A$40,E5,Certificates!$F$2:$F$40,"<>Expired",Certificates!$F$2:$F$40,"<>Not certified"))>0,"Yes","No: put a certified person on")) -> Yes
F6: =IF(A6="","",IF(IF(C6="",0,COUNTIFS(Certificates!$A$2:$A$40,C6,Certificates!$F$2:$F$40,"<>Expired",Certificates!$F$2:$F$40,"<>Not certified"))+IF(D6="",0,COUNTIFS(Certificates!$A$2:$A$40,D6,Certificates!$F$2:$F$40,"<>Expired",Certificates!$F$2:$F$40,"<>Not certified"))+IF(E6="",0,COUNTIFS(Certificates!$A$2:$A$40,E6,Certificates!$F$2:$F$40,"<>Expired",Certificates!$F$2:$F$40,"<>Not certified"))>0,"Yes","No: put a certified person on"))
F7: =IF(A7="","",IF(IF(C7="",0,COUNTIFS(Certificates!$A$2:$A$40,C7,Certificates!$F$2:$F$40,"<>Expired",Certificates!$F$2:$F$40,"<>Not certified"))+IF(D7="",0,COUNTIFS(Certificates!$A$2:$A$40,D7,Certificates!$F$2:$F$40,"<>Expired",Certificates!$F$2:$F$40,"<>Not certified"))+IF(E7="",0,COUNTIFS(Certificates!$A$2:$A$40,E7,Certificates!$F$2:$F$40,"<>Expired",Certificates!$F$2:$F$40,"<>Not certified"))>0,"Yes","No: put a certified person on"))
F8: =IF(A8="","",IF(IF(C8="",0,COUNTIFS(Certificates!$A$2:$A$40,C8,Certificates!$F$2:$F$40,"<>Expired",Certificates!$F$2:$F$40,"<>Not certified"))+IF(D8="",0,COUNTIFS(Certificates!$A$2:$A$40,D8,Certificates!$F$2:$F$40,"<>Expired",Certificates!$F$2:$F$40,"<>Not certified"))+IF(E8="",0,COUNTIFS(Certificates!$A$2:$A$40,E8,Certificates!$F$2:$F$40,"<>Expired",Certificates!$F$2:$F$40,"<>Not certified"))>0,"Yes","No: put a certified person on"))
F9: =IF(A9="","",IF(IF(C9="",0,COUNTIFS(Certificates!$A$2:$A$40,C9,Certificates!$F$2:$F$40,"<>Expired",Certificates!$F$2:$F$40,"<>Not certified"))+IF(D9="",0,COUNTIFS(Certificates!$A$2:$A$40,D9,Certificates!$F$2:$F$40,"<>Expired",Certificates!$F$2:$F$40,"<>Not certified"))+IF(E9="",0,COUNTIFS(Certificates!$A$2:$A$40,E9,Certificates!$F$2:$F$40,"<>Expired",Certificates!$F$2:$F$40,"<>Not certified"))>0,"Yes","No: put a certified person on"))
F10: =IF(A10="","",IF(IF(C10="",0,COUNTIFS(Certificates!$A$2:$A$40,C10,Certificates!$F$2:$F$40,"<>Expired",Certificates!$F$2:$F$40,"<>Not certified"))+IF(D10="",0,COUNTIFS(Certificates!$A$2:$A$40,D10,Certificates!$F$2:$F$40,"<>Expired",Certificates!$F$2:$F$40,"<>Not certified"))+IF(E10="",0,COUNTIFS(Certificates!$A$2:$A$40,E10,Certificates!$F$2:$F$40,"<>Expired",Certificates!$F$2:$F$40,"<>Not certified"))>0,"Yes","No: put a certified person on"))
F11: =IF(A11="","",IF(IF(C11="",0,COUNTIFS(Certificates!$A$2:$A$40,C11,Certificates!$F$2:$F$40,"<>Expired",Certificates!$F$2:$F$40,"<>Not certified"))+IF(D11="",0,COUNTIFS(Certificates!$A$2:$A$40,D11,Certificates!$F$2:$F$40,"<>Expired",Certificates!$F$2:$F$40,"<>Not certified"))+IF(E11="",0,COUNTIFS(Certificates!$A$2:$A$40,E11,Certificates!$F$2:$F$40,"<>Expired",Certificates!$F$2:$F$40,"<>Not certified"))>0,"Yes","No: put a certified person on"))
F12: =IF(A12="","",IF(IF(C12="",0,COUNTIFS(Certificates!$A$2:$A$40,C12,Certificates!$F$2:$F$40,"<>Expired",Certificates!$F$2:$F$40,"<>Not certified"))+IF(D12="",0,COUNTIFS(Certificates!$A$2:$A$40,D12,Certificates!$F$2:$F$40,"<>Expired",Certificates!$F$2:$F$40,"<>Not certified"))+IF(E12="",0,COUNTIFS(Certificates!$A$2:$A$40,E12,Certificates!$F$2:$F$40,"<>Expired",Certificates!$F$2:$F$40,"<>Not certified"))>0,"Yes","No: put a certified person on"))
F13: =IF(A13="","",IF(IF(C13="",0,COUNTIFS(Certificates!$A$2:$A$40,C13,Certificates!$F$2:$F$40,"<>Expired",Certificates!$F$2:$F$40,"<>Not certified"))+IF(D13="",0,COUNTIFS(Certificates!$A$2:$A$40,D13,Certificates!$F$2:$F$40,"<>Expired",Certificates!$F$2:$F$40,"<>Not certified"))+IF(E13="",0,COUNTIFS(Certificates!$A$2:$A$40,E13,Certificates!$F$2:$F$40,"<>Expired",Certificates!$F$2:$F$40,"<>Not certified"))>0,"Yes","No: put a certified person on"))
F14: =IF(A14="","",IF(IF(C14="",0,COUNTIFS(Certificates!$A$2:$A$40,C14,Certificates!$F$2:$F$40,"<>Expired",Certificates!$F$2:$F$40,"<>Not certified"))+IF(D14="",0,COUNTIFS(Certificates!$A$2:$A$40,D14,Certificates!$F$2:$F$40,"<>Expired",Certificates!$F$2:$F$40,"<>Not certified"))+IF(E14="",0,COUNTIFS(Certificates!$A$2:$A$40,E14,Certificates!$F$2:$F$40,"<>Expired",Certificates!$F$2:$F$40,"<>Not certified"))>0,"Yes","No: put a certified person on"))
F15: =IF(A15="","",IF(IF(C15="",0,COUNTIFS(Certificates!$A$2:$A$40,C15,Certificates!$F$2:$F$40,"<>Expired",Certificates!$F$2:$F$40,"<>Not certified"))+IF(D15="",0,COUNTIFS(Certificates!$A$2:$A$40,D15,Certificates!$F$2:$F$40,"<>Expired",Certificates!$F$2:$F$40,"<>Not certified"))+IF(E15="",0,COUNTIFS(Certificates!$A$2:$A$40,E15,Certificates!$F$2:$F$40,"<>Expired",Certificates!$F$2:$F$40,"<>Not certified"))>0,"Yes","No: put a certified person on"))
F16: =IF(A16="","",IF(IF(C16="",0,COUNTIFS(Certificates!$A$2:$A$40,C16,Certificates!$F$2:$F$40,"<>Expired",Certificates!$F$2:$F$40,"<>Not certified"))+IF(D16="",0,COUNTIFS(Certificates!$A$2:$A$40,D16,Certificates!$F$2:$F$40,"<>Expired",Certificates!$F$2:$F$40,"<>Not certified"))+IF(E16="",0,COUNTIFS(Certificates!$A$2:$A$40,E16,Certificates!$F$2:$F$40,"<>Expired",Certificates!$F$2:$F$40,"<>Not certified"))>0,"Yes","No: put a certified person on"))
F17: =IF(A17="","",IF(IF(C17="",0,COUNTIFS(Certificates!$A$2:$A$40,C17,Certificates!$F$2:$F$40,"<>Expired",Certificates!$F$2:$F$40,"<>Not certified"))+IF(D17="",0,COUNTIFS(Certificates!$A$2:$A$40,D17,Certificates!$F$2:$F$40,"<>Expired",Certificates!$F$2:$F$40,"<>Not certified"))+IF(E17="",0,COUNTIFS(Certificates!$A$2:$A$40,E17,Certificates!$F$2:$F$40,"<>Expired",Certificates!$F$2:$F$40,"<>Not certified"))>0,"Yes","No: put a certified person on"))
... F60: =IF(A60="","",IF(IF(C60="",0,COUNTIFS(Certificates!$A$2:$A$40,C60,Certificates!$F$2:$F$40,"<>Expired",Certificates!$F$2:$F$40,"<>Not certified"))+IF(D60="",0,COUNTIFS(Certificates!$A$2:$A$40,D60,Certificates!$F$2:$F$40,"<>Expired",Certificates!$F$2:$F$40,"<>Not certified"))+IF(E60="",0,COUNTIFS(Certificates!$A$2:$A$40,E60,Certificates!$F$2:$F$40,"<>Expired",Certificates!$F$2:$F$40,"<>Not certified"))>0,"Yes","No: put a certified person on"))
A63: Hawaii requires at least one person with food handler certification present at every food establishment during all hours of operation.

Sheet Read me
A1: Food handlers permit in Hawaii
A2: From the article: https://www.tarostack.com/articles/food-handlers-permit-hawaii
A4: Certificates: each person, the course, when they completed it and how many years it's valid; the expiry and status fill in, red when expired or missing.
A5: Shifts: each shift and who's on it; whether a certified person is on the shift fills in from the certificates.
A6: The example is the article's made-up taro business on Oahu.
A7: This is a checklist, not legal advice; the rule is Hawaii Administrative Rules 11-50-20(c), and homemade food operators also certify under 11-50-3(c).
A9: Works in Excel (2010 and later), Google Sheets, LibreOffice and Numbers. No macros.
A10: Free to use and change. Made by TaroStack, inventory and production software for small producers: https://www.tarostack.com
