Workbook

Sheet Stems
A1: Stem | B1: Received | C1: Stems received | D1: Stems on hand | E1: Cost a stem | F1: Sell within, days | G1: Sell by | H1: Days left | I1: Use first? | J1: Value on hand | K1: Bought, cost | M1: As of
A2: Red rose, 50 cm | B2: 46307 | C2: 100 | D2: 64 | E2: 1.1 | F2: 7 | G2: =IF(OR(A2="",B2=""),"",B2+N(F2)) -> 46314 | H2: =IF(G2="","",G2-$M$2) -> 5 | I2: =IF(H2="","",IF(H2<=1,"Use first","")) | J2: =IF(A2="","",ROUND(N(D2)*N(E2),2)) -> 70.4 | K2: =IF(A2="","",ROUND(N(C2)*N(E2),2)) -> 110 | M2: 46309
A3: White hydrangea | B3: 46305 | C3: 20 | D3: 8 | E3: 3.25 | F3: 5 | G3: =IF(OR(A3="",B3=""),"",B3+N(F3)) -> 46310 | H3: =IF(G3="","",G3-$M$2) -> 1 | I3: =IF(H3="","",IF(H3<=1,"Use first","")) -> Use first | J3: =IF(A3="","",ROUND(N(D3)*N(E3),2)) -> 26 | K3: =IF(A3="","",ROUND(N(C3)*N(E3),2)) -> 65
A4: Silver dollar eucalyptus | B4: 46304 | C4: 60 | D4: 30 | E4: 0.45 | F4: 10 | G4: =IF(OR(A4="",B4=""),"",B4+N(F4)) -> 46314 | H4: =IF(G4="","",G4-$M$2) -> 5 | I4: =IF(H4="","",IF(H4<=1,"Use first","")) | J4: =IF(A4="","",ROUND(N(D4)*N(E4),2)) -> 13.5 | K4: =IF(A4="","",ROUND(N(C4)*N(E4),2)) -> 27 | M4: Stems on hand, value
A5: Baby's breath | B5: 46307 | C5: 40 | D5: 25 | E5: 0.6 | F5: 7 | G5: =IF(OR(A5="",B5=""),"",B5+N(F5)) -> 46314 | H5: =IF(G5="","",G5-$M$2) -> 5 | I5: =IF(H5="","",IF(H5<=1,"Use first","")) | J5: =IF(A5="","",ROUND(N(D5)*N(E5),2)) -> 15 | K5: =IF(A5="","",ROUND(N(C5)*N(E5),2)) -> 24 | M5: =SUM(J2:J150) -> 190.1
A6: Stargazer lily | B6: 46303 | C6: 30 | D6: 12 | E6: 1.8 | F6: 6 | G6: =IF(OR(A6="",B6=""),"",B6+N(F6)) -> 46309 | H6: =IF(G6="","",G6-$M$2) -> 0 | I6: =IF(H6="","",IF(H6<=1,"Use first","")) -> Use first | J6: =IF(A6="","",ROUND(N(D6)*N(E6),2)) -> 21.6 | K6: =IF(A6="","",ROUND(N(C6)*N(E6),2)) -> 54
A7: Alstroemeria | B7: 46306 | C7: 50 | D7: 40 | E7: 0.55 | F7: 10 | G7: =IF(OR(A7="",B7=""),"",B7+N(F7)) -> 46316 | H7: =IF(G7="","",G7-$M$2) -> 7 | I7: =IF(H7="","",IF(H7<=1,"Use first","")) | J7: =IF(A7="","",ROUND(N(D7)*N(E7),2)) -> 22 | K7: =IF(A7="","",ROUND(N(C7)*N(E7),2)) -> 27.5 | M7: Stems bought, cost
A8: Sunflower | B8: 46307 | C8: 30 | D8: 18 | E8: 1.2 | F8: 6 | G8: =IF(OR(A8="",B8=""),"",B8+N(F8)) -> 46313 | H8: =IF(G8="","",G8-$M$2) -> 4 | I8: =IF(H8="","",IF(H8<=1,"Use first","")) | J8: =IF(A8="","",ROUND(N(D8)*N(E8),2)) -> 21.6 | K8: =IF(A8="","",ROUND(N(C8)*N(E8),2)) -> 36 | M8: =SUM(K2:K150) -> 343.5
G9: =IF(OR(A9="",B9=""),"",B9+N(F9)) | H9: =IF(G9="","",G9-$M$2) | I9: =IF(H9="","",IF(H9<=1,"Use first","")) | J9: =IF(A9="","",ROUND(N(D9)*N(E9),2)) | K9: =IF(A9="","",ROUND(N(C9)*N(E9),2))
G10: =IF(OR(A10="",B10=""),"",B10+N(F10)) | H10: =IF(G10="","",G10-$M$2) | I10: =IF(H10="","",IF(H10<=1,"Use first","")) | J10: =IF(A10="","",ROUND(N(D10)*N(E10),2)) | K10: =IF(A10="","",ROUND(N(C10)*N(E10),2))
G11: =IF(OR(A11="",B11=""),"",B11+N(F11)) | H11: =IF(G11="","",G11-$M$2) | I11: =IF(H11="","",IF(H11<=1,"Use first","")) | J11: =IF(A11="","",ROUND(N(D11)*N(E11),2)) | K11: =IF(A11="","",ROUND(N(C11)*N(E11),2))
G12: =IF(OR(A12="",B12=""),"",B12+N(F12)) | H12: =IF(G12="","",G12-$M$2) | I12: =IF(H12="","",IF(H12<=1,"Use first","")) | J12: =IF(A12="","",ROUND(N(D12)*N(E12),2)) | K12: =IF(A12="","",ROUND(N(C12)*N(E12),2))
G13: =IF(OR(A13="",B13=""),"",B13+N(F13)) | H13: =IF(G13="","",G13-$M$2) | I13: =IF(H13="","",IF(H13<=1,"Use first","")) | J13: =IF(A13="","",ROUND(N(D13)*N(E13),2)) | K13: =IF(A13="","",ROUND(N(C13)*N(E13),2))
G14: =IF(OR(A14="",B14=""),"",B14+N(F14)) | H14: =IF(G14="","",G14-$M$2) | I14: =IF(H14="","",IF(H14<=1,"Use first","")) | J14: =IF(A14="","",ROUND(N(D14)*N(E14),2)) | K14: =IF(A14="","",ROUND(N(C14)*N(E14),2))
G15: =IF(OR(A15="",B15=""),"",B15+N(F15)) | H15: =IF(G15="","",G15-$M$2) | I15: =IF(H15="","",IF(H15<=1,"Use first","")) | J15: =IF(A15="","",ROUND(N(D15)*N(E15),2)) | K15: =IF(A15="","",ROUND(N(C15)*N(E15),2))
G16: =IF(OR(A16="",B16=""),"",B16+N(F16)) | H16: =IF(G16="","",G16-$M$2) | I16: =IF(H16="","",IF(H16<=1,"Use first","")) | J16: =IF(A16="","",ROUND(N(D16)*N(E16),2)) | K16: =IF(A16="","",ROUND(N(C16)*N(E16),2))
G17: =IF(OR(A17="",B17=""),"",B17+N(F17)) | H17: =IF(G17="","",G17-$M$2) | I17: =IF(H17="","",IF(H17<=1,"Use first","")) | J17: =IF(A17="","",ROUND(N(D17)*N(E17),2)) | K17: =IF(A17="","",ROUND(N(C17)*N(E17),2))
G18: =IF(OR(A18="",B18=""),"",B18+N(F18)) | H18: =IF(G18="","",G18-$M$2) | I18: =IF(H18="","",IF(H18<=1,"Use first","")) | J18: =IF(A18="","",ROUND(N(D18)*N(E18),2)) | K18: =IF(A18="","",ROUND(N(C18)*N(E18),2))
G19: =IF(OR(A19="",B19=""),"",B19+N(F19)) | H19: =IF(G19="","",G19-$M$2) | I19: =IF(H19="","",IF(H19<=1,"Use first","")) | J19: =IF(A19="","",ROUND(N(D19)*N(E19),2)) | K19: =IF(A19="","",ROUND(N(C19)*N(E19),2))
G20: =IF(OR(A20="",B20=""),"",B20+N(F20)) | H20: =IF(G20="","",G20-$M$2) | I20: =IF(H20="","",IF(H20<=1,"Use first","")) | J20: =IF(A20="","",ROUND(N(D20)*N(E20),2)) | K20: =IF(A20="","",ROUND(N(C20)*N(E20),2))
... G150: =IF(OR(A150="",B150=""),"",B150+N(F150)) | H150: =IF(G150="","",G150-$M$2) | I150: =IF(H150="","",IF(H150<=1,"Use first","")) | J150: =IF(A150="","",ROUND(N(D150)*N(E150),2)) | K150: =IF(A150="","",ROUND(N(C150)*N(E150),2))

Sheet Hard goods
A1: Item | B1: Unit | C1: On hand | D1: Par | E1: Comes in | F1: Order | G1: Cost each | H1: Value
A2: 8 in glass cylinder vase | B2: vase | C2: 24 | D2: 36 | E2: 12 | F2: =IF(OR(A2="",D2=""),"",IF(N(C2)>=D2,0,ROUNDUP((D2-N(C2))/MAX(1,N(E2)),0)*MAX(1,N(E2)))) -> 12 | G2: 3.2 | H2: =IF(A2="","",ROUND(N(C2)*N(G2),2)) -> 76.8
A3: Bud vase | B3: vase | C3: 40 | D3: 30 | E3: 24 | F3: =IF(OR(A3="",D3=""),"",IF(N(C3)>=D3,0,ROUNDUP((D3-N(C3))/MAX(1,N(E3)),0)*MAX(1,N(E3)))) -> 0 | G3: 1.1 | H3: =IF(A3="","",ROUND(N(C3)*N(G3),2)) -> 44
A4: Floral foam brick | B4: brick | C4: 18 | D4: 48 | E4: 48 | F4: =IF(OR(A4="",D4=""),"",IF(N(C4)>=D4,0,ROUNDUP((D4-N(C4))/MAX(1,N(E4)),0)*MAX(1,N(E4)))) -> 48 | G4: 1.25 | H4: =IF(A4="","",ROUND(N(C4)*N(G4),2)) -> 22.5
A5: Satin ribbon, a yard | B5: yard | C5: 150 | D5: 200 | E5: 100 | F5: =IF(OR(A5="",D5=""),"",IF(N(C5)>=D5,0,ROUNDUP((D5-N(C5))/MAX(1,N(E5)),0)*MAX(1,N(E5)))) -> 100 | G5: 0.3 | H5: =IF(A5="","",ROUND(N(C5)*N(G5),2)) -> 45
A6: Kraft wrap, a sheet | B6: sheet | C6: 60 | D6: 100 | E6: 200 | F6: =IF(OR(A6="",D6=""),"",IF(N(C6)>=D6,0,ROUNDUP((D6-N(C6))/MAX(1,N(E6)),0)*MAX(1,N(E6)))) -> 200 | G6: 0.6 | H6: =IF(A6="","",ROUND(N(C6)*N(G6),2)) -> 36
A7: Enclosure card | B7: card | C7: 300 | D7: 250 | E7: 500 | F7: =IF(OR(A7="",D7=""),"",IF(N(C7)>=D7,0,ROUNDUP((D7-N(C7))/MAX(1,N(E7)),0)*MAX(1,N(E7)))) -> 0 | G7: 0.04 | H7: =IF(A7="","",ROUND(N(C7)*N(G7),2)) -> 12
A8: Flower food packet | B8: packet | C8: 400 | D8: 500 | E8: 1000 | F8: =IF(OR(A8="",D8=""),"",IF(N(C8)>=D8,0,ROUNDUP((D8-N(C8))/MAX(1,N(E8)),0)*MAX(1,N(E8)))) -> 1000 | G8: 0.03 | H8: =IF(A8="","",ROUND(N(C8)*N(G8),2)) -> 12
F9: =IF(OR(A9="",D9=""),"",IF(N(C9)>=D9,0,ROUNDUP((D9-N(C9))/MAX(1,N(E9)),0)*MAX(1,N(E9)))) | H9: =IF(A9="","",ROUND(N(C9)*N(G9),2))
F10: =IF(OR(A10="",D10=""),"",IF(N(C10)>=D10,0,ROUNDUP((D10-N(C10))/MAX(1,N(E10)),0)*MAX(1,N(E10)))) | H10: =IF(A10="","",ROUND(N(C10)*N(G10),2))
F11: =IF(OR(A11="",D11=""),"",IF(N(C11)>=D11,0,ROUNDUP((D11-N(C11))/MAX(1,N(E11)),0)*MAX(1,N(E11)))) | H11: =IF(A11="","",ROUND(N(C11)*N(G11),2))
F12: =IF(OR(A12="",D12=""),"",IF(N(C12)>=D12,0,ROUNDUP((D12-N(C12))/MAX(1,N(E12)),0)*MAX(1,N(E12)))) | H12: =IF(A12="","",ROUND(N(C12)*N(G12),2))
F13: =IF(OR(A13="",D13=""),"",IF(N(C13)>=D13,0,ROUNDUP((D13-N(C13))/MAX(1,N(E13)),0)*MAX(1,N(E13)))) | H13: =IF(A13="","",ROUND(N(C13)*N(G13),2))
F14: =IF(OR(A14="",D14=""),"",IF(N(C14)>=D14,0,ROUNDUP((D14-N(C14))/MAX(1,N(E14)),0)*MAX(1,N(E14)))) | H14: =IF(A14="","",ROUND(N(C14)*N(G14),2))
F15: =IF(OR(A15="",D15=""),"",IF(N(C15)>=D15,0,ROUNDUP((D15-N(C15))/MAX(1,N(E15)),0)*MAX(1,N(E15)))) | H15: =IF(A15="","",ROUND(N(C15)*N(G15),2))
F16: =IF(OR(A16="",D16=""),"",IF(N(C16)>=D16,0,ROUNDUP((D16-N(C16))/MAX(1,N(E16)),0)*MAX(1,N(E16)))) | H16: =IF(A16="","",ROUND(N(C16)*N(G16),2))
F17: =IF(OR(A17="",D17=""),"",IF(N(C17)>=D17,0,ROUNDUP((D17-N(C17))/MAX(1,N(E17)),0)*MAX(1,N(E17)))) | H17: =IF(A17="","",ROUND(N(C17)*N(G17),2))
F18: =IF(OR(A18="",D18=""),"",IF(N(C18)>=D18,0,ROUNDUP((D18-N(C18))/MAX(1,N(E18)),0)*MAX(1,N(E18)))) | H18: =IF(A18="","",ROUND(N(C18)*N(G18),2))
F19: =IF(OR(A19="",D19=""),"",IF(N(C19)>=D19,0,ROUNDUP((D19-N(C19))/MAX(1,N(E19)),0)*MAX(1,N(E19)))) | H19: =IF(A19="","",ROUND(N(C19)*N(G19),2))
F20: =IF(OR(A20="",D20=""),"",IF(N(C20)>=D20,0,ROUNDUP((D20-N(C20))/MAX(1,N(E20)),0)*MAX(1,N(E20)))) | H20: =IF(A20="","",ROUND(N(C20)*N(G20),2))
... F100: =IF(OR(A100="",D100=""),"",IF(N(C100)>=D100,0,ROUNDUP((D100-N(C100))/MAX(1,N(E100)),0)*MAX(1,N(E100)))) | H100: =IF(A100="","",ROUND(N(C100)*N(G100),2))

Sheet Arrangements
A1: Arrangement | B1: Stem or hard good | C1: Quantity | D1: Cost each | E1: Cost | G1: Arrangement | H1: Stems and supplies | I1: Design minutes | J1: Your time | K1: Cost | L1: Price | M1: Left | N1: Stems and supplies, share of price | P1: Your time, an hour
A2: Dozen red roses in a vase | B2: Red rose, 50 cm | C2: 12 | D2: =IF(B2="","",IFERROR(VLOOKUP(B2,Stems!$A$2:$E$150,5,FALSE),IFERROR(VLOOKUP(B2,'Hard goods'!$A$2:$G$100,7,FALSE),0))) -> 1.1 | E2: =IF(B2="","",ROUND(N(C2)*N(D2),2)) -> 13.2 | G2: Dozen red roses in a vase | H2: =IF(G2="","",SUMIF($A$2:$A$200,G2,$E$2:$E$200)) -> 22.02 | I2: 20 | J2: =IF(G2="","",ROUND(N(I2)/60*$P$2,2)) -> 6.67 | K2: =IF(G2="","",H2+J2) -> 28.69 | L2: 85 | M2: =IF(OR(G2="",L2=""),"",L2-K2) -> 56.31 | N2: =IF(OR(G2="",N(L2)=0),"",H2/L2) -> 0.25905882 | P2: 20
A3: Dozen red roses in a vase | B3: Silver dollar eucalyptus | C3: 5 | D3: =IF(B3="","",IFERROR(VLOOKUP(B3,Stems!$A$2:$E$150,5,FALSE),IFERROR(VLOOKUP(B3,'Hard goods'!$A$2:$G$100,7,FALSE),0))) -> 0.45 | E3: =IF(B3="","",ROUND(N(C3)*N(D3),2)) -> 2.25 | G3: Sunflower bouquet, wrapped | H3: =IF(G3="","",SUMIF($A$2:$A$200,G3,$E$2:$E$200)) -> 12.07 | I3: 15 | J3: =IF(G3="","",ROUND(N(I3)/60*$P$2,2)) -> 5 | K3: =IF(G3="","",H3+J3) -> 17.07 | L3: 45 | M3: =IF(OR(G3="",L3=""),"",L3-K3) -> 27.93 | N3: =IF(OR(G3="",N(L3)=0),"",H3/L3) -> 0.26822222
A4: Dozen red roses in a vase | B4: Baby's breath | C4: 5 | D4: =IF(B4="","",IFERROR(VLOOKUP(B4,Stems!$A$2:$E$150,5,FALSE),IFERROR(VLOOKUP(B4,'Hard goods'!$A$2:$G$100,7,FALSE),0))) -> 0.6 | E4: =IF(B4="","",ROUND(N(C4)*N(D4),2)) -> 3 | G4: Bud vase | H4: =IF(G4="","",SUMIF($A$2:$A$200,G4,$E$2:$E$200)) -> 3.29 | I4: 5 | J4: =IF(G4="","",ROUND(N(I4)/60*$P$2,2)) -> 1.67 | K4: =IF(G4="","",H4+J4) -> 4.96 | L4: 15 | M4: =IF(OR(G4="",L4=""),"",L4-K4) -> 10.04 | N4: =IF(OR(G4="",N(L4)=0),"",H4/L4) -> 0.21933333
A5: Dozen red roses in a vase | B5: 8 in glass cylinder vase | C5: 1 | D5: =IF(B5="","",IFERROR(VLOOKUP(B5,Stems!$A$2:$E$150,5,FALSE),IFERROR(VLOOKUP(B5,'Hard goods'!$A$2:$G$100,7,FALSE),0))) -> 3.2 | E5: =IF(B5="","",ROUND(N(C5)*N(D5),2)) -> 3.2 | H5: =IF(G5="","",SUMIF($A$2:$A$200,G5,$E$2:$E$200)) | J5: =IF(G5="","",ROUND(N(I5)/60*$P$2,2)) | K5: =IF(G5="","",H5+J5) | M5: =IF(OR(G5="",L5=""),"",L5-K5) | N5: =IF(OR(G5="",N(L5)=0),"",H5/L5)
A6: Dozen red roses in a vase | B6: Satin ribbon, a yard | C6: 1 | D6: =IF(B6="","",IFERROR(VLOOKUP(B6,Stems!$A$2:$E$150,5,FALSE),IFERROR(VLOOKUP(B6,'Hard goods'!$A$2:$G$100,7,FALSE),0))) -> 0.3 | E6: =IF(B6="","",ROUND(N(C6)*N(D6),2)) -> 0.3 | H6: =IF(G6="","",SUMIF($A$2:$A$200,G6,$E$2:$E$200)) | J6: =IF(G6="","",ROUND(N(I6)/60*$P$2,2)) | K6: =IF(G6="","",H6+J6) | M6: =IF(OR(G6="",L6=""),"",L6-K6) | N6: =IF(OR(G6="",N(L6)=0),"",H6/L6)
A7: Dozen red roses in a vase | B7: Enclosure card | C7: 1 | D7: =IF(B7="","",IFERROR(VLOOKUP(B7,Stems!$A$2:$E$150,5,FALSE),IFERROR(VLOOKUP(B7,'Hard goods'!$A$2:$G$100,7,FALSE),0))) -> 0.04 | E7: =IF(B7="","",ROUND(N(C7)*N(D7),2)) -> 0.04 | H7: =IF(G7="","",SUMIF($A$2:$A$200,G7,$E$2:$E$200)) | J7: =IF(G7="","",ROUND(N(I7)/60*$P$2,2)) | K7: =IF(G7="","",H7+J7) | M7: =IF(OR(G7="",L7=""),"",L7-K7) | N7: =IF(OR(G7="",N(L7)=0),"",H7/L7)
A8: Dozen red roses in a vase | B8: Flower food packet | C8: 1 | D8: =IF(B8="","",IFERROR(VLOOKUP(B8,Stems!$A$2:$E$150,5,FALSE),IFERROR(VLOOKUP(B8,'Hard goods'!$A$2:$G$100,7,FALSE),0))) -> 0.03 | E8: =IF(B8="","",ROUND(N(C8)*N(D8),2)) -> 0.03 | H8: =IF(G8="","",SUMIF($A$2:$A$200,G8,$E$2:$E$200)) | J8: =IF(G8="","",ROUND(N(I8)/60*$P$2,2)) | K8: =IF(G8="","",H8+J8) | M8: =IF(OR(G8="",L8=""),"",L8-K8) | N8: =IF(OR(G8="",N(L8)=0),"",H8/L8)
A9: Sunflower bouquet, wrapped | B9: Sunflower | C9: 5 | D9: =IF(B9="","",IFERROR(VLOOKUP(B9,Stems!$A$2:$E$150,5,FALSE),IFERROR(VLOOKUP(B9,'Hard goods'!$A$2:$G$100,7,FALSE),0))) -> 1.2 | E9: =IF(B9="","",ROUND(N(C9)*N(D9),2)) -> 6 | H9: =IF(G9="","",SUMIF($A$2:$A$200,G9,$E$2:$E$200)) | J9: =IF(G9="","",ROUND(N(I9)/60*$P$2,2)) | K9: =IF(G9="","",H9+J9) | M9: =IF(OR(G9="",L9=""),"",L9-K9) | N9: =IF(OR(G9="",N(L9)=0),"",H9/L9)
A10: Sunflower bouquet, wrapped | B10: Alstroemeria | C10: 6 | D10: =IF(B10="","",IFERROR(VLOOKUP(B10,Stems!$A$2:$E$150,5,FALSE),IFERROR(VLOOKUP(B10,'Hard goods'!$A$2:$G$100,7,FALSE),0))) -> 0.55 | E10: =IF(B10="","",ROUND(N(C10)*N(D10),2)) -> 3.3 | H10: =IF(G10="","",SUMIF($A$2:$A$200,G10,$E$2:$E$200)) | J10: =IF(G10="","",ROUND(N(I10)/60*$P$2,2)) | K10: =IF(G10="","",H10+J10) | M10: =IF(OR(G10="",L10=""),"",L10-K10) | N10: =IF(OR(G10="",N(L10)=0),"",H10/L10)
A11: Sunflower bouquet, wrapped | B11: Silver dollar eucalyptus | C11: 4 | D11: =IF(B11="","",IFERROR(VLOOKUP(B11,Stems!$A$2:$E$150,5,FALSE),IFERROR(VLOOKUP(B11,'Hard goods'!$A$2:$G$100,7,FALSE),0))) -> 0.45 | E11: =IF(B11="","",ROUND(N(C11)*N(D11),2)) -> 1.8 | H11: =IF(G11="","",SUMIF($A$2:$A$200,G11,$E$2:$E$200)) | J11: =IF(G11="","",ROUND(N(I11)/60*$P$2,2)) | K11: =IF(G11="","",H11+J11) | M11: =IF(OR(G11="",L11=""),"",L11-K11) | N11: =IF(OR(G11="",N(L11)=0),"",H11/L11)
A12: Sunflower bouquet, wrapped | B12: Kraft wrap, a sheet | C12: 1 | D12: =IF(B12="","",IFERROR(VLOOKUP(B12,Stems!$A$2:$E$150,5,FALSE),IFERROR(VLOOKUP(B12,'Hard goods'!$A$2:$G$100,7,FALSE),0))) -> 0.6 | E12: =IF(B12="","",ROUND(N(C12)*N(D12),2)) -> 0.6 | H12: =IF(G12="","",SUMIF($A$2:$A$200,G12,$E$2:$E$200)) | J12: =IF(G12="","",ROUND(N(I12)/60*$P$2,2)) | K12: =IF(G12="","",H12+J12) | M12: =IF(OR(G12="",L12=""),"",L12-K12) | N12: =IF(OR(G12="",N(L12)=0),"",H12/L12)
A13: Sunflower bouquet, wrapped | B13: Satin ribbon, a yard | C13: 1 | D13: =IF(B13="","",IFERROR(VLOOKUP(B13,Stems!$A$2:$E$150,5,FALSE),IFERROR(VLOOKUP(B13,'Hard goods'!$A$2:$G$100,7,FALSE),0))) -> 0.3 | E13: =IF(B13="","",ROUND(N(C13)*N(D13),2)) -> 0.3 | H13: =IF(G13="","",SUMIF($A$2:$A$200,G13,$E$2:$E$200)) | J13: =IF(G13="","",ROUND(N(I13)/60*$P$2,2)) | K13: =IF(G13="","",H13+J13) | M13: =IF(OR(G13="",L13=""),"",L13-K13) | N13: =IF(OR(G13="",N(L13)=0),"",H13/L13)
A14: Sunflower bouquet, wrapped | B14: Enclosure card | C14: 1 | D14: =IF(B14="","",IFERROR(VLOOKUP(B14,Stems!$A$2:$E$150,5,FALSE),IFERROR(VLOOKUP(B14,'Hard goods'!$A$2:$G$100,7,FALSE),0))) -> 0.04 | E14: =IF(B14="","",ROUND(N(C14)*N(D14),2)) -> 0.04 | H14: =IF(G14="","",SUMIF($A$2:$A$200,G14,$E$2:$E$200)) | J14: =IF(G14="","",ROUND(N(I14)/60*$P$2,2)) | K14: =IF(G14="","",H14+J14) | M14: =IF(OR(G14="",L14=""),"",L14-K14) | N14: =IF(OR(G14="",N(L14)=0),"",H14/L14)
A15: Sunflower bouquet, wrapped | B15: Flower food packet | C15: 1 | D15: =IF(B15="","",IFERROR(VLOOKUP(B15,Stems!$A$2:$E$150,5,FALSE),IFERROR(VLOOKUP(B15,'Hard goods'!$A$2:$G$100,7,FALSE),0))) -> 0.03 | E15: =IF(B15="","",ROUND(N(C15)*N(D15),2)) -> 0.03 | H15: =IF(G15="","",SUMIF($A$2:$A$200,G15,$E$2:$E$200)) | J15: =IF(G15="","",ROUND(N(I15)/60*$P$2,2)) | K15: =IF(G15="","",H15+J15) | M15: =IF(OR(G15="",L15=""),"",L15-K15) | N15: =IF(OR(G15="",N(L15)=0),"",H15/L15)
A16: Bud vase | B16: Red rose, 50 cm | C16: 1 | D16: =IF(B16="","",IFERROR(VLOOKUP(B16,Stems!$A$2:$E$150,5,FALSE),IFERROR(VLOOKUP(B16,'Hard goods'!$A$2:$G$100,7,FALSE),0))) -> 1.1 | E16: =IF(B16="","",ROUND(N(C16)*N(D16),2)) -> 1.1 | H16: =IF(G16="","",SUMIF($A$2:$A$200,G16,$E$2:$E$200)) | J16: =IF(G16="","",ROUND(N(I16)/60*$P$2,2)) | K16: =IF(G16="","",H16+J16) | M16: =IF(OR(G16="",L16=""),"",L16-K16) | N16: =IF(OR(G16="",N(L16)=0),"",H16/L16)
... A20: Bud vase | B20: Enclosure card | C20: 1 | D20: =IF(B20="","",IFERROR(VLOOKUP(B20,Stems!$A$2:$E$150,5,FALSE),IFERROR(VLOOKUP(B20,'Hard goods'!$A$2:$G$100,7,FALSE),0))) -> 0.04 | E20: =IF(B20="","",ROUND(N(C20)*N(D20),2)) -> 0.04 | H20: =IF(G20="","",SUMIF($A$2:$A$200,G20,$E$2:$E$200)) | J20: =IF(G20="","",ROUND(N(I20)/60*$P$2,2)) | K20: =IF(G20="","",H20+J20) | M20: =IF(OR(G20="",L20=""),"",L20-K20) | N20: =IF(OR(G20="",N(L20)=0),"",H20/L20)
D21: =IF(B21="","",IFERROR(VLOOKUP(B21,Stems!$A$2:$E$150,5,FALSE),IFERROR(VLOOKUP(B21,'Hard goods'!$A$2:$G$100,7,FALSE),0))) | E21: =IF(B21="","",ROUND(N(C21)*N(D21),2)) | H21: =IF(G21="","",SUMIF($A$2:$A$200,G21,$E$2:$E$200)) | J21: =IF(G21="","",ROUND(N(I21)/60*$P$2,2)) | K21: =IF(G21="","",H21+J21) | M21: =IF(OR(G21="",L21=""),"",L21-K21) | N21: =IF(OR(G21="",N(L21)=0),"",H21/L21)
D22: =IF(B22="","",IFERROR(VLOOKUP(B22,Stems!$A$2:$E$150,5,FALSE),IFERROR(VLOOKUP(B22,'Hard goods'!$A$2:$G$100,7,FALSE),0))) | E22: =IF(B22="","",ROUND(N(C22)*N(D22),2)) | H22: =IF(G22="","",SUMIF($A$2:$A$200,G22,$E$2:$E$200)) | J22: =IF(G22="","",ROUND(N(I22)/60*$P$2,2)) | K22: =IF(G22="","",H22+J22) | M22: =IF(OR(G22="",L22=""),"",L22-K22) | N22: =IF(OR(G22="",N(L22)=0),"",H22/L22)
D23: =IF(B23="","",IFERROR(VLOOKUP(B23,Stems!$A$2:$E$150,5,FALSE),IFERROR(VLOOKUP(B23,'Hard goods'!$A$2:$G$100,7,FALSE),0))) | E23: =IF(B23="","",ROUND(N(C23)*N(D23),2)) | H23: =IF(G23="","",SUMIF($A$2:$A$200,G23,$E$2:$E$200)) | J23: =IF(G23="","",ROUND(N(I23)/60*$P$2,2)) | K23: =IF(G23="","",H23+J23) | M23: =IF(OR(G23="",L23=""),"",L23-K23) | N23: =IF(OR(G23="",N(L23)=0),"",H23/L23)
D24: =IF(B24="","",IFERROR(VLOOKUP(B24,Stems!$A$2:$E$150,5,FALSE),IFERROR(VLOOKUP(B24,'Hard goods'!$A$2:$G$100,7,FALSE),0))) | E24: =IF(B24="","",ROUND(N(C24)*N(D24),2)) | H24: =IF(G24="","",SUMIF($A$2:$A$200,G24,$E$2:$E$200)) | J24: =IF(G24="","",ROUND(N(I24)/60*$P$2,2)) | K24: =IF(G24="","",H24+J24) | M24: =IF(OR(G24="",L24=""),"",L24-K24) | N24: =IF(OR(G24="",N(L24)=0),"",H24/L24)
D25: =IF(B25="","",IFERROR(VLOOKUP(B25,Stems!$A$2:$E$150,5,FALSE),IFERROR(VLOOKUP(B25,'Hard goods'!$A$2:$G$100,7,FALSE),0))) | E25: =IF(B25="","",ROUND(N(C25)*N(D25),2)) | H25: =IF(G25="","",SUMIF($A$2:$A$200,G25,$E$2:$E$200)) | J25: =IF(G25="","",ROUND(N(I25)/60*$P$2,2)) | K25: =IF(G25="","",H25+J25) | M25: =IF(OR(G25="",L25=""),"",L25-K25) | N25: =IF(OR(G25="",N(L25)=0),"",H25/L25)
D26: =IF(B26="","",IFERROR(VLOOKUP(B26,Stems!$A$2:$E$150,5,FALSE),IFERROR(VLOOKUP(B26,'Hard goods'!$A$2:$G$100,7,FALSE),0))) | E26: =IF(B26="","",ROUND(N(C26)*N(D26),2)) | H26: =IF(G26="","",SUMIF($A$2:$A$200,G26,$E$2:$E$200)) | J26: =IF(G26="","",ROUND(N(I26)/60*$P$2,2)) | K26: =IF(G26="","",H26+J26) | M26: =IF(OR(G26="",L26=""),"",L26-K26) | N26: =IF(OR(G26="",N(L26)=0),"",H26/L26)
D27: =IF(B27="","",IFERROR(VLOOKUP(B27,Stems!$A$2:$E$150,5,FALSE),IFERROR(VLOOKUP(B27,'Hard goods'!$A$2:$G$100,7,FALSE),0))) | E27: =IF(B27="","",ROUND(N(C27)*N(D27),2)) | H27: =IF(G27="","",SUMIF($A$2:$A$200,G27,$E$2:$E$200)) | J27: =IF(G27="","",ROUND(N(I27)/60*$P$2,2)) | K27: =IF(G27="","",H27+J27) | M27: =IF(OR(G27="",L27=""),"",L27-K27) | N27: =IF(OR(G27="",N(L27)=0),"",H27/L27)
D28: =IF(B28="","",IFERROR(VLOOKUP(B28,Stems!$A$2:$E$150,5,FALSE),IFERROR(VLOOKUP(B28,'Hard goods'!$A$2:$G$100,7,FALSE),0))) | E28: =IF(B28="","",ROUND(N(C28)*N(D28),2)) | H28: =IF(G28="","",SUMIF($A$2:$A$200,G28,$E$2:$E$200)) | J28: =IF(G28="","",ROUND(N(I28)/60*$P$2,2)) | K28: =IF(G28="","",H28+J28) | M28: =IF(OR(G28="",L28=""),"",L28-K28) | N28: =IF(OR(G28="",N(L28)=0),"",H28/L28)
D29: =IF(B29="","",IFERROR(VLOOKUP(B29,Stems!$A$2:$E$150,5,FALSE),IFERROR(VLOOKUP(B29,'Hard goods'!$A$2:$G$100,7,FALSE),0))) | E29: =IF(B29="","",ROUND(N(C29)*N(D29),2)) | H29: =IF(G29="","",SUMIF($A$2:$A$200,G29,$E$2:$E$200)) | J29: =IF(G29="","",ROUND(N(I29)/60*$P$2,2)) | K29: =IF(G29="","",H29+J29) | M29: =IF(OR(G29="",L29=""),"",L29-K29) | N29: =IF(OR(G29="",N(L29)=0),"",H29/L29)
D30: =IF(B30="","",IFERROR(VLOOKUP(B30,Stems!$A$2:$E$150,5,FALSE),IFERROR(VLOOKUP(B30,'Hard goods'!$A$2:$G$100,7,FALSE),0))) | E30: =IF(B30="","",ROUND(N(C30)*N(D30),2)) | H30: =IF(G30="","",SUMIF($A$2:$A$200,G30,$E$2:$E$200)) | J30: =IF(G30="","",ROUND(N(I30)/60*$P$2,2)) | K30: =IF(G30="","",H30+J30) | M30: =IF(OR(G30="",L30=""),"",L30-K30) | N30: =IF(OR(G30="",N(L30)=0),"",H30/L30)
D31: =IF(B31="","",IFERROR(VLOOKUP(B31,Stems!$A$2:$E$150,5,FALSE),IFERROR(VLOOKUP(B31,'Hard goods'!$A$2:$G$100,7,FALSE),0))) | E31: =IF(B31="","",ROUND(N(C31)*N(D31),2))
D32: =IF(B32="","",IFERROR(VLOOKUP(B32,Stems!$A$2:$E$150,5,FALSE),IFERROR(VLOOKUP(B32,'Hard goods'!$A$2:$G$100,7,FALSE),0))) | E32: =IF(B32="","",ROUND(N(C32)*N(D32),2))
D33: =IF(B33="","",IFERROR(VLOOKUP(B33,Stems!$A$2:$E$150,5,FALSE),IFERROR(VLOOKUP(B33,'Hard goods'!$A$2:$G$100,7,FALSE),0))) | E33: =IF(B33="","",ROUND(N(C33)*N(D33),2))
D34: =IF(B34="","",IFERROR(VLOOKUP(B34,Stems!$A$2:$E$150,5,FALSE),IFERROR(VLOOKUP(B34,'Hard goods'!$A$2:$G$100,7,FALSE),0))) | E34: =IF(B34="","",ROUND(N(C34)*N(D34),2))
D35: =IF(B35="","",IFERROR(VLOOKUP(B35,Stems!$A$2:$E$150,5,FALSE),IFERROR(VLOOKUP(B35,'Hard goods'!$A$2:$G$100,7,FALSE),0))) | E35: =IF(B35="","",ROUND(N(C35)*N(D35),2))
D36: =IF(B36="","",IFERROR(VLOOKUP(B36,Stems!$A$2:$E$150,5,FALSE),IFERROR(VLOOKUP(B36,'Hard goods'!$A$2:$G$100,7,FALSE),0))) | E36: =IF(B36="","",ROUND(N(C36)*N(D36),2))
D37: =IF(B37="","",IFERROR(VLOOKUP(B37,Stems!$A$2:$E$150,5,FALSE),IFERROR(VLOOKUP(B37,'Hard goods'!$A$2:$G$100,7,FALSE),0))) | E37: =IF(B37="","",ROUND(N(C37)*N(D37),2))
D38: =IF(B38="","",IFERROR(VLOOKUP(B38,Stems!$A$2:$E$150,5,FALSE),IFERROR(VLOOKUP(B38,'Hard goods'!$A$2:$G$100,7,FALSE),0))) | E38: =IF(B38="","",ROUND(N(C38)*N(D38),2))
D39: =IF(B39="","",IFERROR(VLOOKUP(B39,Stems!$A$2:$E$150,5,FALSE),IFERROR(VLOOKUP(B39,'Hard goods'!$A$2:$G$100,7,FALSE),0))) | E39: =IF(B39="","",ROUND(N(C39)*N(D39),2))
D40: =IF(B40="","",IFERROR(VLOOKUP(B40,Stems!$A$2:$E$150,5,FALSE),IFERROR(VLOOKUP(B40,'Hard goods'!$A$2:$G$100,7,FALSE),0))) | E40: =IF(B40="","",ROUND(N(C40)*N(D40),2))
D41: =IF(B41="","",IFERROR(VLOOKUP(B41,Stems!$A$2:$E$150,5,FALSE),IFERROR(VLOOKUP(B41,'Hard goods'!$A$2:$G$100,7,FALSE),0))) | E41: =IF(B41="","",ROUND(N(C41)*N(D41),2))
D42: =IF(B42="","",IFERROR(VLOOKUP(B42,Stems!$A$2:$E$150,5,FALSE),IFERROR(VLOOKUP(B42,'Hard goods'!$A$2:$G$100,7,FALSE),0))) | E42: =IF(B42="","",ROUND(N(C42)*N(D42),2))
... D200: =IF(B200="","",IFERROR(VLOOKUP(B200,Stems!$A$2:$E$150,5,FALSE),IFERROR(VLOOKUP(B200,'Hard goods'!$A$2:$G$100,7,FALSE),0))) | E200: =IF(B200="","",ROUND(N(C200)*N(D200),2))

Sheet Shrink
A1: Date | B1: Stem | C1: Stems thrown out | D1: Reason | E1: Cost | G1: Shrink, cost
A2: 46308 | B2: Stargazer lily | C2: 6 | D2: Opened too far | E2: =IF(B2="","",ROUND(N(C2)*IFERROR(VLOOKUP(B2,Stems!$A$2:$E$150,5,FALSE),0),2)) -> 10.8 | G2: =SUM(E2:E300) -> 30.4
A3: 46308 | B3: White hydrangea | C3: 4 | D3: Wilted | E3: =IF(B3="","",ROUND(N(C3)*IFERROR(VLOOKUP(B3,Stems!$A$2:$E$150,5,FALSE),0),2)) -> 13
A4: 46309 | B4: Red rose, 50 cm | C4: 6 | D4: Bent necks | E4: =IF(B4="","",ROUND(N(C4)*IFERROR(VLOOKUP(B4,Stems!$A$2:$E$150,5,FALSE),0),2)) -> 6.6 | G4: A share of stems bought
E5: =IF(B5="","",ROUND(N(C5)*IFERROR(VLOOKUP(B5,Stems!$A$2:$E$150,5,FALSE),0),2)) | G5: =IF(N(Stems!M8)=0,"",G2/Stems!M8) -> 0.088500728
E6: =IF(B6="","",ROUND(N(C6)*IFERROR(VLOOKUP(B6,Stems!$A$2:$E$150,5,FALSE),0),2))
E7: =IF(B7="","",ROUND(N(C7)*IFERROR(VLOOKUP(B7,Stems!$A$2:$E$150,5,FALSE),0),2))
E8: =IF(B8="","",ROUND(N(C8)*IFERROR(VLOOKUP(B8,Stems!$A$2:$E$150,5,FALSE),0),2))
E9: =IF(B9="","",ROUND(N(C9)*IFERROR(VLOOKUP(B9,Stems!$A$2:$E$150,5,FALSE),0),2))
E10: =IF(B10="","",ROUND(N(C10)*IFERROR(VLOOKUP(B10,Stems!$A$2:$E$150,5,FALSE),0),2))
E11: =IF(B11="","",ROUND(N(C11)*IFERROR(VLOOKUP(B11,Stems!$A$2:$E$150,5,FALSE),0),2))
E12: =IF(B12="","",ROUND(N(C12)*IFERROR(VLOOKUP(B12,Stems!$A$2:$E$150,5,FALSE),0),2))
E13: =IF(B13="","",ROUND(N(C13)*IFERROR(VLOOKUP(B13,Stems!$A$2:$E$150,5,FALSE),0),2))
E14: =IF(B14="","",ROUND(N(C14)*IFERROR(VLOOKUP(B14,Stems!$A$2:$E$150,5,FALSE),0),2))
E15: =IF(B15="","",ROUND(N(C15)*IFERROR(VLOOKUP(B15,Stems!$A$2:$E$150,5,FALSE),0),2))
E16: =IF(B16="","",ROUND(N(C16)*IFERROR(VLOOKUP(B16,Stems!$A$2:$E$150,5,FALSE),0),2))
E17: =IF(B17="","",ROUND(N(C17)*IFERROR(VLOOKUP(B17,Stems!$A$2:$E$150,5,FALSE),0),2))
... E300: =IF(B300="","",ROUND(N(C300)*IFERROR(VLOOKUP(B300,Stems!$A$2:$E$150,5,FALSE),0),2))

Sheet Read me
A1: Florist inventory list
A2: From the article: https://www.tarostack.com/articles/florist-inventory-list
A4: Stems: one row for each delivery of each stem, with the day it came in, stems received and on hand, cost a stem, and how many days your shop sells it for. Set the As of date; it works out the sell-by date, the days left, the stems to use first, and the value on hand.
A5: Hard goods: vases, foam, ribbon, wrap, cards and flower food against par, ordered in whole packs.
A6: Arrangements: each arrangement's stems and hard goods, one per row, priced from the other two sheets; on the right, the design minutes and price give the cost, what's left and the flowers' share of the price.
A7: Shrink: the stems thrown out, with a reason; it works out their cost and their share of the stems bought.
A9: Works in Excel (2010 and later), Google Sheets, LibreOffice and Numbers. No macros.
A10: Free to use and change. Made by TaroStack, inventory and production software for small producers: https://www.tarostack.com
