Workbook

Sheet Order lines
A1: Order | B1: Customer | C1: Item | D1: Ordered | E1: Shipped | F1: Short | G1: Line in full?
A2: SO-301 | B2: Barnegat Bay Market | C2: Maple pecan granola, 12 oz | D2: 24 | E2: 24 | F2: =IF(OR(D2="",E2=""),"",MAX(0,D2-E2)) -> 0 | G2: =IF(OR(D2="",E2=""),"",IF(E2>=D2,"Yes","No")) -> Yes
A3: SO-301 | B3: Barnegat Bay Market | C3: Blueberry jam, 9 oz | D3: 12 | E3: 12 | F3: =IF(OR(D3="",E3=""),"",MAX(0,D3-E3)) -> 0 | G3: =IF(OR(D3="",E3=""),"",IF(E3>=D3,"Yes","No")) -> Yes
A4: SO-302 | B4: Pine Street Grocer | C4: Maple pecan granola, 12 oz | D4: 36 | E4: 24 | F4: =IF(OR(D4="",E4=""),"",MAX(0,D4-E4)) -> 12 | G4: =IF(OR(D4="",E4=""),"",IF(E4>=D4,"Yes","No")) -> No
A5: SO-302 | B5: Pine Street Grocer | C5: Hot sauce, 5 oz | D5: 12 | E5: 12 | F5: =IF(OR(D5="",E5=""),"",MAX(0,D5-E5)) -> 0 | G5: =IF(OR(D5="",E5=""),"",IF(E5>=D5,"Yes","No")) -> Yes
A6: SO-303 | B6: Hammonton Farm Stand | C6: Blueberry jam, 9 oz | D6: 24 | E6: 24 | F6: =IF(OR(D6="",E6=""),"",MAX(0,D6-E6)) -> 0 | G6: =IF(OR(D6="",E6=""),"",IF(E6>=D6,"Yes","No")) -> Yes
A7: SO-304 | B7: Cape May Provisions | C7: Maple pecan granola, 12 oz | D7: 24 | E7: 24 | F7: =IF(OR(D7="",E7=""),"",MAX(0,D7-E7)) -> 0 | G7: =IF(OR(D7="",E7=""),"",IF(E7>=D7,"Yes","No")) -> Yes
A8: SO-304 | B8: Cape May Provisions | C8: Cranberry granola, 12 oz | D8: 12 | E8: 0 | F8: =IF(OR(D8="",E8=""),"",MAX(0,D8-E8)) -> 12 | G8: =IF(OR(D8="",E8=""),"",IF(E8>=D8,"Yes","No")) -> No
A9: SO-304 | B9: Cape May Provisions | C9: Blueberry jam, 9 oz | D9: 12 | E9: 12 | F9: =IF(OR(D9="",E9=""),"",MAX(0,D9-E9)) -> 0 | G9: =IF(OR(D9="",E9=""),"",IF(E9>=D9,"Yes","No")) -> Yes
A10: SO-305 | B10: Barnegat Bay Market | C10: Hot sauce, 5 oz | D10: 24 | E10: 24 | F10: =IF(OR(D10="",E10=""),"",MAX(0,D10-E10)) -> 0 | G10: =IF(OR(D10="",E10=""),"",IF(E10>=D10,"Yes","No")) -> Yes
A11: SO-306 | B11: Pine Street Grocer | C11: Blueberry jam, 9 oz | D11: 12 | E11: 12 | F11: =IF(OR(D11="",E11=""),"",MAX(0,D11-E11)) -> 0 | G11: =IF(OR(D11="",E11=""),"",IF(E11>=D11,"Yes","No")) -> Yes
F12: =IF(OR(D12="",E12=""),"",MAX(0,D12-E12)) | G12: =IF(OR(D12="",E12=""),"",IF(E12>=D12,"Yes","No"))
F13: =IF(OR(D13="",E13=""),"",MAX(0,D13-E13)) | G13: =IF(OR(D13="",E13=""),"",IF(E13>=D13,"Yes","No"))
F14: =IF(OR(D14="",E14=""),"",MAX(0,D14-E14)) | G14: =IF(OR(D14="",E14=""),"",IF(E14>=D14,"Yes","No"))
F15: =IF(OR(D15="",E15=""),"",MAX(0,D15-E15)) | G15: =IF(OR(D15="",E15=""),"",IF(E15>=D15,"Yes","No"))
F16: =IF(OR(D16="",E16=""),"",MAX(0,D16-E16)) | G16: =IF(OR(D16="",E16=""),"",IF(E16>=D16,"Yes","No"))
F17: =IF(OR(D17="",E17=""),"",MAX(0,D17-E17)) | G17: =IF(OR(D17="",E17=""),"",IF(E17>=D17,"Yes","No"))
F18: =IF(OR(D18="",E18=""),"",MAX(0,D18-E18)) | G18: =IF(OR(D18="",E18=""),"",IF(E18>=D18,"Yes","No"))
F19: =IF(OR(D19="",E19=""),"",MAX(0,D19-E19)) | G19: =IF(OR(D19="",E19=""),"",IF(E19>=D19,"Yes","No"))
F20: =IF(OR(D20="",E20=""),"",MAX(0,D20-E20)) | G20: =IF(OR(D20="",E20=""),"",IF(E20>=D20,"Yes","No"))
F21: =IF(OR(D21="",E21=""),"",MAX(0,D21-E21)) | G21: =IF(OR(D21="",E21=""),"",IF(E21>=D21,"Yes","No"))
F22: =IF(OR(D22="",E22=""),"",MAX(0,D22-E22)) | G22: =IF(OR(D22="",E22=""),"",IF(E22>=D22,"Yes","No"))
F23: =IF(OR(D23="",E23=""),"",MAX(0,D23-E23)) | G23: =IF(OR(D23="",E23=""),"",IF(E23>=D23,"Yes","No"))
... F500: =IF(OR(D500="",E500=""),"",MAX(0,D500-E500)) | G500: =IF(OR(D500="",E500=""),"",IF(E500>=D500,"Yes","No"))

Sheet Orders
A1: Order | B1: Lines | C1: Lines in full | D1: Shipped complete?
A2: SO-301 | B2: =IF(A2="","",COUNTIF('Order lines'!$A$2:$A$500,A2)) -> 2 | C2: =IF(A2="","",COUNTIFS('Order lines'!$A$2:$A$500,A2,'Order lines'!$G$2:$G$500,"Yes")) -> 2 | D2: =IF(OR(A2="",N(B2)=0),"",IF(C2=B2,"Yes","No")) -> Yes
A3: SO-302 | B3: =IF(A3="","",COUNTIF('Order lines'!$A$2:$A$500,A3)) -> 2 | C3: =IF(A3="","",COUNTIFS('Order lines'!$A$2:$A$500,A3,'Order lines'!$G$2:$G$500,"Yes")) -> 1 | D3: =IF(OR(A3="",N(B3)=0),"",IF(C3=B3,"Yes","No")) -> No
A4: SO-303 | B4: =IF(A4="","",COUNTIF('Order lines'!$A$2:$A$500,A4)) -> 1 | C4: =IF(A4="","",COUNTIFS('Order lines'!$A$2:$A$500,A4,'Order lines'!$G$2:$G$500,"Yes")) -> 1 | D4: =IF(OR(A4="",N(B4)=0),"",IF(C4=B4,"Yes","No")) -> Yes
A5: SO-304 | B5: =IF(A5="","",COUNTIF('Order lines'!$A$2:$A$500,A5)) -> 3 | C5: =IF(A5="","",COUNTIFS('Order lines'!$A$2:$A$500,A5,'Order lines'!$G$2:$G$500,"Yes")) -> 2 | D5: =IF(OR(A5="",N(B5)=0),"",IF(C5=B5,"Yes","No")) -> No
A6: SO-305 | B6: =IF(A6="","",COUNTIF('Order lines'!$A$2:$A$500,A6)) -> 1 | C6: =IF(A6="","",COUNTIFS('Order lines'!$A$2:$A$500,A6,'Order lines'!$G$2:$G$500,"Yes")) -> 1 | D6: =IF(OR(A6="",N(B6)=0),"",IF(C6=B6,"Yes","No")) -> Yes
A7: SO-306 | B7: =IF(A7="","",COUNTIF('Order lines'!$A$2:$A$500,A7)) -> 1 | C7: =IF(A7="","",COUNTIFS('Order lines'!$A$2:$A$500,A7,'Order lines'!$G$2:$G$500,"Yes")) -> 1 | D7: =IF(OR(A7="",N(B7)=0),"",IF(C7=B7,"Yes","No")) -> Yes
B8: =IF(A8="","",COUNTIF('Order lines'!$A$2:$A$500,A8)) | C8: =IF(A8="","",COUNTIFS('Order lines'!$A$2:$A$500,A8,'Order lines'!$G$2:$G$500,"Yes")) | D8: =IF(OR(A8="",N(B8)=0),"",IF(C8=B8,"Yes","No"))
B9: =IF(A9="","",COUNTIF('Order lines'!$A$2:$A$500,A9)) | C9: =IF(A9="","",COUNTIFS('Order lines'!$A$2:$A$500,A9,'Order lines'!$G$2:$G$500,"Yes")) | D9: =IF(OR(A9="",N(B9)=0),"",IF(C9=B9,"Yes","No"))
B10: =IF(A10="","",COUNTIF('Order lines'!$A$2:$A$500,A10)) | C10: =IF(A10="","",COUNTIFS('Order lines'!$A$2:$A$500,A10,'Order lines'!$G$2:$G$500,"Yes")) | D10: =IF(OR(A10="",N(B10)=0),"",IF(C10=B10,"Yes","No"))
B11: =IF(A11="","",COUNTIF('Order lines'!$A$2:$A$500,A11)) | C11: =IF(A11="","",COUNTIFS('Order lines'!$A$2:$A$500,A11,'Order lines'!$G$2:$G$500,"Yes")) | D11: =IF(OR(A11="",N(B11)=0),"",IF(C11=B11,"Yes","No"))
B12: =IF(A12="","",COUNTIF('Order lines'!$A$2:$A$500,A12)) | C12: =IF(A12="","",COUNTIFS('Order lines'!$A$2:$A$500,A12,'Order lines'!$G$2:$G$500,"Yes")) | D12: =IF(OR(A12="",N(B12)=0),"",IF(C12=B12,"Yes","No"))
B13: =IF(A13="","",COUNTIF('Order lines'!$A$2:$A$500,A13)) | C13: =IF(A13="","",COUNTIFS('Order lines'!$A$2:$A$500,A13,'Order lines'!$G$2:$G$500,"Yes")) | D13: =IF(OR(A13="",N(B13)=0),"",IF(C13=B13,"Yes","No"))
B14: =IF(A14="","",COUNTIF('Order lines'!$A$2:$A$500,A14)) | C14: =IF(A14="","",COUNTIFS('Order lines'!$A$2:$A$500,A14,'Order lines'!$G$2:$G$500,"Yes")) | D14: =IF(OR(A14="",N(B14)=0),"",IF(C14=B14,"Yes","No"))
B15: =IF(A15="","",COUNTIF('Order lines'!$A$2:$A$500,A15)) | C15: =IF(A15="","",COUNTIFS('Order lines'!$A$2:$A$500,A15,'Order lines'!$G$2:$G$500,"Yes")) | D15: =IF(OR(A15="",N(B15)=0),"",IF(C15=B15,"Yes","No"))
B16: =IF(A16="","",COUNTIF('Order lines'!$A$2:$A$500,A16)) | C16: =IF(A16="","",COUNTIFS('Order lines'!$A$2:$A$500,A16,'Order lines'!$G$2:$G$500,"Yes")) | D16: =IF(OR(A16="",N(B16)=0),"",IF(C16=B16,"Yes","No"))
B17: =IF(A17="","",COUNTIF('Order lines'!$A$2:$A$500,A17)) | C17: =IF(A17="","",COUNTIFS('Order lines'!$A$2:$A$500,A17,'Order lines'!$G$2:$G$500,"Yes")) | D17: =IF(OR(A17="",N(B17)=0),"",IF(C17=B17,"Yes","No"))
B18: =IF(A18="","",COUNTIF('Order lines'!$A$2:$A$500,A18)) | C18: =IF(A18="","",COUNTIFS('Order lines'!$A$2:$A$500,A18,'Order lines'!$G$2:$G$500,"Yes")) | D18: =IF(OR(A18="",N(B18)=0),"",IF(C18=B18,"Yes","No"))
B19: =IF(A19="","",COUNTIF('Order lines'!$A$2:$A$500,A19)) | C19: =IF(A19="","",COUNTIFS('Order lines'!$A$2:$A$500,A19,'Order lines'!$G$2:$G$500,"Yes")) | D19: =IF(OR(A19="",N(B19)=0),"",IF(C19=B19,"Yes","No"))
... B200: =IF(A200="","",COUNTIF('Order lines'!$A$2:$A$500,A200)) | C200: =IF(A200="","",COUNTIFS('Order lines'!$A$2:$A$500,A200,'Order lines'!$G$2:$G$500,"Yes")) | D200: =IF(OR(A200="",N(B200)=0),"",IF(C200=B200,"Yes","No"))

Sheet Fill rates
A1: Fill rates
A2: Unit fill rate | B2: =IFERROR(SUM('Order lines'!E2:E500)/SUM('Order lines'!D2:D500),"") -> 0.875 | C2: Units shipped ÷ units ordered
A3: Line fill rate | B3: =IFERROR(COUNTIF('Order lines'!G2:G500,"Yes")/COUNTA('Order lines'!C2:C500),"") -> 0.8 | C3: Lines shipped in full ÷ lines ordered
A4: Order fill rate | B4: =IFERROR(COUNTIF(Orders!D2:D200,"Yes")/COUNTA(Orders!A2:A200),"") -> 0.66666667 | C4: Orders shipped complete ÷ orders

Sheet Read me
A1: Fill rate formula
A2: From the article: https://www.tarostack.com/articles/fill-rate-formula
A4: Order lines: one line for each item on each order, with what was ordered and what was shipped. Short and Line in full? fill in.
A5: Orders: one line for each order number; the lines, the lines shipped in full and whether the order shipped complete fill in.
A6: Fill rates: the unit, line and order fill rates, from the other two sheets. The order fill rate is always the lowest of the three, because one short line makes a whole order incomplete.
A7: The example is the article's made-up granola maker's October shop orders.
A9: Works in Excel (2010 and later), Google Sheets, LibreOffice and Numbers. No macros.
A10: Free to use and change. Made by TaroStack, inventory and production software for small producers: https://www.tarostack.com
