Workbook

Sheet Market log
A1: Date | B1: Market | C1: Product | D1: Brought | E1: Left | F1: Sold | G1: Price | H1: Sales | I1: Sold out at | J1: Weather
A2: 46284 | B2: Saturday | C2: Taro chips | D2: 60 | E2: 8 | F2: =IF(OR(D2="",E2=""),"",D2-E2) -> 52 | G2: 6 | H2: =IF(OR(F2="",G2=""),"",F2*G2) -> 312 | J2: Sunny
A3: 46284 | B3: Saturday | C3: Kūlolo | D3: 30 | E3: 0 | F3: =IF(OR(D3="",E3=""),"",D3-E3) -> 30 | G3: 8 | H3: =IF(OR(F3="",G3=""),"",F3*G3) -> 240 | I3: 10:30 | J3: Sunny
A4: 46284 | B4: Saturday | C4: Lilikoi butter | D4: 20 | E4: 11 | F4: =IF(OR(D4="",E4=""),"",D4-E4) -> 9 | G4: 12 | H4: =IF(OR(F4="",G4=""),"",F4*G4) -> 108 | J4: Sunny
A5: 46284 | B5: Saturday | C5: Taro sourdough | D5: 40 | E5: 0 | F5: =IF(OR(D5="",E5=""),"",D5-E5) -> 40 | G5: 10 | H5: =IF(OR(F5="",G5=""),"",F5*G5) -> 400 | I5: 9:45 | J5: Sunny
A6: 46291 | B6: Saturday | C6: Taro chips | D6: 60 | E6: 0 | F6: =IF(OR(D6="",E6=""),"",D6-E6) -> 60 | G6: 6 | H6: =IF(OR(F6="",G6=""),"",F6*G6) -> 360 | I6: 11:40 | J6: Sunny
A7: 46291 | B7: Saturday | C7: Kūlolo | D7: 30 | E7: 0 | F7: =IF(OR(D7="",E7=""),"",D7-E7) -> 30 | G7: 8 | H7: =IF(OR(F7="",G7=""),"",F7*G7) -> 240 | I7: 10:50 | J7: Sunny
A8: 46291 | B8: Saturday | C8: Lilikoi butter | D8: 20 | E8: 8 | F8: =IF(OR(D8="",E8=""),"",D8-E8) -> 12 | G8: 12 | H8: =IF(OR(F8="",G8=""),"",F8*G8) -> 144 | J8: Sunny
A9: 46291 | B9: Saturday | C9: Taro sourdough | D9: 40 | E9: 0 | F9: =IF(OR(D9="",E9=""),"",D9-E9) -> 40 | G9: 10 | H9: =IF(OR(F9="",G9=""),"",F9*G9) -> 400 | I9: 10:10 | J9: Sunny
A10: 46295 | B10: Wednesday | C10: Taro chips | D10: 30 | E10: 12 | F10: =IF(OR(D10="",E10=""),"",D10-E10) -> 18 | G10: 6 | H10: =IF(OR(F10="",G10=""),"",F10*G10) -> 108 | J10: Cloudy
A11: 46295 | B11: Wednesday | C11: Kūlolo | D11: 15 | E11: 4 | F11: =IF(OR(D11="",E11=""),"",D11-E11) -> 11 | G11: 8 | H11: =IF(OR(F11="",G11=""),"",F11*G11) -> 88 | J11: Cloudy
A12: 46295 | B12: Wednesday | C12: Lilikoi butter | D12: 10 | E12: 6 | F12: =IF(OR(D12="",E12=""),"",D12-E12) -> 4 | G12: 12 | H12: =IF(OR(F12="",G12=""),"",F12*G12) -> 48 | J12: Cloudy
A13: 46295 | B13: Wednesday | C13: Taro sourdough | D13: 20 | E13: 3 | F13: =IF(OR(D13="",E13=""),"",D13-E13) -> 17 | G13: 10 | H13: =IF(OR(F13="",G13=""),"",F13*G13) -> 170 | J13: Cloudy
A14: 46298 | B14: Saturday | C14: Taro chips | D14: 60 | E14: 12 | F14: =IF(OR(D14="",E14=""),"",D14-E14) -> 48 | G14: 6 | H14: =IF(OR(F14="",G14=""),"",F14*G14) -> 288 | J14: Showers
A15: 46298 | B15: Saturday | C15: Kūlolo | D15: 30 | E15: 2 | F15: =IF(OR(D15="",E15=""),"",D15-E15) -> 28 | G15: 8 | H15: =IF(OR(F15="",G15=""),"",F15*G15) -> 224 | J15: Showers
A16: 46298 | B16: Saturday | C16: Lilikoi butter | D16: 20 | E16: 13 | F16: =IF(OR(D16="",E16=""),"",D16-E16) -> 7 | G16: 12 | H16: =IF(OR(F16="",G16=""),"",F16*G16) -> 84 | J16: Showers
A17: 46298 | B17: Saturday | C17: Taro sourdough | D17: 40 | E17: 2 | F17: =IF(OR(D17="",E17=""),"",D17-E17) -> 38 | G17: 10 | H17: =IF(OR(F17="",G17=""),"",F17*G17) -> 380 | J17: Showers
A18: 46302 | B18: Wednesday | C18: Taro chips | D18: 30 | E18: 8 | F18: =IF(OR(D18="",E18=""),"",D18-E18) -> 22 | G18: 6 | H18: =IF(OR(F18="",G18=""),"",F18*G18) -> 132 | J18: Sunny
A19: 46302 | B19: Wednesday | C19: Kūlolo | D19: 15 | E19: 0 | F19: =IF(OR(D19="",E19=""),"",D19-E19) -> 15 | G19: 8 | H19: =IF(OR(F19="",G19=""),"",F19*G19) -> 120 | I19: 5:40 pm | J19: Sunny
A20: 46302 | B20: Wednesday | C20: Lilikoi butter | D20: 10 | E20: 7 | F20: =IF(OR(D20="",E20=""),"",D20-E20) -> 3 | G20: 12 | H20: =IF(OR(F20="",G20=""),"",F20*G20) -> 36 | J20: Sunny
A21: 46302 | B21: Wednesday | C21: Taro sourdough | D21: 20 | E21: 0 | F21: =IF(OR(D21="",E21=""),"",D21-E21) -> 20 | G21: 10 | H21: =IF(OR(F21="",G21=""),"",F21*G21) -> 200 | I21: 6:05 pm | J21: Sunny
A22: 46305 | B22: Saturday | C22: Taro chips | D22: 60 | E22: 0 | F22: =IF(OR(D22="",E22=""),"",D22-E22) -> 60 | G22: 6 | H22: =IF(OR(F22="",G22=""),"",F22*G22) -> 360 | I22: 12:15 | J22: Sunny
A23: 46305 | B23: Saturday | C23: Kūlolo | D23: 30 | E23: 0 | F23: =IF(OR(D23="",E23=""),"",D23-E23) -> 30 | G23: 8 | H23: =IF(OR(F23="",G23=""),"",F23*G23) -> 240 | I23: 11:00 | J23: Sunny
A24: 46305 | B24: Saturday | C24: Lilikoi butter | D24: 20 | E24: 10 | F24: =IF(OR(D24="",E24=""),"",D24-E24) -> 10 | G24: 12 | H24: =IF(OR(F24="",G24=""),"",F24*G24) -> 120 | J24: Sunny
A25: 46305 | B25: Saturday | C25: Taro sourdough | D25: 40 | E25: 0 | F25: =IF(OR(D25="",E25=""),"",D25-E25) -> 40 | G25: 10 | H25: =IF(OR(F25="",G25=""),"",F25*G25) -> 400 | I25: 9:55 | J25: Sunny
F26: =IF(OR(D26="",E26=""),"",D26-E26) | H26: =IF(OR(F26="",G26=""),"",F26*G26)
F27: =IF(OR(D27="",E27=""),"",D27-E27) | H27: =IF(OR(F27="",G27=""),"",F27*G27)
F28: =IF(OR(D28="",E28=""),"",D28-E28) | H28: =IF(OR(F28="",G28=""),"",F28*G28)
F29: =IF(OR(D29="",E29=""),"",D29-E29) | H29: =IF(OR(F29="",G29=""),"",F29*G29)
F30: =IF(OR(D30="",E30=""),"",D30-E30) | H30: =IF(OR(F30="",G30=""),"",F30*G30)
F31: =IF(OR(D31="",E31=""),"",D31-E31) | H31: =IF(OR(F31="",G31=""),"",F31*G31)
F32: =IF(OR(D32="",E32=""),"",D32-E32) | H32: =IF(OR(F32="",G32=""),"",F32*G32)
F33: =IF(OR(D33="",E33=""),"",D33-E33) | H33: =IF(OR(F33="",G33=""),"",F33*G33)
F34: =IF(OR(D34="",E34=""),"",D34-E34) | H34: =IF(OR(F34="",G34=""),"",F34*G34)
F35: =IF(OR(D35="",E35=""),"",D35-E35) | H35: =IF(OR(F35="",G35=""),"",F35*G35)
F36: =IF(OR(D36="",E36=""),"",D36-E36) | H36: =IF(OR(F36="",G36=""),"",F36*G36)
F37: =IF(OR(D37="",E37=""),"",D37-E37) | H37: =IF(OR(F37="",G37=""),"",F37*G37)
... F400: =IF(OR(D400="",E400=""),"",D400-E400) | H400: =IF(OR(F400="",G400=""),"",F400*G400)

Sheet What to bring
A1: Market | B1: Product | C1: Market days | D1: Average brought | E1: Average sold | F1: Days sold out | G1: Suggested to bring
A2: Saturday | B2: Taro chips | C2: =COUNTIFS('Market log'!$B$2:$B$400,A2,'Market log'!$C$2:$C$400,B2) -> 4 | D2: =IF(C2=0,"",AVERAGEIFS('Market log'!$D$2:$D$400,'Market log'!$B$2:$B$400,A2,'Market log'!$C$2:$C$400,B2)) -> 60 | E2: =IF(C2=0,"",AVERAGEIFS('Market log'!$F$2:$F$400,'Market log'!$B$2:$B$400,A2,'Market log'!$C$2:$C$400,B2)) -> 55 | F2: =COUNTIFS('Market log'!$B$2:$B$400,A2,'Market log'!$C$2:$C$400,B2,'Market log'!$I$2:$I$400,"<>") -> 2 | G2: =IF(C2=0,"",IF(F2/C2>=$B$12,ROUNDUP(D2*(1+$B$13),0),ROUNDUP(E2*(1+$B$14),0))) -> 75
A3: Saturday | B3: Kūlolo | C3: =COUNTIFS('Market log'!$B$2:$B$400,A3,'Market log'!$C$2:$C$400,B3) -> 4 | D3: =IF(C3=0,"",AVERAGEIFS('Market log'!$D$2:$D$400,'Market log'!$B$2:$B$400,A3,'Market log'!$C$2:$C$400,B3)) -> 30 | E3: =IF(C3=0,"",AVERAGEIFS('Market log'!$F$2:$F$400,'Market log'!$B$2:$B$400,A3,'Market log'!$C$2:$C$400,B3)) -> 29.5 | F3: =COUNTIFS('Market log'!$B$2:$B$400,A3,'Market log'!$C$2:$C$400,B3,'Market log'!$I$2:$I$400,"<>") -> 3 | G3: =IF(C3=0,"",IF(F3/C3>=$B$12,ROUNDUP(D3*(1+$B$13),0),ROUNDUP(E3*(1+$B$14),0))) -> 38
A4: Saturday | B4: Lilikoi butter | C4: =COUNTIFS('Market log'!$B$2:$B$400,A4,'Market log'!$C$2:$C$400,B4) -> 4 | D4: =IF(C4=0,"",AVERAGEIFS('Market log'!$D$2:$D$400,'Market log'!$B$2:$B$400,A4,'Market log'!$C$2:$C$400,B4)) -> 20 | E4: =IF(C4=0,"",AVERAGEIFS('Market log'!$F$2:$F$400,'Market log'!$B$2:$B$400,A4,'Market log'!$C$2:$C$400,B4)) -> 9.5 | F4: =COUNTIFS('Market log'!$B$2:$B$400,A4,'Market log'!$C$2:$C$400,B4,'Market log'!$I$2:$I$400,"<>") -> 0 | G4: =IF(C4=0,"",IF(F4/C4>=$B$12,ROUNDUP(D4*(1+$B$13),0),ROUNDUP(E4*(1+$B$14),0))) -> 11
A5: Saturday | B5: Taro sourdough | C5: =COUNTIFS('Market log'!$B$2:$B$400,A5,'Market log'!$C$2:$C$400,B5) -> 4 | D5: =IF(C5=0,"",AVERAGEIFS('Market log'!$D$2:$D$400,'Market log'!$B$2:$B$400,A5,'Market log'!$C$2:$C$400,B5)) -> 40 | E5: =IF(C5=0,"",AVERAGEIFS('Market log'!$F$2:$F$400,'Market log'!$B$2:$B$400,A5,'Market log'!$C$2:$C$400,B5)) -> 39.5 | F5: =COUNTIFS('Market log'!$B$2:$B$400,A5,'Market log'!$C$2:$C$400,B5,'Market log'!$I$2:$I$400,"<>") -> 3 | G5: =IF(C5=0,"",IF(F5/C5>=$B$12,ROUNDUP(D5*(1+$B$13),0),ROUNDUP(E5*(1+$B$14),0))) -> 50
A6: Wednesday | B6: Taro chips | C6: =COUNTIFS('Market log'!$B$2:$B$400,A6,'Market log'!$C$2:$C$400,B6) -> 2 | D6: =IF(C6=0,"",AVERAGEIFS('Market log'!$D$2:$D$400,'Market log'!$B$2:$B$400,A6,'Market log'!$C$2:$C$400,B6)) -> 30 | E6: =IF(C6=0,"",AVERAGEIFS('Market log'!$F$2:$F$400,'Market log'!$B$2:$B$400,A6,'Market log'!$C$2:$C$400,B6)) -> 20 | F6: =COUNTIFS('Market log'!$B$2:$B$400,A6,'Market log'!$C$2:$C$400,B6,'Market log'!$I$2:$I$400,"<>") -> 0 | G6: =IF(C6=0,"",IF(F6/C6>=$B$12,ROUNDUP(D6*(1+$B$13),0),ROUNDUP(E6*(1+$B$14),0))) -> 23
A7: Wednesday | B7: Kūlolo | C7: =COUNTIFS('Market log'!$B$2:$B$400,A7,'Market log'!$C$2:$C$400,B7) -> 2 | D7: =IF(C7=0,"",AVERAGEIFS('Market log'!$D$2:$D$400,'Market log'!$B$2:$B$400,A7,'Market log'!$C$2:$C$400,B7)) -> 15 | E7: =IF(C7=0,"",AVERAGEIFS('Market log'!$F$2:$F$400,'Market log'!$B$2:$B$400,A7,'Market log'!$C$2:$C$400,B7)) -> 13 | F7: =COUNTIFS('Market log'!$B$2:$B$400,A7,'Market log'!$C$2:$C$400,B7,'Market log'!$I$2:$I$400,"<>") -> 1 | G7: =IF(C7=0,"",IF(F7/C7>=$B$12,ROUNDUP(D7*(1+$B$13),0),ROUNDUP(E7*(1+$B$14),0))) -> 19
A8: Wednesday | B8: Lilikoi butter | C8: =COUNTIFS('Market log'!$B$2:$B$400,A8,'Market log'!$C$2:$C$400,B8) -> 2 | D8: =IF(C8=0,"",AVERAGEIFS('Market log'!$D$2:$D$400,'Market log'!$B$2:$B$400,A8,'Market log'!$C$2:$C$400,B8)) -> 10 | E8: =IF(C8=0,"",AVERAGEIFS('Market log'!$F$2:$F$400,'Market log'!$B$2:$B$400,A8,'Market log'!$C$2:$C$400,B8)) -> 3.5 | F8: =COUNTIFS('Market log'!$B$2:$B$400,A8,'Market log'!$C$2:$C$400,B8,'Market log'!$I$2:$I$400,"<>") -> 0 | G8: =IF(C8=0,"",IF(F8/C8>=$B$12,ROUNDUP(D8*(1+$B$13),0),ROUNDUP(E8*(1+$B$14),0))) -> 5
A9: Wednesday | B9: Taro sourdough | C9: =COUNTIFS('Market log'!$B$2:$B$400,A9,'Market log'!$C$2:$C$400,B9) -> 2 | D9: =IF(C9=0,"",AVERAGEIFS('Market log'!$D$2:$D$400,'Market log'!$B$2:$B$400,A9,'Market log'!$C$2:$C$400,B9)) -> 20 | E9: =IF(C9=0,"",AVERAGEIFS('Market log'!$F$2:$F$400,'Market log'!$B$2:$B$400,A9,'Market log'!$C$2:$C$400,B9)) -> 18.5 | F9: =COUNTIFS('Market log'!$B$2:$B$400,A9,'Market log'!$C$2:$C$400,B9,'Market log'!$I$2:$I$400,"<>") -> 1 | G9: =IF(C9=0,"",IF(F9/C9>=$B$12,ROUNDUP(D9*(1+$B$13),0),ROUNDUP(E9*(1+$B$14),0))) -> 25
A12: Sold out on at least this share of days: bring more | B12: 0.5
A13: ...this much more than you brought | B13: 0.25
A14: Otherwise, average sold plus | B14: 0.15
A16: On a day you sell out, what sold is less than what you could have sold, so a product that often sells out gets more than its average.

Sheet Read me
A1: Farmers market sales tracker
A2: From the article: https://www.tarostack.com/articles/farmers-market-sales-tracker
A4: Market log: one row per product per market day: what you brought, what was left, the price, the time you sold out if you did, and the weather. Sold and sales work themselves out.
A5: What to bring: for each market and product, the average brought and sold, the days you sold out, and a suggestion for next time. A product that sold out on at least half its days gets 25% more than you've been bringing; the others get their average sale plus 15%. Change those three numbers to suit.
A7: Works in Excel (2010 and later), Google Sheets, LibreOffice and Numbers. No macros.
A8: Free to use and change. Made by TaroStack, inventory and production software for small producers: https://www.tarostack.com
