Workbook

Sheet Inputs
A1: Input | B1: Unit | C1: On hand | D1: Cost each | E1: Value | F1: Reorder point | G1: Status
A2: Organic fertilizer | B2: 50 lb bag | C2: 12 | D2: 38 | E2: =IF(OR(C2="",D2=""),"",ROUND(C2*D2,2)) -> 456 | F2: 6 | G2: =IF(OR(C2="",F2=""),"",IF(C2<=F2,"Reorder","OK")) -> OK
A3: Huli for replanting (own) | B3: each | C3: 400 | D3: 0 | E3: =IF(OR(C3="",D3=""),"",ROUND(C3*D3,2)) -> 0 | F3: 300 | G3: =IF(OR(C3="",F3=""),"",IF(C3<=F3,"Reorder","OK")) -> OK
A4: Produce boxes | B4: 40 lb box | C4: 150 | D4: 1.2 | E4: =IF(OR(C4="",D4=""),"",ROUND(C4*D4,2)) -> 180 | F4: 100 | G4: =IF(OR(C4="",F4=""),"",IF(C4<=F4,"Reorder","OK")) -> OK
A5: Chip bags, 5 oz | B5: each | C5: 2400 | D5: 0.18 | E5: =IF(OR(C5="",D5=""),"",ROUND(C5*D5,2)) -> 432 | F5: 1500 | G5: =IF(OR(C5="",F5=""),"",IF(C5<=F5,"Reorder","OK")) -> OK
A6: Frying oil | B6: 35 lb jug | C6: 3 | D6: 42 | E6: =IF(OR(C6="",D6=""),"",ROUND(C6*D6,2)) -> 126 | F6: 4 | G6: =IF(OR(C6="",F6=""),"",IF(C6<=F6,"Reorder","OK")) -> Reorder
A7: Sea salt | B7: kg | C7: 3 | D7: 1.8 | E7: =IF(OR(C7="",D7=""),"",ROUND(C7*D7,2)) -> 5.4 | F7: 2 | G7: =IF(OR(C7="",F7=""),"",IF(C7<=F7,"Reorder","OK")) -> OK
A8: Labels | B8: each | C8: 860 | D8: 0.06 | E8: =IF(OR(C8="",D8=""),"",ROUND(C8*D8,2)) -> 51.6 | F8: 420 | G8: =IF(OR(C8="",F8=""),"",IF(C8<=F8,"Reorder","OK")) -> OK
E9: =IF(OR(C9="",D9=""),"",ROUND(C9*D9,2)) | G9: =IF(OR(C9="",F9=""),"",IF(C9<=F9,"Reorder","OK"))
E10: =IF(OR(C10="",D10=""),"",ROUND(C10*D10,2)) | G10: =IF(OR(C10="",F10=""),"",IF(C10<=F10,"Reorder","OK"))
E11: =IF(OR(C11="",D11=""),"",ROUND(C11*D11,2)) | G11: =IF(OR(C11="",F11=""),"",IF(C11<=F11,"Reorder","OK"))
E12: =IF(OR(C12="",D12=""),"",ROUND(C12*D12,2)) | G12: =IF(OR(C12="",F12=""),"",IF(C12<=F12,"Reorder","OK"))
E13: =IF(OR(C13="",D13=""),"",ROUND(C13*D13,2)) | G13: =IF(OR(C13="",F13=""),"",IF(C13<=F13,"Reorder","OK"))
E14: =IF(OR(C14="",D14=""),"",ROUND(C14*D14,2)) | G14: =IF(OR(C14="",F14=""),"",IF(C14<=F14,"Reorder","OK"))
E15: =IF(OR(C15="",D15=""),"",ROUND(C15*D15,2)) | G15: =IF(OR(C15="",F15=""),"",IF(C15<=F15,"Reorder","OK"))
E16: =IF(OR(C16="",D16=""),"",ROUND(C16*D16,2)) | G16: =IF(OR(C16="",F16=""),"",IF(C16<=F16,"Reorder","OK"))
E17: =IF(OR(C17="",D17=""),"",ROUND(C17*D17,2)) | G17: =IF(OR(C17="",F17=""),"",IF(C17<=F17,"Reorder","OK"))
E18: =IF(OR(C18="",D18=""),"",ROUND(C18*D18,2)) | G18: =IF(OR(C18="",F18=""),"",IF(C18<=F18,"Reorder","OK"))
E19: =IF(OR(C19="",D19=""),"",ROUND(C19*D19,2)) | G19: =IF(OR(C19="",F19=""),"",IF(C19<=F19,"Reorder","OK"))
E20: =IF(OR(C20="",D20=""),"",ROUND(C20*D20,2)) | G20: =IF(OR(C20="",F20=""),"",IF(C20<=F20,"Reorder","OK"))
... E40: =IF(OR(C40="",D40=""),"",ROUND(C40*D40,2)) | G40: =IF(OR(C40="",F40=""),"",IF(C40<=F40,"Reorder","OK"))
A42: Value of inputs on hand | E42: =SUM(E2:E41) -> 1251

Sheet Harvest lots
A1: Lot | B1: Crop | C1: Block | D1: Harvested | E1: Total kg | F1: Grade A kg | G1: Grade B kg | H1: Cull kg | I1: Sold fresh kg | J1: Into products kg | K1: On hand kg | L1: Cost per kg | M1: Value on hand
A2: B2-1002 | B2: Taro | C2: Block 2 | D2: 46297 | E2: 240 | F2: 205 | G2: 25 | H2: 10 | I2: 90 | J2: =IF(A2="","",SUMIFS(Products!$E$2:$E$300,Products!$D$2:$D$300,A2)) -> 140 | K2: =IF(A2="","",N(F2)+N(G2)-N(I2)-N(J2)) -> 0 | L2: 1.1 | M2: =IF(OR(K2="",L2=""),"",ROUND(K2*L2,2)) -> 0
A3: B3-1009 | B3: Taro | C3: Block 3 | D3: 46304 | E3: 250 | F3: 212 | G3: 28 | H3: 10 | I3: 85 | J3: =IF(A3="","",SUMIFS(Products!$E$2:$E$300,Products!$D$2:$D$300,A3)) -> 140 | K3: =IF(A3="","",N(F3)+N(G3)-N(I3)-N(J3)) -> 15 | L3: 1.1 | M3: =IF(OR(K3="",L3=""),"",ROUND(K3*L3,2)) -> 16.5
A4: LK-1012 | B4: Lilikoi | C4: Fence line | D4: 46307 | E4: 30 | F4: 26 | G4: 3 | H4: 1 | I4: 10 | J4: =IF(A4="","",SUMIFS(Products!$E$2:$E$300,Products!$D$2:$D$300,A4)) -> 19 | K4: =IF(A4="","",N(F4)+N(G4)-N(I4)-N(J4)) -> 0 | L4: 2.5 | M4: =IF(OR(K4="",L4=""),"",ROUND(K4*L4,2)) -> 0
A5: B1-1016 | B5: Taro | C5: Block 1 | D5: 46311 | E5: 260 | F5: 220 | G5: 30 | H5: 10 | I5: 40 | J5: =IF(A5="","",SUMIFS(Products!$E$2:$E$300,Products!$D$2:$D$300,A5)) -> 50 | K5: =IF(A5="","",N(F5)+N(G5)-N(I5)-N(J5)) -> 160 | L5: 1.1 | M5: =IF(OR(K5="",L5=""),"",ROUND(K5*L5,2)) -> 176
J6: =IF(A6="","",SUMIFS(Products!$E$2:$E$300,Products!$D$2:$D$300,A6)) | K6: =IF(A6="","",N(F6)+N(G6)-N(I6)-N(J6)) | M6: =IF(OR(K6="",L6=""),"",ROUND(K6*L6,2))
J7: =IF(A7="","",SUMIFS(Products!$E$2:$E$300,Products!$D$2:$D$300,A7)) | K7: =IF(A7="","",N(F7)+N(G7)-N(I7)-N(J7)) | M7: =IF(OR(K7="",L7=""),"",ROUND(K7*L7,2))
J8: =IF(A8="","",SUMIFS(Products!$E$2:$E$300,Products!$D$2:$D$300,A8)) | K8: =IF(A8="","",N(F8)+N(G8)-N(I8)-N(J8)) | M8: =IF(OR(K8="",L8=""),"",ROUND(K8*L8,2))
J9: =IF(A9="","",SUMIFS(Products!$E$2:$E$300,Products!$D$2:$D$300,A9)) | K9: =IF(A9="","",N(F9)+N(G9)-N(I9)-N(J9)) | M9: =IF(OR(K9="",L9=""),"",ROUND(K9*L9,2))
J10: =IF(A10="","",SUMIFS(Products!$E$2:$E$300,Products!$D$2:$D$300,A10)) | K10: =IF(A10="","",N(F10)+N(G10)-N(I10)-N(J10)) | M10: =IF(OR(K10="",L10=""),"",ROUND(K10*L10,2))
J11: =IF(A11="","",SUMIFS(Products!$E$2:$E$300,Products!$D$2:$D$300,A11)) | K11: =IF(A11="","",N(F11)+N(G11)-N(I11)-N(J11)) | M11: =IF(OR(K11="",L11=""),"",ROUND(K11*L11,2))
J12: =IF(A12="","",SUMIFS(Products!$E$2:$E$300,Products!$D$2:$D$300,A12)) | K12: =IF(A12="","",N(F12)+N(G12)-N(I12)-N(J12)) | M12: =IF(OR(K12="",L12=""),"",ROUND(K12*L12,2))
J13: =IF(A13="","",SUMIFS(Products!$E$2:$E$300,Products!$D$2:$D$300,A13)) | K13: =IF(A13="","",N(F13)+N(G13)-N(I13)-N(J13)) | M13: =IF(OR(K13="",L13=""),"",ROUND(K13*L13,2))
J14: =IF(A14="","",SUMIFS(Products!$E$2:$E$300,Products!$D$2:$D$300,A14)) | K14: =IF(A14="","",N(F14)+N(G14)-N(I14)-N(J14)) | M14: =IF(OR(K14="",L14=""),"",ROUND(K14*L14,2))
J15: =IF(A15="","",SUMIFS(Products!$E$2:$E$300,Products!$D$2:$D$300,A15)) | K15: =IF(A15="","",N(F15)+N(G15)-N(I15)-N(J15)) | M15: =IF(OR(K15="",L15=""),"",ROUND(K15*L15,2))
J16: =IF(A16="","",SUMIFS(Products!$E$2:$E$300,Products!$D$2:$D$300,A16)) | K16: =IF(A16="","",N(F16)+N(G16)-N(I16)-N(J16)) | M16: =IF(OR(K16="",L16=""),"",ROUND(K16*L16,2))
J17: =IF(A17="","",SUMIFS(Products!$E$2:$E$300,Products!$D$2:$D$300,A17)) | K17: =IF(A17="","",N(F17)+N(G17)-N(I17)-N(J17)) | M17: =IF(OR(K17="",L17=""),"",ROUND(K17*L17,2))
... J60: =IF(A60="","",SUMIFS(Products!$E$2:$E$300,Products!$D$2:$D$300,A60)) | K60: =IF(A60="","",N(F60)+N(G60)-N(I60)-N(J60)) | M60: =IF(OR(K60="",L60=""),"",ROUND(K60*L60,2))
A62: Totals | E62: =SUM(E2:E61) -> 780 | K62: =SUM(K2:K61) -> 175 | M62: =SUM(M2:M61) -> 192.5
A64: On hand = grade A + grade B − sold fresh − into products. Into products adds up the Products sheet by lot. A negative number means a record is missing.

Sheet Products
A1: Batch | B1: Product | C1: Made | D1: Harvest lot used | E1: Harvest kg used | F1: Units made | G1: Unit | H1: Best by
A2: CH-1004 | B2: Taro chips, 5 oz | C2: 46299 | D2: B2-1002 | E2: 50 | F2: 140 | G2: bag | H2: 46389
A3: KU-1006 | B3: Kūlolo, 8 oz | C3: 46301 | D3: B2-1002 | E3: 12 | F3: 42 | G3: pack | H3: 46308
A4: PO-1007 | B4: Poi, 1 lb | C4: 46302 | D4: B2-1002 | E4: 78 | F4: 190 | G4: bag | H4: 46309
A5: CH-1011 | B5: Taro chips, 5 oz | C5: 46306 | D5: B3-1009 | E5: 75 | F5: 210 | G5: bag | H5: 46396
A6: KU-1013 | B6: Kūlolo, 8 oz | C6: 46308 | D6: B3-1009 | E6: 12 | F6: 42 | G6: pack | H6: 46315
A7: LB-1013 | B7: Lilikoi butter, 8 oz | C7: 46308 | D7: LK-1012 | E7: 19 | F7: 64 | G7: jar | H7: 46400
A8: PO-1014 | B8: Poi, 1 lb | C8: 46309 | D8: B3-1009 | E8: 53 | F8: 130 | G8: bag | H8: 46316
A9: CH-1017 | B9: Taro chips, 5 oz | C9: 46312 | D9: B1-1016 | E9: 50 | F9: 140 | G9: bag | H9: 46402

Sheet Read me
A1: Farm inventory template
A2: From the article: https://www.tarostack.com/articles/farm-inventory-template
A4: Inputs: what the farm buys or keeps to use: seed and planting material, fertilizer, packaging, supplies. On hand, cost each, value, and a Reorder flag at the reorder point.
A5: Harvest lots: one row per harvest, with a lot code, crop, block or field, date, total weight and grades. Sold fresh is typed; Into products adds up the Products sheet for that lot; On hand is what's left. Set a cost per kg if you value the harvest at what it cost to grow.
A6: Products: one row per batch made from the harvest, with the harvest lot it used, how much, what it made and its best-by date. A negative on-hand figure on Harvest lots means a sale or a batch wasn't recorded.
A7: Equipment and land are assets, not inventory, and aren't in this workbook. How a farm values inventory for tax is a question for your accountant.
A9: Works in Excel (2010 and later), Google Sheets, LibreOffice and Numbers. No macros.
A10: Free to use and change. Made by TaroStack, inventory and production software for small producers: https://www.tarostack.com
