Workbook

Sheet Inventory
A1: UPC or code | B1: Item | C1: Category | D1: Vendor | E1: Cost a unit | F1: Price | G1: Margin | H1: Par | I1: On hand | J1: To order | K1: Case pack | L1: Cases to order | M1: Order cost
A2: 0100001 | B2: Cola, 20 oz | C2: Beverages | D2: Soda route A (DSD) | E2: 1.15 | F2: 2.49 | G2: =IF(OR(E2="",N(F2)=0),"",(F2-E2)/F2) -> 0.53815261 | H2: 48 | I2: 22 | J2: =IF(OR(H2="",I2=""),"",MAX(0,H2-I2)) -> 26 | K2: 24 | L2: =IF(OR(J2="",N(K2)=0),"",ROUNDUP(J2/K2,0)) -> 2 | M2: =IF(L2="","",L2*K2*E2) -> 55.2
A3: 0100002 | B3: Lemon-lime soda, 20 oz | C3: Beverages | D3: Soda route B (DSD) | E3: 1.1 | F3: 2.49 | G3: =IF(OR(E3="",N(F3)=0),"",(F3-E3)/F3) -> 0.55823293 | H3: 24 | I3: 9 | J3: =IF(OR(H3="",I3=""),"",MAX(0,H3-I3)) -> 15 | K3: 24 | L3: =IF(OR(J3="",N(K3)=0),"",ROUNDUP(J3/K3,0)) -> 1 | M3: =IF(L3="","",L3*K3*E3) -> 26.4
A4: 0100003 | B4: Water, 16.9 oz | C4: Beverages | D4: Wholesale club | E4: 0.18 | F4: 1.29 | G4: =IF(OR(E4="",N(F4)=0),"",(F4-E4)/F4) -> 0.86046512 | H4: 48 | I4: 30 | J4: =IF(OR(H4="",I4=""),"",MAX(0,H4-I4)) -> 18 | K4: 24 | L4: =IF(OR(J4="",N(K4)=0),"",ROUNDUP(J4/K4,0)) -> 1 | M4: =IF(L4="","",L4*K4*E4) -> 4.32
A5: 0100004 | B5: Energy drink, 8.4 oz | C5: Beverages | D5: Distributor | E5: 1.45 | F5: 3.29 | G5: =IF(OR(E5="",N(F5)=0),"",(F5-E5)/F5) -> 0.55927052 | H5: 36 | I5: 11 | J5: =IF(OR(H5="",I5=""),"",MAX(0,H5-I5)) -> 25 | K5: 24 | L5: =IF(OR(J5="",N(K5)=0),"",ROUNDUP(J5/K5,0)) -> 2 | M5: =IF(L5="","",L5*K5*E5) -> 69.6
A6: 0200001 | B6: Potato chips, 2.6 oz | C6: Snacks | D6: Snack route (DSD) | E6: 0.95 | F6: 2.19 | G6: =IF(OR(E6="",N(F6)=0),"",(F6-E6)/F6) -> 0.56621005 | H6: 40 | I6: 26 | J6: =IF(OR(H6="",I6=""),"",MAX(0,H6-I6)) -> 14 | K6: 64 | L6: =IF(OR(J6="",N(K6)=0),"",ROUNDUP(J6/K6,0)) -> 1 | M6: =IF(L6="","",L6*K6*E6) -> 60.8
A7: 0300001 | B7: Chocolate bar | C7: Candy | D7: Distributor | E7: 0.85 | F7: 1.99 | G7: =IF(OR(E7="",N(F7)=0),"",(F7-E7)/F7) -> 0.57286432 | H7: 48 | I7: 17 | J7: =IF(OR(H7="",I7=""),"",MAX(0,H7-I7)) -> 31 | K7: 36 | L7: =IF(OR(J7="",N(K7)=0),"",ROUNDUP(J7/K7,0)) -> 1 | M7: =IF(L7="","",L7*K7*E7) -> 30.6
A8: 0300002 | B8: Gum, 15 pieces | C8: Candy | D8: Distributor | E8: 0.7 | F8: 1.79 | G8: =IF(OR(E8="",N(F8)=0),"",(F8-E8)/F8) -> 0.60893855 | H8: 24 | I8: 20 | J8: =IF(OR(H8="",I8=""),"",MAX(0,H8-I8)) -> 4 | K8: 10 | L8: =IF(OR(J8="",N(K8)=0),"",ROUNDUP(J8/K8,0)) -> 1 | M8: =IF(L8="","",L8*K8*E8) -> 7
A9: 0400001 | B9: Whole milk, gallon | C9: Dairy | D9: Dairy (DSD) | E9: 3.1 | F9: 4.29 | G9: =IF(OR(E9="",N(F9)=0),"",(F9-E9)/F9) -> 0.27738928 | H9: 18 | I9: 6 | J9: =IF(OR(H9="",I9=""),"",MAX(0,H9-I9)) -> 12 | K9: 4 | L9: =IF(OR(J9="",N(K9)=0),"",ROUNDUP(J9/K9,0)) -> 3 | M9: =IF(L9="","",L9*K9*E9) -> 37.2
A10: 0400002 | B10: Eggs, dozen | C10: Dairy | D10: Distributor | E10: 2.2 | F10: 3.99 | G10: =IF(OR(E10="",N(F10)=0),"",(F10-E10)/F10) -> 0.44862155 | H10: 12 | I10: 5 | J10: =IF(OR(H10="",I10=""),"",MAX(0,H10-I10)) -> 7 | K10: 15 | L10: =IF(OR(J10="",N(K10)=0),"",ROUNDUP(J10/K10,0)) -> 1 | M10: =IF(L10="","",L10*K10*E10) -> 33
A11: 0500001 | B11: White bread, loaf | C11: Bakery | D11: Bread vendor (DSD) | E11: 1.75 | F11: 3.29 | G11: =IF(OR(E11="",N(F11)=0),"",(F11-E11)/F11) -> 0.46808511 | H11: 12 | I11: 4 | J11: =IF(OR(H11="",I11=""),"",MAX(0,H11-I11)) -> 8 | K11: 12 | L11: =IF(OR(J11="",N(K11)=0),"",ROUNDUP(J11/K11,0)) -> 1 | M11: =IF(L11="","",L11*K11*E11) -> 21
A12: PB-JAR | B12: Local blueberry jam, 9 oz | C12: Local | D12: Maine maker | E12: 4.5 | F12: 8.99 | G12: =IF(OR(E12="",N(F12)=0),"",(F12-E12)/F12) -> 0.49944383 | H12: 6 | I12: 2 | J12: =IF(OR(H12="",I12=""),"",MAX(0,H12-I12)) -> 4 | K12: 12 | L12: =IF(OR(J12="",N(K12)=0),"",ROUNDUP(J12/K12,0)) -> 1 | M12: =IF(L12="","",L12*K12*E12) -> 54
A13: 0600001 | B13: Paper towels, 2 rolls | C13: Household | D13: Wholesale club | E13: 1.6 | F13: 3.49 | G13: =IF(OR(E13="",N(F13)=0),"",(F13-E13)/F13) -> 0.54154728 | H13: 12 | I13: 9 | J13: =IF(OR(H13="",I13=""),"",MAX(0,H13-I13)) -> 3 | K13: 12 | L13: =IF(OR(J13="",N(K13)=0),"",ROUNDUP(J13/K13,0)) -> 1 | M13: =IF(L13="","",L13*K13*E13) -> 19.2
A14: COFFEE-12 | B14: Coffee, 12 oz cup | C14: Coffee bar | D14: Roaster | E14: 0.42 | F14: 1.89 | G14: =IF(OR(E14="",N(F14)=0),"",(F14-E14)/F14) -> 0.77777778 | H14: 0 | I14: 0 | J14: =IF(OR(H14="",I14=""),"",MAX(0,H14-I14)) -> 0 | K14: 0 | L14: =IF(OR(J14="",N(K14)=0),"",ROUNDUP(J14/K14,0)) | M14: =IF(L14="","",L14*K14*E14)
G15: =IF(OR(E15="",N(F15)=0),"",(F15-E15)/F15) | J15: =IF(OR(H15="",I15=""),"",MAX(0,H15-I15)) | L15: =IF(OR(J15="",N(K15)=0),"",ROUNDUP(J15/K15,0)) | M15: =IF(L15="","",L15*K15*E15)
G16: =IF(OR(E16="",N(F16)=0),"",(F16-E16)/F16) | J16: =IF(OR(H16="",I16=""),"",MAX(0,H16-I16)) | L16: =IF(OR(J16="",N(K16)=0),"",ROUNDUP(J16/K16,0)) | M16: =IF(L16="","",L16*K16*E16)
G17: =IF(OR(E17="",N(F17)=0),"",(F17-E17)/F17) | J17: =IF(OR(H17="",I17=""),"",MAX(0,H17-I17)) | L17: =IF(OR(J17="",N(K17)=0),"",ROUNDUP(J17/K17,0)) | M17: =IF(L17="","",L17*K17*E17)
G18: =IF(OR(E18="",N(F18)=0),"",(F18-E18)/F18) | J18: =IF(OR(H18="",I18=""),"",MAX(0,H18-I18)) | L18: =IF(OR(J18="",N(K18)=0),"",ROUNDUP(J18/K18,0)) | M18: =IF(L18="","",L18*K18*E18)
G19: =IF(OR(E19="",N(F19)=0),"",(F19-E19)/F19) | J19: =IF(OR(H19="",I19=""),"",MAX(0,H19-I19)) | L19: =IF(OR(J19="",N(K19)=0),"",ROUNDUP(J19/K19,0)) | M19: =IF(L19="","",L19*K19*E19)
G20: =IF(OR(E20="",N(F20)=0),"",(F20-E20)/F20) | J20: =IF(OR(H20="",I20=""),"",MAX(0,H20-I20)) | L20: =IF(OR(J20="",N(K20)=0),"",ROUNDUP(J20/K20,0)) | M20: =IF(L20="","",L20*K20*E20)
G21: =IF(OR(E21="",N(F21)=0),"",(F21-E21)/F21) | J21: =IF(OR(H21="",I21=""),"",MAX(0,H21-I21)) | L21: =IF(OR(J21="",N(K21)=0),"",ROUNDUP(J21/K21,0)) | M21: =IF(L21="","",L21*K21*E21)
G22: =IF(OR(E22="",N(F22)=0),"",(F22-E22)/F22) | J22: =IF(OR(H22="",I22=""),"",MAX(0,H22-I22)) | L22: =IF(OR(J22="",N(K22)=0),"",ROUNDUP(J22/K22,0)) | M22: =IF(L22="","",L22*K22*E22)
G23: =IF(OR(E23="",N(F23)=0),"",(F23-E23)/F23) | J23: =IF(OR(H23="",I23=""),"",MAX(0,H23-I23)) | L23: =IF(OR(J23="",N(K23)=0),"",ROUNDUP(J23/K23,0)) | M23: =IF(L23="","",L23*K23*E23)
G24: =IF(OR(E24="",N(F24)=0),"",(F24-E24)/F24) | J24: =IF(OR(H24="",I24=""),"",MAX(0,H24-I24)) | L24: =IF(OR(J24="",N(K24)=0),"",ROUNDUP(J24/K24,0)) | M24: =IF(L24="","",L24*K24*E24)
G25: =IF(OR(E25="",N(F25)=0),"",(F25-E25)/F25) | J25: =IF(OR(H25="",I25=""),"",MAX(0,H25-I25)) | L25: =IF(OR(J25="",N(K25)=0),"",ROUNDUP(J25/K25,0)) | M25: =IF(L25="","",L25*K25*E25)
G26: =IF(OR(E26="",N(F26)=0),"",(F26-E26)/F26) | J26: =IF(OR(H26="",I26=""),"",MAX(0,H26-I26)) | L26: =IF(OR(J26="",N(K26)=0),"",ROUNDUP(J26/K26,0)) | M26: =IF(L26="","",L26*K26*E26)
... G300: =IF(OR(E300="",N(F300)=0),"",(F300-E300)/F300) | J300: =IF(OR(H300="",I300=""),"",MAX(0,H300-I300)) | L300: =IF(OR(J300="",N(K300)=0),"",ROUNDUP(J300/K300,0)) | M300: =IF(L300="","",L300*K300*E300)

Sheet Order by vendor
A1: Vendor | B1: Order cost
A2: Bread vendor (DSD) | B2: =SUMIF(Inventory!D$2:D$300,A2,Inventory!M$2:M$300) -> 21
A3: Dairy (DSD) | B3: =SUMIF(Inventory!D$2:D$300,A3,Inventory!M$2:M$300) -> 37.2
A4: Distributor | B4: =SUMIF(Inventory!D$2:D$300,A4,Inventory!M$2:M$300) -> 140.2
A5: Maine maker | B5: =SUMIF(Inventory!D$2:D$300,A5,Inventory!M$2:M$300) -> 54
A6: Roaster | B6: =SUMIF(Inventory!D$2:D$300,A6,Inventory!M$2:M$300) -> 0
A7: Snack route (DSD) | B7: =SUMIF(Inventory!D$2:D$300,A7,Inventory!M$2:M$300) -> 60.8
A8: Soda route A (DSD) | B8: =SUMIF(Inventory!D$2:D$300,A8,Inventory!M$2:M$300) -> 55.2
A9: Soda route B (DSD) | B9: =SUMIF(Inventory!D$2:D$300,A9,Inventory!M$2:M$300) -> 26.4
A10: Wholesale club | B10: =SUMIF(Inventory!D$2:D$300,A10,Inventory!M$2:M$300) -> 23.52
A12: This week's order | B12: =SUM(B2:B10) -> 418.32
A14: Vendors marked DSD deliver and stock their own items; check their counts against yours.

Sheet Read me
A1: Convenience store inventory spreadsheet
A2: From the article: https://www.tarostack.com/articles/convenience-store-inventory-spreadsheet
A4: Inventory: one line for each item with its UPC or code, category, vendor, cost, price, par level, what's on hand and the case pack. The margin, what to order to get back to par, the cases to order and the order cost fill in; items to order turn red.
A5: Order by vendor: this week's order cost for each vendor and in all.
A6: The example is the article's made-up corner store, with made-up item codes; use your own UPCs or codes.
A8: Works in Excel (2010 and later), Google Sheets, LibreOffice and Numbers. No macros.
A9: Free to use and change. Made by TaroStack, inventory and production software for small producers: https://www.tarostack.com
