Workbook

Sheet Weekly count
A1: Item | B1: Unit | C1: Par | D1: On hand | E1: Comes in cases of | F1: Order | G1: Cost per unit | H1: Value on hand | J1: Stock value
A2: Espresso beans | B2: lb | C2: 30 | D2: 12 | E2: 5 | F2: =IF(OR(A2="",C2=""),"",IF(N(D2)>=C2,0,ROUNDUP((C2-N(D2))/MAX(1,N(E2)),0)*MAX(1,N(E2)))) -> 20 | G2: 9.5 | H2: =IF(A2="","",ROUND(N(D2)*N(G2),2)) -> 114 | J2: =SUM(H2:H100) -> 365.8
A3: Whole milk | B3: gallon | C3: 24 | D3: 9 | E3: 4 | F3: =IF(OR(A3="",C3=""),"",IF(N(D3)>=C3,0,ROUNDUP((C3-N(D3))/MAX(1,N(E3)),0)*MAX(1,N(E3)))) -> 16 | G3: 4.2 | H3: =IF(A3="","",ROUND(N(D3)*N(G3),2)) -> 37.8
A4: Oat milk | B4: 32 oz carton | C4: 36 | D4: 14 | E4: 12 | F4: =IF(OR(A4="",C4=""),"",IF(N(D4)>=C4,0,ROUNDUP((C4-N(D4))/MAX(1,N(E4)),0)*MAX(1,N(E4)))) -> 24 | G4: 3.1 | H4: =IF(A4="","",ROUND(N(D4)*N(G4),2)) -> 43.4
A5: Vanilla syrup | B5: 750 ml bottle | C5: 6 | D5: 2 | E5: 1 | F5: =IF(OR(A5="",C5=""),"",IF(N(D5)>=C5,0,ROUNDUP((C5-N(D5))/MAX(1,N(E5)),0)*MAX(1,N(E5)))) -> 4 | G5: 8.5 | H5: =IF(A5="","",ROUND(N(D5)*N(G5),2)) -> 17
A6: Caramel sauce | B6: 64 oz bottle | C6: 3 | D6: 2 | E6: 1 | F6: =IF(OR(A6="",C6=""),"",IF(N(D6)>=C6,0,ROUNDUP((C6-N(D6))/MAX(1,N(E6)),0)*MAX(1,N(E6)))) -> 1 | G6: 14 | H6: =IF(A6="","",ROUND(N(D6)*N(G6),2)) -> 28
A7: Hot cups, 12 oz | B7: cup | C7: 1000 | D7: 420 | E7: 1000 | F7: =IF(OR(A7="",C7=""),"",IF(N(D7)>=C7,0,ROUNDUP((C7-N(D7))/MAX(1,N(E7)),0)*MAX(1,N(E7)))) -> 1000 | G7: 0.11 | H7: =IF(A7="","",ROUND(N(D7)*N(G7),2)) -> 46.2
A8: Hot lids | B8: lid | C8: 1000 | D8: 600 | E8: 1000 | F8: =IF(OR(A8="",C8=""),"",IF(N(D8)>=C8,0,ROUNDUP((C8-N(D8))/MAX(1,N(E8)),0)*MAX(1,N(E8)))) -> 1000 | G8: 0.05 | H8: =IF(A8="","",ROUND(N(D8)*N(G8),2)) -> 30
A9: Sleeves | B9: sleeve | C9: 1000 | D9: 380 | E9: 1000 | F9: =IF(OR(A9="",C9=""),"",IF(N(D9)>=C9,0,ROUNDUP((C9-N(D9))/MAX(1,N(E9)),0)*MAX(1,N(E9)))) -> 1000 | G9: 0.04 | H9: =IF(A9="","",ROUND(N(D9)*N(G9),2)) -> 15.2
A10: Cold cups, 16 oz | B10: cup | C10: 600 | D10: 150 | E10: 1000 | F10: =IF(OR(A10="",C10=""),"",IF(N(D10)>=C10,0,ROUNDUP((C10-N(D10))/MAX(1,N(E10)),0)*MAX(1,N(E10)))) -> 1000 | G10: 0.14 | H10: =IF(A10="","",ROUND(N(D10)*N(G10),2)) -> 21
A11: Cold lids and straws | B11: set | C11: 600 | D11: 220 | E11: 1000 | F11: =IF(OR(A11="",C11=""),"",IF(N(D11)>=C11,0,ROUNDUP((C11-N(D11))/MAX(1,N(E11)),0)*MAX(1,N(E11)))) -> 1000 | G11: 0.06 | H11: =IF(A11="","",ROUND(N(D11)*N(G11),2)) -> 13.2
F12: =IF(OR(A12="",C12=""),"",IF(N(D12)>=C12,0,ROUNDUP((C12-N(D12))/MAX(1,N(E12)),0)*MAX(1,N(E12)))) | H12: =IF(A12="","",ROUND(N(D12)*N(G12),2))
F13: =IF(OR(A13="",C13=""),"",IF(N(D13)>=C13,0,ROUNDUP((C13-N(D13))/MAX(1,N(E13)),0)*MAX(1,N(E13)))) | H13: =IF(A13="","",ROUND(N(D13)*N(G13),2))
F14: =IF(OR(A14="",C14=""),"",IF(N(D14)>=C14,0,ROUNDUP((C14-N(D14))/MAX(1,N(E14)),0)*MAX(1,N(E14)))) | H14: =IF(A14="","",ROUND(N(D14)*N(G14),2))
F15: =IF(OR(A15="",C15=""),"",IF(N(D15)>=C15,0,ROUNDUP((C15-N(D15))/MAX(1,N(E15)),0)*MAX(1,N(E15)))) | H15: =IF(A15="","",ROUND(N(D15)*N(G15),2))
F16: =IF(OR(A16="",C16=""),"",IF(N(D16)>=C16,0,ROUNDUP((C16-N(D16))/MAX(1,N(E16)),0)*MAX(1,N(E16)))) | H16: =IF(A16="","",ROUND(N(D16)*N(G16),2))
F17: =IF(OR(A17="",C17=""),"",IF(N(D17)>=C17,0,ROUNDUP((C17-N(D17))/MAX(1,N(E17)),0)*MAX(1,N(E17)))) | H17: =IF(A17="","",ROUND(N(D17)*N(G17),2))
F18: =IF(OR(A18="",C18=""),"",IF(N(D18)>=C18,0,ROUNDUP((C18-N(D18))/MAX(1,N(E18)),0)*MAX(1,N(E18)))) | H18: =IF(A18="","",ROUND(N(D18)*N(G18),2))
F19: =IF(OR(A19="",C19=""),"",IF(N(D19)>=C19,0,ROUNDUP((C19-N(D19))/MAX(1,N(E19)),0)*MAX(1,N(E19)))) | H19: =IF(A19="","",ROUND(N(D19)*N(G19),2))
F20: =IF(OR(A20="",C20=""),"",IF(N(D20)>=C20,0,ROUNDUP((C20-N(D20))/MAX(1,N(E20)),0)*MAX(1,N(E20)))) | H20: =IF(A20="","",ROUND(N(D20)*N(G20),2))
F21: =IF(OR(A21="",C21=""),"",IF(N(D21)>=C21,0,ROUNDUP((C21-N(D21))/MAX(1,N(E21)),0)*MAX(1,N(E21)))) | H21: =IF(A21="","",ROUND(N(D21)*N(G21),2))
F22: =IF(OR(A22="",C22=""),"",IF(N(D22)>=C22,0,ROUNDUP((C22-N(D22))/MAX(1,N(E22)),0)*MAX(1,N(E22)))) | H22: =IF(A22="","",ROUND(N(D22)*N(G22),2))
F23: =IF(OR(A23="",C23=""),"",IF(N(D23)>=C23,0,ROUNDUP((C23-N(D23))/MAX(1,N(E23)),0)*MAX(1,N(E23)))) | H23: =IF(A23="","",ROUND(N(D23)*N(G23),2))
... F100: =IF(OR(A100="",C100=""),"",IF(N(D100)>=C100,0,ROUNDUP((C100-N(D100))/MAX(1,N(E100)),0)*MAX(1,N(E100)))) | H100: =IF(A100="","",ROUND(N(D100)*N(G100),2))

Sheet Drink costs
A1: Drink | B1: Espresso or coffee, g | C1: Milk, oz | D1: Milk | E1: Syrup, oz | F1: Cup, lid, sleeve | G1: Cost | H1: Price | I1: Margin
A2: Latte, 12 oz | B2: 18 | C2: 10 | D2: Whole milk | E2: 0 | F2: 0.2 | G2: =IF(A2="","",ROUND(N(B2)*IFERROR(VLOOKUP("Espresso beans",'Weekly count'!$A$2:$G$100,7,FALSE),0)/453.6+N(C2)*IF(D2="Whole milk",IFERROR(VLOOKUP("Whole milk",'Weekly count'!$A$2:$G$100,7,FALSE),0)/128,IF(D2="Oat milk",IFERROR(VLOOKUP("Oat milk",'Weekly count'!$A$2:$G$100,7,FALSE),0)/32,0))+N(E2)*IFERROR(VLOOKUP("Vanilla syrup",'Weekly count'!$A$2:$G$100,7,FALSE),0)/25.36+N(F2),2)) -> 0.91 | H2: 5 | I2: =IF(OR(A2="",N(H2)=0),"",(H2-G2)/H2) -> 0.818
A3: Oat latte, 12 oz | B3: 18 | C3: 10 | D3: Oat milk | E3: 0 | F3: 0.2 | G3: =IF(A3="","",ROUND(N(B3)*IFERROR(VLOOKUP("Espresso beans",'Weekly count'!$A$2:$G$100,7,FALSE),0)/453.6+N(C3)*IF(D3="Whole milk",IFERROR(VLOOKUP("Whole milk",'Weekly count'!$A$2:$G$100,7,FALSE),0)/128,IF(D3="Oat milk",IFERROR(VLOOKUP("Oat milk",'Weekly count'!$A$2:$G$100,7,FALSE),0)/32,0))+N(E3)*IFERROR(VLOOKUP("Vanilla syrup",'Weekly count'!$A$2:$G$100,7,FALSE),0)/25.36+N(F3),2)) -> 1.55 | H3: 5.75 | I3: =IF(OR(A3="",N(H3)=0),"",(H3-G3)/H3) -> 0.73043478
A4: Vanilla latte, 12 oz | B4: 18 | C4: 10 | D4: Whole milk | E4: 1 | F4: 0.2 | G4: =IF(A4="","",ROUND(N(B4)*IFERROR(VLOOKUP("Espresso beans",'Weekly count'!$A$2:$G$100,7,FALSE),0)/453.6+N(C4)*IF(D4="Whole milk",IFERROR(VLOOKUP("Whole milk",'Weekly count'!$A$2:$G$100,7,FALSE),0)/128,IF(D4="Oat milk",IFERROR(VLOOKUP("Oat milk",'Weekly count'!$A$2:$G$100,7,FALSE),0)/32,0))+N(E4)*IFERROR(VLOOKUP("Vanilla syrup",'Weekly count'!$A$2:$G$100,7,FALSE),0)/25.36+N(F4),2)) -> 1.24 | H4: 5.75 | I4: =IF(OR(A4="",N(H4)=0),"",(H4-G4)/H4) -> 0.78434783
A5: Drip coffee, 12 oz | B5: 20 | C5: 0 | E5: 0 | F5: 0.2 | G5: =IF(A5="","",ROUND(N(B5)*IFERROR(VLOOKUP("Espresso beans",'Weekly count'!$A$2:$G$100,7,FALSE),0)/453.6+N(C5)*IF(D5="Whole milk",IFERROR(VLOOKUP("Whole milk",'Weekly count'!$A$2:$G$100,7,FALSE),0)/128,IF(D5="Oat milk",IFERROR(VLOOKUP("Oat milk",'Weekly count'!$A$2:$G$100,7,FALSE),0)/32,0))+N(E5)*IFERROR(VLOOKUP("Vanilla syrup",'Weekly count'!$A$2:$G$100,7,FALSE),0)/25.36+N(F5),2)) -> 0.62 | H5: 3.25 | I5: =IF(OR(A5="",N(H5)=0),"",(H5-G5)/H5) -> 0.80923077
A6: Iced latte, 16 oz | B6: 18 | C6: 10 | D6: Whole milk | E6: 0 | F6: 0.2 | G6: =IF(A6="","",ROUND(N(B6)*IFERROR(VLOOKUP("Espresso beans",'Weekly count'!$A$2:$G$100,7,FALSE),0)/453.6+N(C6)*IF(D6="Whole milk",IFERROR(VLOOKUP("Whole milk",'Weekly count'!$A$2:$G$100,7,FALSE),0)/128,IF(D6="Oat milk",IFERROR(VLOOKUP("Oat milk",'Weekly count'!$A$2:$G$100,7,FALSE),0)/32,0))+N(E6)*IFERROR(VLOOKUP("Vanilla syrup",'Weekly count'!$A$2:$G$100,7,FALSE),0)/25.36+N(F6),2)) -> 0.91 | H6: 5.5 | I6: =IF(OR(A6="",N(H6)=0),"",(H6-G6)/H6) -> 0.83454545
G7: =IF(A7="","",ROUND(N(B7)*IFERROR(VLOOKUP("Espresso beans",'Weekly count'!$A$2:$G$100,7,FALSE),0)/453.6+N(C7)*IF(D7="Whole milk",IFERROR(VLOOKUP("Whole milk",'Weekly count'!$A$2:$G$100,7,FALSE),0)/128,IF(D7="Oat milk",IFERROR(VLOOKUP("Oat milk",'Weekly count'!$A$2:$G$100,7,FALSE),0)/32,0))+N(E7)*IFERROR(VLOOKUP("Vanilla syrup",'Weekly count'!$A$2:$G$100,7,FALSE),0)/25.36+N(F7),2)) | I7: =IF(OR(A7="",N(H7)=0),"",(H7-G7)/H7)
G8: =IF(A8="","",ROUND(N(B8)*IFERROR(VLOOKUP("Espresso beans",'Weekly count'!$A$2:$G$100,7,FALSE),0)/453.6+N(C8)*IF(D8="Whole milk",IFERROR(VLOOKUP("Whole milk",'Weekly count'!$A$2:$G$100,7,FALSE),0)/128,IF(D8="Oat milk",IFERROR(VLOOKUP("Oat milk",'Weekly count'!$A$2:$G$100,7,FALSE),0)/32,0))+N(E8)*IFERROR(VLOOKUP("Vanilla syrup",'Weekly count'!$A$2:$G$100,7,FALSE),0)/25.36+N(F8),2)) | I8: =IF(OR(A8="",N(H8)=0),"",(H8-G8)/H8)
G9: =IF(A9="","",ROUND(N(B9)*IFERROR(VLOOKUP("Espresso beans",'Weekly count'!$A$2:$G$100,7,FALSE),0)/453.6+N(C9)*IF(D9="Whole milk",IFERROR(VLOOKUP("Whole milk",'Weekly count'!$A$2:$G$100,7,FALSE),0)/128,IF(D9="Oat milk",IFERROR(VLOOKUP("Oat milk",'Weekly count'!$A$2:$G$100,7,FALSE),0)/32,0))+N(E9)*IFERROR(VLOOKUP("Vanilla syrup",'Weekly count'!$A$2:$G$100,7,FALSE),0)/25.36+N(F9),2)) | I9: =IF(OR(A9="",N(H9)=0),"",(H9-G9)/H9)
G10: =IF(A10="","",ROUND(N(B10)*IFERROR(VLOOKUP("Espresso beans",'Weekly count'!$A$2:$G$100,7,FALSE),0)/453.6+N(C10)*IF(D10="Whole milk",IFERROR(VLOOKUP("Whole milk",'Weekly count'!$A$2:$G$100,7,FALSE),0)/128,IF(D10="Oat milk",IFERROR(VLOOKUP("Oat milk",'Weekly count'!$A$2:$G$100,7,FALSE),0)/32,0))+N(E10)*IFERROR(VLOOKUP("Vanilla syrup",'Weekly count'!$A$2:$G$100,7,FALSE),0)/25.36+N(F10),2)) | I10: =IF(OR(A10="",N(H10)=0),"",(H10-G10)/H10)
G11: =IF(A11="","",ROUND(N(B11)*IFERROR(VLOOKUP("Espresso beans",'Weekly count'!$A$2:$G$100,7,FALSE),0)/453.6+N(C11)*IF(D11="Whole milk",IFERROR(VLOOKUP("Whole milk",'Weekly count'!$A$2:$G$100,7,FALSE),0)/128,IF(D11="Oat milk",IFERROR(VLOOKUP("Oat milk",'Weekly count'!$A$2:$G$100,7,FALSE),0)/32,0))+N(E11)*IFERROR(VLOOKUP("Vanilla syrup",'Weekly count'!$A$2:$G$100,7,FALSE),0)/25.36+N(F11),2)) | I11: =IF(OR(A11="",N(H11)=0),"",(H11-G11)/H11)
G12: =IF(A12="","",ROUND(N(B12)*IFERROR(VLOOKUP("Espresso beans",'Weekly count'!$A$2:$G$100,7,FALSE),0)/453.6+N(C12)*IF(D12="Whole milk",IFERROR(VLOOKUP("Whole milk",'Weekly count'!$A$2:$G$100,7,FALSE),0)/128,IF(D12="Oat milk",IFERROR(VLOOKUP("Oat milk",'Weekly count'!$A$2:$G$100,7,FALSE),0)/32,0))+N(E12)*IFERROR(VLOOKUP("Vanilla syrup",'Weekly count'!$A$2:$G$100,7,FALSE),0)/25.36+N(F12),2)) | I12: =IF(OR(A12="",N(H12)=0),"",(H12-G12)/H12)
G13: =IF(A13="","",ROUND(N(B13)*IFERROR(VLOOKUP("Espresso beans",'Weekly count'!$A$2:$G$100,7,FALSE),0)/453.6+N(C13)*IF(D13="Whole milk",IFERROR(VLOOKUP("Whole milk",'Weekly count'!$A$2:$G$100,7,FALSE),0)/128,IF(D13="Oat milk",IFERROR(VLOOKUP("Oat milk",'Weekly count'!$A$2:$G$100,7,FALSE),0)/32,0))+N(E13)*IFERROR(VLOOKUP("Vanilla syrup",'Weekly count'!$A$2:$G$100,7,FALSE),0)/25.36+N(F13),2)) | I13: =IF(OR(A13="",N(H13)=0),"",(H13-G13)/H13)
G14: =IF(A14="","",ROUND(N(B14)*IFERROR(VLOOKUP("Espresso beans",'Weekly count'!$A$2:$G$100,7,FALSE),0)/453.6+N(C14)*IF(D14="Whole milk",IFERROR(VLOOKUP("Whole milk",'Weekly count'!$A$2:$G$100,7,FALSE),0)/128,IF(D14="Oat milk",IFERROR(VLOOKUP("Oat milk",'Weekly count'!$A$2:$G$100,7,FALSE),0)/32,0))+N(E14)*IFERROR(VLOOKUP("Vanilla syrup",'Weekly count'!$A$2:$G$100,7,FALSE),0)/25.36+N(F14),2)) | I14: =IF(OR(A14="",N(H14)=0),"",(H14-G14)/H14)
G15: =IF(A15="","",ROUND(N(B15)*IFERROR(VLOOKUP("Espresso beans",'Weekly count'!$A$2:$G$100,7,FALSE),0)/453.6+N(C15)*IF(D15="Whole milk",IFERROR(VLOOKUP("Whole milk",'Weekly count'!$A$2:$G$100,7,FALSE),0)/128,IF(D15="Oat milk",IFERROR(VLOOKUP("Oat milk",'Weekly count'!$A$2:$G$100,7,FALSE),0)/32,0))+N(E15)*IFERROR(VLOOKUP("Vanilla syrup",'Weekly count'!$A$2:$G$100,7,FALSE),0)/25.36+N(F15),2)) | I15: =IF(OR(A15="",N(H15)=0),"",(H15-G15)/H15)
G16: =IF(A16="","",ROUND(N(B16)*IFERROR(VLOOKUP("Espresso beans",'Weekly count'!$A$2:$G$100,7,FALSE),0)/453.6+N(C16)*IF(D16="Whole milk",IFERROR(VLOOKUP("Whole milk",'Weekly count'!$A$2:$G$100,7,FALSE),0)/128,IF(D16="Oat milk",IFERROR(VLOOKUP("Oat milk",'Weekly count'!$A$2:$G$100,7,FALSE),0)/32,0))+N(E16)*IFERROR(VLOOKUP("Vanilla syrup",'Weekly count'!$A$2:$G$100,7,FALSE),0)/25.36+N(F16),2)) | I16: =IF(OR(A16="",N(H16)=0),"",(H16-G16)/H16)
G17: =IF(A17="","",ROUND(N(B17)*IFERROR(VLOOKUP("Espresso beans",'Weekly count'!$A$2:$G$100,7,FALSE),0)/453.6+N(C17)*IF(D17="Whole milk",IFERROR(VLOOKUP("Whole milk",'Weekly count'!$A$2:$G$100,7,FALSE),0)/128,IF(D17="Oat milk",IFERROR(VLOOKUP("Oat milk",'Weekly count'!$A$2:$G$100,7,FALSE),0)/32,0))+N(E17)*IFERROR(VLOOKUP("Vanilla syrup",'Weekly count'!$A$2:$G$100,7,FALSE),0)/25.36+N(F17),2)) | I17: =IF(OR(A17="",N(H17)=0),"",(H17-G17)/H17)
G18: =IF(A18="","",ROUND(N(B18)*IFERROR(VLOOKUP("Espresso beans",'Weekly count'!$A$2:$G$100,7,FALSE),0)/453.6+N(C18)*IF(D18="Whole milk",IFERROR(VLOOKUP("Whole milk",'Weekly count'!$A$2:$G$100,7,FALSE),0)/128,IF(D18="Oat milk",IFERROR(VLOOKUP("Oat milk",'Weekly count'!$A$2:$G$100,7,FALSE),0)/32,0))+N(E18)*IFERROR(VLOOKUP("Vanilla syrup",'Weekly count'!$A$2:$G$100,7,FALSE),0)/25.36+N(F18),2)) | I18: =IF(OR(A18="",N(H18)=0),"",(H18-G18)/H18)
... G40: =IF(A40="","",ROUND(N(B40)*IFERROR(VLOOKUP("Espresso beans",'Weekly count'!$A$2:$G$100,7,FALSE),0)/453.6+N(C40)*IF(D40="Whole milk",IFERROR(VLOOKUP("Whole milk",'Weekly count'!$A$2:$G$100,7,FALSE),0)/128,IF(D40="Oat milk",IFERROR(VLOOKUP("Oat milk",'Weekly count'!$A$2:$G$100,7,FALSE),0)/32,0))+N(E40)*IFERROR(VLOOKUP("Vanilla syrup",'Weekly count'!$A$2:$G$100,7,FALSE),0)/25.36+N(F40),2)) | I40: =IF(OR(A40="",N(H40)=0),"",(H40-G40)/H40)

Sheet Read me
A1: Coffee shop inventory spreadsheet
A2: From the article: https://www.tarostack.com/articles/coffee-shop-inventory-spreadsheet
A4: Weekly count: each item, its unit, its par (how much you want on hand after a delivery), what you counted, and the case size. Order works out what to order to get back to par, rounded up to whole cases; Value on hand is the count at cost.
A5: Drink costs: each drink's recipe, grams of coffee, ounces of milk and syrup, and the cup, lid and sleeve. Its cost comes from the prices on the Weekly count sheet, so when milk goes up, every drink's cost follows. Margin is against your menu price.
A6: Set par from a normal week's use plus what you'd use before the next delivery. Count at the same time every week, before the delivery.
A8: Works in Excel (2010 and later), Google Sheets, LibreOffice and Numbers. No macros.
A9: Free to use and change. Made by TaroStack, inventory and production software for small producers: https://www.tarostack.com
