Workbook

Sheet Order lines
A1: Order | B1: Customer | C1: Item | D1: Ordered | E1: Shipped at first | F1: Owed | G1: Promised | H1: Rest shipped | I1: Days late
A2: W-1040 | B2: Waimea Gift Co. | C2: Plumeria jar | D2: 12 | E2: 12 | F2: =IF(OR(D2="",E2=""),"",D2-E2) -> 0 | G2: 46298 | I2: =IF(OR(F2="",F2=0,G2=""),"",IF(H2<>"",MAX(0,H2-G2),IF(TODAY()>G2,TODAY()-G2,0)))
A3: W-1040 | B3: Waimea Gift Co. | C3: Ginger lei jar | D3: 24 | E3: 24 | F3: =IF(OR(D3="",E3=""),"",D3-E3) -> 0 | G3: 46298 | I3: =IF(OR(F3="",F3=0,G3=""),"",IF(H3<>"",MAX(0,H3-G3),IF(TODAY()>G3,TODAY()-G3,0)))
A4: W-1040 | B4: Waimea Gift Co. | C4: Coconut lime tin | D4: 30 | E4: 30 | F4: =IF(OR(D4="",E4=""),"",D4-E4) -> 0 | G4: 46298 | I4: =IF(OR(F4="",F4=0,G4=""),"",IF(H4<>"",MAX(0,H4-G4),IF(TODAY()>G4,TODAY()-G4,0)))
A5: W-1041 | B5: Kailua Gift House | C5: Plumeria jar | D5: 24 | E5: 12 | F5: =IF(OR(D5="",E5=""),"",D5-E5) -> 12 | G5: 46319 | H5: 46319 | I5: =IF(OR(F5="",F5=0,G5=""),"",IF(H5<>"",MAX(0,H5-G5),IF(TODAY()>G5,TODAY()-G5,0))) -> 0
A6: W-1041 | B6: Kailua Gift House | C6: Ginger lei jar | D6: 12 | E6: 12 | F6: =IF(OR(D6="",E6=""),"",D6-E6) -> 0 | G6: 46305 | I6: =IF(OR(F6="",F6=0,G6=""),"",IF(H6<>"",MAX(0,H6-G6),IF(TODAY()>G6,TODAY()-G6,0)))
A7: W-1041 | B7: Kailua Gift House | C7: Pikake tin | D7: 24 | E7: 24 | F7: =IF(OR(D7="",E7=""),"",D7-E7) -> 0 | G7: 46305 | I7: =IF(OR(F7="",F7=0,G7=""),"",IF(H7<>"",MAX(0,H7-G7),IF(TODAY()>G7,TODAY()-G7,0)))
A8: W-1042 | B8: Kahala Boutique | C8: Ginger lei jar | D8: 18 | E8: 18 | F8: =IF(OR(D8="",E8=""),"",D8-E8) -> 0 | G8: 46301 | I8: =IF(OR(F8="",F8=0,G8=""),"",IF(H8<>"",MAX(0,H8-G8),IF(TODAY()>G8,TODAY()-G8,0)))
A9: W-1042 | B9: Kahala Boutique | C9: Pikake jar | D9: 12 | E9: 12 | F9: =IF(OR(D9="",E9=""),"",D9-E9) -> 0 | G9: 46301 | I9: =IF(OR(F9="",F9=0,G9=""),"",IF(H9<>"",MAX(0,H9-G9),IF(TODAY()>G9,TODAY()-G9,0)))
A10: W-1043 | B10: Hilo Home Shop | C10: Coconut lime jar | D10: 24 | E10: 24 | F10: =IF(OR(D10="",E10=""),"",D10-E10) -> 0 | G10: 46302 | I10: =IF(OR(F10="",F10=0,G10=""),"",IF(H10<>"",MAX(0,H10-G10),IF(TODAY()>G10,TODAY()-G10,0)))
A11: W-1043 | B11: Hilo Home Shop | C11: Plumeria tin | D11: 30 | E11: 30 | F11: =IF(OR(D11="",E11=""),"",D11-E11) -> 0 | G11: 46302 | I11: =IF(OR(F11="",F11=0,G11=""),"",IF(H11<>"",MAX(0,H11-G11),IF(TODAY()>G11,TODAY()-G11,0)))
A12: W-1043 | B12: Hilo Home Shop | C12: Ginger lei two-wick | D12: 6 | E12: 6 | F12: =IF(OR(D12="",E12=""),"",D12-E12) -> 0 | G12: 46302 | I12: =IF(OR(F12="",F12=0,G12=""),"",IF(H12<>"",MAX(0,H12-G12),IF(TODAY()>G12,TODAY()-G12,0)))
A13: W-1044 | B13: Haleiwa Surf & Sundry | C13: Plumeria jar | D13: 18 | E13: 0 | F13: =IF(OR(D13="",E13=""),"",D13-E13) -> 18 | G13: 46319 | H13: 46319 | I13: =IF(OR(F13="",F13=0,G13=""),"",IF(H13<>"",MAX(0,H13-G13),IF(TODAY()>G13,TODAY()-G13,0))) -> 0
A14: W-1044 | B14: Haleiwa Surf & Sundry | C14: Coconut lime tin | D14: 24 | E14: 24 | F14: =IF(OR(D14="",E14=""),"",D14-E14) -> 0 | G14: 46304 | I14: =IF(OR(F14="",F14=0,G14=""),"",IF(H14<>"",MAX(0,H14-G14),IF(TODAY()>G14,TODAY()-G14,0)))
A15: W-1045 | B15: Kaimukī Gift Bar | C15: Pikake jar | D15: 12 | E15: 12 | F15: =IF(OR(D15="",E15=""),"",D15-E15) -> 0 | G15: 46304 | I15: =IF(OR(F15="",F15=0,G15=""),"",IF(H15<>"",MAX(0,H15-G15),IF(TODAY()>G15,TODAY()-G15,0)))
A16: W-1045 | B16: Kaimukī Gift Bar | C16: Ginger lei tin | D16: 18 | E16: 18 | F16: =IF(OR(D16="",E16=""),"",D16-E16) -> 0 | G16: 46304 | I16: =IF(OR(F16="",F16=0,G16=""),"",IF(H16<>"",MAX(0,H16-G16),IF(TODAY()>G16,TODAY()-G16,0)))
A17: W-1046 | B17: Waikīkī hotel gift shop | C17: Plumeria jar | D17: 12 | E17: 12 | F17: =IF(OR(D17="",E17=""),"",D17-E17) -> 0 | G17: 46300 | I17: =IF(OR(F17="",F17=0,G17=""),"",IF(H17<>"",MAX(0,H17-G17),IF(TODAY()>G17,TODAY()-G17,0)))
A18: W-1046 | B18: Waikīkī hotel gift shop | C18: Ginger lei jar | D18: 24 | E18: 24 | F18: =IF(OR(D18="",E18=""),"",D18-E18) -> 0 | G18: 46300 | I18: =IF(OR(F18="",F18=0,G18=""),"",IF(H18<>"",MAX(0,H18-G18),IF(TODAY()>G18,TODAY()-G18,0)))
A19: W-1046 | B19: Waikīkī hotel gift shop | C19: Coconut lime two-wick | D19: 6 | E19: 6 | F19: =IF(OR(D19="",E19=""),"",D19-E19) -> 0 | G19: 46300 | I19: =IF(OR(F19="",F19=0,G19=""),"",IF(H19<>"",MAX(0,H19-G19),IF(TODAY()>G19,TODAY()-G19,0)))
A20: W-1047 | B20: Mānoa Home Goods | C20: Plumeria jar | D20: 12 | E20: 6 | F20: =IF(OR(D20="",E20=""),"",D20-E20) -> 6 | G20: 46309 | H20: 46319 | I20: =IF(OR(F20="",F20=0,G20=""),"",IF(H20<>"",MAX(0,H20-G20),IF(TODAY()>G20,TODAY()-G20,0))) -> 10
A21: W-1047 | B21: Mānoa Home Goods | C21: Pikake tin | D21: 18 | E21: 18 | F21: =IF(OR(D21="",E21=""),"",D21-E21) -> 0 | G21: 46309 | I21: =IF(OR(F21="",F21=0,G21=""),"",IF(H21<>"",MAX(0,H21-G21),IF(TODAY()>G21,TODAY()-G21,0)))
A22: W-1048 | B22: Lanikai Linens | C22: Ginger lei jar | D22: 12 | E22: 12 | F22: =IF(OR(D22="",E22=""),"",D22-E22) -> 0 | G22: 46310 | I22: =IF(OR(F22="",F22=0,G22=""),"",IF(H22<>"",MAX(0,H22-G22),IF(TODAY()>G22,TODAY()-G22,0)))
A23: W-1048 | B23: Lanikai Linens | C23: Coconut lime jar | D23: 12 | E23: 12 | F23: =IF(OR(D23="",E23=""),"",D23-E23) -> 0 | G23: 46310 | I23: =IF(OR(F23="",F23=0,G23=""),"",IF(H23<>"",MAX(0,H23-G23),IF(TODAY()>G23,TODAY()-G23,0)))
A24: W-1048 | B24: Lanikai Linens | C24: Pikake tin | D24: 24 | E24: 24 | F24: =IF(OR(D24="",E24=""),"",D24-E24) -> 0 | G24: 46310 | I24: =IF(OR(F24="",F24=0,G24=""),"",IF(H24<>"",MAX(0,H24-G24),IF(TODAY()>G24,TODAY()-G24,0)))
A25: W-1049 | B25: Kapolei Market Gifts | C25: Coconut lime two-wick | D25: 6 | E25: 4 | F25: =IF(OR(D25="",E25=""),"",D25-E25) -> 2 | G25: 46316 | H25: 46317 | I25: =IF(OR(F25="",F25=0,G25=""),"",IF(H25<>"",MAX(0,H25-G25),IF(TODAY()>G25,TODAY()-G25,0))) -> 1
A26: W-1049 | B26: Kapolei Market Gifts | C26: Ginger lei jar | D26: 12 | E26: 12 | F26: =IF(OR(D26="",E26=""),"",D26-E26) -> 0 | G26: 46316 | I26: =IF(OR(F26="",F26=0,G26=""),"",IF(H26<>"",MAX(0,H26-G26),IF(TODAY()>G26,TODAY()-G26,0)))
A27: W-1050 | B27: Aiea Florist | C27: Pikake jar | D27: 12 | E27: 12 | F27: =IF(OR(D27="",E27=""),"",D27-E27) -> 0 | G27: 46317 | I27: =IF(OR(F27="",F27=0,G27=""),"",IF(H27<>"",MAX(0,H27-G27),IF(TODAY()>G27,TODAY()-G27,0)))
A28: W-1050 | B28: Aiea Florist | C28: Coconut lime tin | D28: 18 | E28: 18 | F28: =IF(OR(D28="",E28=""),"",D28-E28) -> 0 | G28: 46317 | I28: =IF(OR(F28="",F28=0,G28=""),"",IF(H28<>"",MAX(0,H28-G28),IF(TODAY()>G28,TODAY()-G28,0)))
A29: W-1051 | B29: Kāneʻohe Bay Gifts | C29: Ginger lei jar | D29: 12 | E29: 12 | F29: =IF(OR(D29="",E29=""),"",D29-E29) -> 0 | G29: 46322 | I29: =IF(OR(F29="",F29=0,G29=""),"",IF(H29<>"",MAX(0,H29-G29),IF(TODAY()>G29,TODAY()-G29,0)))
A30: W-1051 | B30: Kāneʻohe Bay Gifts | C30: Coconut lime jar | D30: 12 | E30: 12 | F30: =IF(OR(D30="",E30=""),"",D30-E30) -> 0 | G30: 46322 | I30: =IF(OR(F30="",F30=0,G30=""),"",IF(H30<>"",MAX(0,H30-G30),IF(TODAY()>G30,TODAY()-G30,0)))
A31: W-1051 | B31: Kāneʻohe Bay Gifts | C31: Pikake tin | D31: 12 | E31: 12 | F31: =IF(OR(D31="",E31=""),"",D31-E31) -> 0 | G31: 46322 | I31: =IF(OR(F31="",F31=0,G31=""),"",IF(H31<>"",MAX(0,H31-G31),IF(TODAY()>G31,TODAY()-G31,0)))
A32: W-1051 | B32: Kāneʻohe Bay Gifts | C32: Ginger lei tin | D32: 28 | E32: 28 | F32: =IF(OR(D32="",E32=""),"",D32-E32) -> 0 | G32: 46322 | I32: =IF(OR(F32="",F32=0,G32=""),"",IF(H32<>"",MAX(0,H32-G32),IF(TODAY()>G32,TODAY()-G32,0)))
F33: =IF(OR(D33="",E33=""),"",D33-E33) | I33: =IF(OR(F33="",F33=0,G33=""),"",IF(H33<>"",MAX(0,H33-G33),IF(TODAY()>G33,TODAY()-G33,0)))
F34: =IF(OR(D34="",E34=""),"",D34-E34) | I34: =IF(OR(F34="",F34=0,G34=""),"",IF(H34<>"",MAX(0,H34-G34),IF(TODAY()>G34,TODAY()-G34,0)))
F35: =IF(OR(D35="",E35=""),"",D35-E35) | I35: =IF(OR(F35="",F35=0,G35=""),"",IF(H35<>"",MAX(0,H35-G35),IF(TODAY()>G35,TODAY()-G35,0)))
F36: =IF(OR(D36="",E36=""),"",D36-E36) | I36: =IF(OR(F36="",F36=0,G36=""),"",IF(H36<>"",MAX(0,H36-G36),IF(TODAY()>G36,TODAY()-G36,0)))
F37: =IF(OR(D37="",E37=""),"",D37-E37) | I37: =IF(OR(F37="",F37=0,G37=""),"",IF(H37<>"",MAX(0,H37-G37),IF(TODAY()>G37,TODAY()-G37,0)))
F38: =IF(OR(D38="",E38=""),"",D38-E38) | I38: =IF(OR(F38="",F38=0,G38=""),"",IF(H38<>"",MAX(0,H38-G38),IF(TODAY()>G38,TODAY()-G38,0)))
F39: =IF(OR(D39="",E39=""),"",D39-E39) | I39: =IF(OR(F39="",F39=0,G39=""),"",IF(H39<>"",MAX(0,H39-G39),IF(TODAY()>G39,TODAY()-G39,0)))
F40: =IF(OR(D40="",E40=""),"",D40-E40) | I40: =IF(OR(F40="",F40=0,G40=""),"",IF(H40<>"",MAX(0,H40-G40),IF(TODAY()>G40,TODAY()-G40,0)))
...

Sheet Month
A1: Measure | B1: Value
A2: Lines | B2: =COUNTA('Order lines'!A2:A92) -> 31
A3: Lines with a backorder | B3: =COUNTIF('Order lines'!F2:F92,">0") -> 4
A4: Units ordered | B4: =SUM('Order lines'!D2:D92) -> 520
A5: Units on backorder | B5: =SUM('Order lines'!F2:F92) -> 38
A6: Orders (type the count) | B6: 12
A7: Orders with a backorder (type the count) | B7: 4
A8: Order backorder rate | B8: =IF(B6=0,"",B7/B6) -> 0.33333333
A9: Line backorder rate | B9: =IF(B2=0,"",B3/B2) -> 0.12903226
A10: Unit backorder rate | B10: =IF(B4=0,"",B5/B4) -> 0.073076923
A11: Average days late, lines with a backorder | B11: =IFERROR(AVERAGEIF('Order lines'!F2:F92,">0",'Order lines'!I2:I92),"") -> 2.75
A13: Count only what you still owe and will ship; a line the customer cancelled is a lost sale, not a backorder.

Sheet Read me
A1: Backorder rate calculator
A2: From the article: https://www.tarostack.com/articles/backorder-rate-formula
A4: Order lines: each line's order, customer, item, quantity ordered, quantity shipped at first, the promised date and the date the rest shipped; owed and days late work themselves out, and lines with a backorder are shaded.
A5: Month: lines, units and the backorder counts come from the lines; type the number of orders and orders with a backorder; the order, line and unit backorder rates and average days late fill in.
A6: The example is the article's made-up Oʻahu candle maker's October wholesale orders.
A8: Works in Excel (2010 and later), Google Sheets, LibreOffice and Numbers. No macros.
A9: Free to use and change. Made by TaroStack, inventory and production software for small producers: https://www.tarostack.com
